{"text_format":"1","workbook":"xlsx","n_sheets":6,"sheets":["System Requirements","RMS","Mobile","CAD","Vendor Response Lookup","Glossary - MoSCoW Values"],"not_rendered":{"charts":0,"images":0,"macros":1,"external_links":0,"defined_names":4,"comments":0,"pivot_tables":0},"unopened":[],"bounds":{"document_bytes":16777216,"sheet_cells":100000,"rows_first":2000,"rows_last":500,"rows_between":2000,"halvings":0,"cell_chars":16384,"cell_head_chars":4096},"cells_cut":0,"cells_raw":0,"read":"whole","date_system":"1900"}

{"sheet":"System Requirements","index":0,"n_rows":241,"n_cols":10,"rows_kept":241,"cut":false,"hidden":false,"merged":[[26,3,27,3],[26,2,27,2],[26,1,27,1],[26,0,27,0],[26,9,27,9],[26,8,27,8],[26,7,27,7],[26,6,27,6],[26,5,27,5],[26,4,27,4],[8,0,8,9],[4,0,4,3],[6,0,6,3],[0,0,0,9],[1,0,1,9],[2,0,2,9],[4,4,4,9],[6,4,6,9]]}
[{"$f":"RMS!A1","v":"RFP # 101-26"}]
[{"$f":"RMS!A2","v":"RMS AND CAD SOFTWARE REPLACEMENT WITH PROFESSIONAL SERVICES FOR IMPLEMENTATION"}]
[{"$f":"RMS!A3","v":"Appendix No. 1 - Requirements Traceability Matrix (RTM)"}]
[]
["Proposing Vendor Name:",null,null,null,{"$f":"RMS!E5","v":"VENDOR NAME"}]
[]
["Proposing Vendor Contact Name:",null,null,null,{"$f":"RMS!E7","v":"VENDOR CONTACT NAME"}]
[]
["Notes to Proposing Vendors:\n1) Column G is an open text field for you to list what product/module of your solution is providing the service to cover the listed requirement.  \n2) Column H is a set of drop down fields for you to select from a set of pre-defined abilities.  Please select your response and do NOT change the formatting.  Column I will change automatically based upon your selection from column H.\n3) Column J is an open text field for your firm to provide a BRIEF explanation to how the proposed product matches your Requirement Compliance response."]
["Req. ID","Requirement Category","Requirement Type","Requirement Description","MoSCoW Value","Request for Information","Vendor Proposed Product/Module","Requirement Compliance","Requirement Definition","Vendor Explanation"]
["1.A","Multiple Environments"]
["1.A.00",{"$f":"B11","v":"Multiple Environments"}]
["1.A.01",{"$f":"B12","v":"Multiple Environments"},"Functional","Multi-Environment","Must Have","Please list your solution's ability to support multiple environments, including:\n\na) Production\nb) Test/Staging\nc) Training\nd) Reporting",null,"Cannot Meet",{"$f":"IFERROR(VLOOKUP(H13,VendorResponseLookupTbl[], 2,0), \"\")","v":" The product cannot meet the requirement “Out-of-the-Box”, “With Configuration”, “With Custom Programming” or with a “Future Release”."}]
["1.A.02",{"$f":"B13","v":"Multiple Environments"},{"$f":"C13","v":"Functional"},"Testing to Production","Must Have","Please list your solution's ability to provide a configuration tool to enable migrating specific individual configurations from the test environment to the production environment.",null,"Cannot Meet",{"$f":"IFERROR(VLOOKUP(H14,VendorResponseLookupTbl[], 2,0), \"\")","v":" The product cannot meet the requirement “Out-of-the-Box”, “With Configuration”, “With Custom Programming” or with a “Future Release”."}]
["1.A.03",{"$f":"B14","v":"Multiple Environments"},{"$f":"C14","v":"Functional"},"Migration of Configurations","Must Have","Please list your solution's ability to provide a configuration tool to enable migrating specific groups of configurations:\n\na) From the test environment to the production environment\nb) From the production environment to the test, backup and training environments",null,"Cannot Meet",{"$f":"IFERROR(VLOOKUP(H15,VendorResponseLookupTbl[], 2,0), \"\")","v":" The product cannot meet the requirement “Out-of-the-Box”, “With Configuration”, “With Custom Programming” or with a “Future Release”."}]
["2.A","Application Administration"]
["2.A.00","Application Configuration"]
["2.A.01",{"$f":"B17","v":"Application Configuration"},"Functional","Workflow Configuration","Must Have","Please list your solution's ability for agency can configure workflows without assistance from a vendor or programmer.",null,"Cannot Meet",{"$f":"IFERROR(VLOOKUP(H18,VendorResponseLookupTbl[], 2,0), \"\")","v":" The product cannot meet the requirement “Out-of-the-Box”, “With Configuration”, “With Custom Programming” or with a “Future Release”."}]
["2.A.02",{"$f":"B18","v":"Application Configuration"},"Functional","Data Collection","Must Have","Please list your solution's ability for agency to collect data unique to the agency (e.g., user-defined fields).",null,"Cannot Meet",{"$f":"IFERROR(VLOOKUP(H19,VendorResponseLookupTbl[], 2,0), \"\")","v":" The product cannot meet the requirement “Out-of-the-Box”, “With Configuration”, “With Custom Programming” or with a “Future Release”."}]
["2.A.03",{"$f":"B19","v":"Application Configuration"},"Functional","Data Storage","Must Have","Please list your solution's ability for unique data to be stored in the database.",null,"Cannot Meet",{"$f":"IFERROR(VLOOKUP(H20,VendorResponseLookupTbl[], 2,0), \"\")","v":" The product cannot meet the requirement “Out-of-the-Box”, “With Configuration”, “With Custom Programming” or with a “Future Release”."}]
["2.A.04",{"$f":"B20","v":"Application Configuration"},"Functional","Data Fields","Must Have","Please list your solution's ability to include unique data fields in searches.",null,"Cannot Meet",{"$f":"IFERROR(VLOOKUP(H21,VendorResponseLookupTbl[], 2,0), \"\")","v":" The product cannot meet the requirement “Out-of-the-Box”, “With Configuration”, “With Custom Programming” or with a “Future Release”."}]
["2.B.00","Geofile Administration"]
["2.B.01",{"$f":"B22","v":"Geofile Administration"},"Functional","Creation of Geofile","Must Have","Please list your solution's ability to create and maintain a GIS-based geofile that meets i3 standards and functions to comply with NG911 requirements.",null,"Cannot Meet",{"$f":"IFERROR(VLOOKUP(H23,VendorResponseLookupTbl[], 2,0), \"\")","v":" The product cannot meet the requirement “Out-of-the-Box”, “With Configuration”, “With Custom Programming” or with a “Future Release”."}]
["2.B.02",{"$f":"B23","v":"Geofile Administration"},{"$f":"C18","v":"Functional"},"Supporting Geospatial Data","Must Have","Please list your solution's ability or the system to support geospatial data, including:\n\na) Point addresses\nb) Line and polygons",null,"Cannot Meet",{"$f":"IFERROR(VLOOKUP(H24,VendorResponseLookupTbl[], 2,0), \"\")","v":" The product cannot meet the requirement “Out-of-the-Box”, “With Configuration”, “With Custom Programming” or with a “Future Release”."}]
["2.B.03",{"$f":"B24","v":"Geofile Administration"},{"$f":"C24","v":"Functional"},"Boundaries\nCreation","Must Have","Please list your solution's ability to  create geographic boundary information in the geofile.",null,"Cannot Meet",{"$f":"IFERROR(VLOOKUP(H25,VendorResponseLookupTbl[], 2,0), \"\")","v":" The product cannot meet the requirement “Out-of-the-Box”, “With Configuration”, “With Custom Programming” or with a “Future Release”."}]
["2.B.04","Geofile Administration","Functional","Boundaries\nImporting","Must Have","Please list your solution's ability to  import geographic boundary information from another source file.",null,"Cannot Meet",{"$f":"IFERROR(VLOOKUP(H26,VendorResponseLookupTbl[], 2,0), \"\")","v":" The product cannot meet the requirement “Out-of-the-Box”, “With Configuration”, “With Custom Programming” or with a “Future Release”."}]
["2.B.05","Geofile Administration","Functional","Location Fields and Map Layers","Must Have","Please list your solution's ability to  support the following location fields and map layers:\n\na) Apartment building name\nb) Apartment numbers (e.g., 1/2, #5, 2D, D2)\nc) Block range\nd) Business name\ne) City\nf) Civic associations (e.g., areas, neighborhoods, community)\ng) Common place name (e.g., University building number)\nh) County\ni) District\nj) Address\nk) Intersections\nl) Law enforcement district\nm) Mile markers\nn) On ramps, off ramps, exit numbers (including direction)\no) Overpass height limitations\np) Prefix\nq) Railroad tracks and crossings\nr) Reporting area\ns) Street abbreviation\nt) Street alias\nu) Street name\nv) Street type\nw) Suffix\nx) Trails (hiking, biking, snowmobile)\ny) Water access points\nz) X/Y coordinates\naa) Z coordinates\nab) Council Wards",null,"Cannot Meet",{"$f":"IFERROR(VLOOKUP(H27,VendorResponseLookupTbl[], 2,0), \"\")","v":" The product cannot meet the requirement “Out-of-the-Box”, “With Configuration”, “With Custom Programming” or with a “Future Release”."}]
[]
["2.B.06",{"$f":"B27","v":"Geofile Administration"},{"$f":"C27","v":"Functional"},"Data Association","Must Have","Please list your solution's ability to associate geofile data with the following:\n\na) Address\nb) Public safety geographical boundaries (e.g., sectors, districts, battalions)\nc) Cross street\nd) Entire common place or business name and aliases\ne) Jurisdiction\nf) Neighborhood\ng) Reporting district\nh) Response area\ni) X/Y coordinates\nj) Agency-defined polygon",null,"Cannot Meet",{"$f":"IFERROR(VLOOKUP(H29,VendorResponseLookupTbl[], 2,0), \"\")","v":" The product cannot meet the requirement “Out-of-the-Box”, “With Configuration”, “With Custom Programming” or with a “Future Release”."}]
["2.B.07","Geofile Administration","Functional","Updating Geofile","Must Have","Please list your solution's ability for updates to the GIS source data to update the  geofile:\n\na) Automatically\nb) Manually",null,"Cannot Meet",{"$f":"IFERROR(VLOOKUP(H30,VendorResponseLookupTbl[], 2,0), \"\")","v":" The product cannot meet the requirement “Out-of-the-Box”, “With Configuration”, “With Custom Programming” or with a “Future Release”."}]
["2.B.08",{"$f":"B30","v":"Geofile Administration"},{"$f":"C30","v":"Functional"},"Maintaining Geofile","Must Have","Please list your solution's ability to  maintain the geofile by:\n\na) Using tools within the application\nb) Uploading and/or converting a GIS-maintained set of geospatial datasets into the systems' internal geofile\nc) Uploading and/or converting an i3-compatible geospatial dataset from the appropriate Spatial Information Function (SIF)",null,"Cannot Meet",{"$f":"IFERROR(VLOOKUP(H31,VendorResponseLookupTbl[], 2,0), \"\")","v":" The product cannot meet the requirement “Out-of-the-Box”, “With Configuration”, “With Custom Programming” or with a “Future Release”."}]
["2.B.09","Geofile Administration","Functional","Temporary Obstacles","Must Have","Please list your solution's ability to add a temporary obstacle (e.g., street closure).",null,"Cannot Meet",{"$f":"IFERROR(VLOOKUP(H32,VendorResponseLookupTbl[], 2,0), \"\")","v":" The product cannot meet the requirement “Out-of-the-Box”, “With Configuration”, “With Custom Programming” or with a “Future Release”."}]
["2.B.10","Geofile Administration","Functional","Reminder Notifications","Must Have","Please list your solution's ability to send a designated administrator reminder notification to remove a temporary obstacle after a user-determine period of time.",null,"Cannot Meet",{"$f":"IFERROR(VLOOKUP(H33,VendorResponseLookupTbl[], 2,0), \"\")","v":" The product cannot meet the requirement “Out-of-the-Box”, “With Configuration”, “With Custom Programming” or with a “Future Release”."}]
["2.B.11","Geofile Administration","Functional","Production Environment Updates","Must Have","Please list your solution's ability to update the geofile while the system is live and operational.",null,"Cannot Meet",{"$f":"IFERROR(VLOOKUP(H34,VendorResponseLookupTbl[], 2,0), \"\")","v":" The product cannot meet the requirement “Out-of-the-Box”, “With Configuration”, “With Custom Programming” or with a “Future Release”."}]
["2.B.12","Geofile Administration","Functional","Default Map Layers","Must Have","Please list your solution's ability to configure default map layer displays by class of user.",null,"Cannot Meet",{"$f":"IFERROR(VLOOKUP(H35,VendorResponseLookupTbl[], 2,0), \"\")","v":" The product cannot meet the requirement “Out-of-the-Box”, “With Configuration”, “With Custom Programming” or with a “Future Release”."}]
["2.B.13","Geofile Administration","Functional","Interactive Tools","Must Have","Please list your solution's ability to provide interactive tools for validating the accuracy and completeness of the geofile, as well as tools to allow updates to the geofile to reflect changing conditions in the field, including:\n\na) New street constructions\nb) Response agency boundary realignments\nc) New site/structure construction\nd) New and changing landmarks\ne) New street names, geographic boundaries and address ranges",null,"Cannot Meet",{"$f":"IFERROR(VLOOKUP(H36,VendorResponseLookupTbl[], 2,0), \"\")","v":" The product cannot meet the requirement “Out-of-the-Box”, “With Configuration”, “With Custom Programming” or with a “Future Release”."}]
["2.C.00","Security Administration"]
["2.C.01","Security Administration","Functional","CJIS Compliance","Must Have","Please list your solution's ability to comply with CJIS software application security requirements.",null,"Cannot Meet",{"$f":"IFERROR(VLOOKUP(H38,VendorResponseLookupTbl[], 2,0), \"\")","v":" The product cannot meet the requirement “Out-of-the-Box”, “With Configuration”, “With Custom Programming” or with a “Future Release”."}]
["2.C.02",{"$f":"B38","v":"Security Administration"},{"$f":"C38","v":"Functional"},"Active Directory","Must Have","Please list your solution's ability to  integrate with Microsoft Active Directory for user authentication.",null,"Cannot Meet",{"$f":"IFERROR(VLOOKUP(H39,VendorResponseLookupTbl[], 2,0), \"\")","v":" The product cannot meet the requirement “Out-of-the-Box”, “With Configuration”, “With Custom Programming” or with a “Future Release”."}]
["2.C.03",{"$f":"B39","v":"Security Administration"},{"$f":"C39","v":"Functional"},"MFA ","Must Have","Please list your solution's ability to support Multi-Factor Authentication.",null,"Cannot Meet",{"$f":"IFERROR(VLOOKUP(H40,VendorResponseLookupTbl[], 2,0), \"\")","v":" The product cannot meet the requirement “Out-of-the-Box”, “With Configuration”, “With Custom Programming” or with a “Future Release”."}]
["2.C.04","Security Administration","Functional","Alternative Authentications","Must Have","Please list your solution's ability to support alternate authentication technologies (i.e., ID card, security token, biometrics, etc.).",null,"Cannot Meet",{"$f":"IFERROR(VLOOKUP(H41,VendorResponseLookupTbl[], 2,0), \"\")","v":" The product cannot meet the requirement “Out-of-the-Box”, “With Configuration”, “With Custom Programming” or with a “Future Release”."}]
["2.C.05","Security Administration","Functional","Password Enforcements","Must Have","Please list your solution's ability to enforce passwords per CJIS requirements.",null,"Cannot Meet",{"$f":"IFERROR(VLOOKUP(H42,VendorResponseLookupTbl[], 2,0), \"\")","v":" The product cannot meet the requirement “Out-of-the-Box”, “With Configuration”, “With Custom Programming” or with a “Future Release”."}]
["2.C.06","Security Administration","Functional","Changing Passwords","Must Have","Please list your solution's ability for individual system users to change their own passwords.",null,"Cannot Meet",{"$f":"IFERROR(VLOOKUP(H43,VendorResponseLookupTbl[], 2,0), \"\")","v":" The product cannot meet the requirement “Out-of-the-Box”, “With Configuration”, “With Custom Programming” or with a “Future Release”."}]
["2.C.07","Security Administration","Functional","Disabling Accounts","Must Have","Please list your solution's ability for system administrator to disable an account:\n\na) Temporarily\nb) Permanently",null,"Cannot Meet",{"$f":"IFERROR(VLOOKUP(H44,VendorResponseLookupTbl[], 2,0), \"\")","v":" The product cannot meet the requirement “Out-of-the-Box”, “With Configuration”, “With Custom Programming” or with a “Future Release”."}]
["2.C.08","Security Administration","Functional","Unsuccessful Log-ons","Must Have","Please list your solution's ability to set a threshold for unsuccessful log-on attempts that will lock-out a user account.",null,"Cannot Meet",{"$f":"IFERROR(VLOOKUP(H45,VendorResponseLookupTbl[], 2,0), \"\")","v":" The product cannot meet the requirement “Out-of-the-Box”, “With Configuration”, “With Custom Programming” or with a “Future Release”."}]
["2.C.09","Security Administration","Functional","Lock-outs","Must Have","Please list your solution's ability to  lock-out a dispatch or mobile data terminal after a customer-defined number of failed log-on attempts without regard to user ID.",null,"Cannot Meet",{"$f":"IFERROR(VLOOKUP(H46,VendorResponseLookupTbl[], 2,0), \"\")","v":" The product cannot meet the requirement “Out-of-the-Box”, “With Configuration”, “With Custom Programming” or with a “Future Release”."}]
["2.C.10","Security Administration","Functional","Single User Log-on","Must Have","Please list your solution's ability to support a single user logon ID and password across all proposed applications.",null,"Cannot Meet",{"$f":"IFERROR(VLOOKUP(H47,VendorResponseLookupTbl[], 2,0), \"\")","v":" The product cannot meet the requirement “Out-of-the-Box”, “With Configuration”, “With Custom Programming” or with a “Future Release”."}]
["2.C.11","Security Administration","Functional","Multiple Workstations","Must Have","Please list your solution's ability to be logged onto multiple workstations at the same time (e.g., logged onto a mobile computer in a vehicle and a station computer simultaneously).",null,"Cannot Meet",{"$f":"IFERROR(VLOOKUP(H48,VendorResponseLookupTbl[], 2,0), \"\")","v":" The product cannot meet the requirement “Out-of-the-Box”, “With Configuration”, “With Custom Programming” or with a “Future Release”."}]
["2.C.12","Security Administration","Functional","Tracking Users","Must Have","Please list your solution's ability to  track user logon/logoff times and locations for time reporting purposes.",null,"Cannot Meet",{"$f":"IFERROR(VLOOKUP(H49,VendorResponseLookupTbl[], 2,0), \"\")","v":" The product cannot meet the requirement “Out-of-the-Box”, “With Configuration”, “With Custom Programming” or with a “Future Release”."}]
["2.C.13","Security Administration","Functional","Auto Log-off","Must Have","Please list your solution's ability to automatically logoff a user after a customer-defined period of inactivity.",null,"Cannot Meet",{"$f":"IFERROR(VLOOKUP(H50,VendorResponseLookupTbl[], 2,0), \"\")","v":" The product cannot meet the requirement “Out-of-the-Box”, “With Configuration”, “With Custom Programming” or with a “Future Release”."}]
["2.C.14","Security Administration","Functional","Disable Auto Log-off","Must Have","Please list your solution's ability to disable automatic logoff for secured workstations.",null,"Cannot Meet",{"$f":"IFERROR(VLOOKUP(H51,VendorResponseLookupTbl[], 2,0), \"\")","v":" The product cannot meet the requirement “Out-of-the-Box”, “With Configuration”, “With Custom Programming” or with a “Future Release”."}]
["2.C.15","Security Administration","Functional","Remote Log Out","Must Have","Please list your solution's ability to remotely log out a workstation (mobile or desktop).",null,"Cannot Meet",{"$f":"IFERROR(VLOOKUP(H52,VendorResponseLookupTbl[], 2,0), \"\")","v":" The product cannot meet the requirement “Out-of-the-Box”, “With Configuration”, “With Custom Programming” or with a “Future Release”."}]
["2.C.16","Security Administration","Functional","Push Notifications","Must Have","Please list your solution's ability to provide system generated message via email to system administrator or supervisor when a customer-defined number of unsuccessful sign-on attempts have occurred.",null,"Cannot Meet",{"$f":"IFERROR(VLOOKUP(H53,VendorResponseLookupTbl[], 2,0), \"\")","v":" The product cannot meet the requirement “Out-of-the-Box”, “With Configuration”, “With Custom Programming” or with a “Future Release”."}]
["2.C.17","Security Administration","Functional","Auto Lock-out","Must Have","Please list your solution's ability to automatically “lock out” a user after a specified number of attempted logons.",null,"Cannot Meet",{"$f":"IFERROR(VLOOKUP(H54,VendorResponseLookupTbl[], 2,0), \"\")","v":" The product cannot meet the requirement “Out-of-the-Box”, “With Configuration”, “With Custom Programming” or with a “Future Release”."}]
["2.C.18","Security Administration","Functional","Auto Reset Lock-outs","Must Have","Please list your solution's ability to automatically reset a \"locked-out\" user after an customer-specified period of time.",null,"Cannot Meet",{"$f":"IFERROR(VLOOKUP(H55,VendorResponseLookupTbl[], 2,0), \"\")","v":" The product cannot meet the requirement “Out-of-the-Box”, “With Configuration”, “With Custom Programming” or with a “Future Release”."}]
["2.C.19","Security Administration","Functional","Comment Boxes","Must Have","Please list your solution's ability to  include a comment/reason when making changes to a user account.",null,"Cannot Meet",{"$f":"IFERROR(VLOOKUP(H56,VendorResponseLookupTbl[], 2,0), \"\")","v":" The product cannot meet the requirement “Out-of-the-Box”, “With Configuration”, “With Custom Programming” or with a “Future Release”."}]
["2.C.20","Security Administration","Functional","Data Encryption","Must Have","Please list your solution's ability to encrypt data transmissions.",null,"Cannot Meet",{"$f":"IFERROR(VLOOKUP(H57,VendorResponseLookupTbl[], 2,0), \"\")","v":" The product cannot meet the requirement “Out-of-the-Box”, “With Configuration”, “With Custom Programming” or with a “Future Release”."}]
["2.C.21","Security Administration","Functional","Unique IDs","Must Have","Please list your solution's ability to assign a unique ID to each user.",null,"Cannot Meet",{"$f":"IFERROR(VLOOKUP(H58,VendorResponseLookupTbl[], 2,0), \"\")","v":" The product cannot meet the requirement “Out-of-the-Box”, “With Configuration”, “With Custom Programming” or with a “Future Release”."}]
["2.C.22","Security Administration","Functional","User Information","Must Have","Please list your solution's ability to include information for each user to include:\n\na) Name\nb) Title\nc) Agency\nd) Email address\ne) Security Rights/Role\nf) Customer-defined criteria",null,"Cannot Meet",{"$f":"IFERROR(VLOOKUP(H59,VendorResponseLookupTbl[], 2,0), \"\")","v":" The product cannot meet the requirement “Out-of-the-Box”, “With Configuration”, “With Custom Programming” or with a “Future Release”."}]
["2.C.23","Security Administration","Functional","Historical User IDs","Must Have","Please list your solution's ability to maintain a history of de-activated user IDs.",null,"Cannot Meet",{"$f":"IFERROR(VLOOKUP(H60,VendorResponseLookupTbl[], 2,0), \"\")","v":" The product cannot meet the requirement “Out-of-the-Box”, “With Configuration”, “With Custom Programming” or with a “Future Release”."}]
["2.C.24","Security Administration","Functional","RBAC Permissions","Must Have","Please list your solution's ability to support role-based security permissions.",null,"Cannot Meet",{"$f":"IFERROR(VLOOKUP(H61,VendorResponseLookupTbl[], 2,0), \"\")","v":" The product cannot meet the requirement “Out-of-the-Box”, “With Configuration”, “With Custom Programming” or with a “Future Release”."}]
["2.C.25","Security Administration","Functional","Assigning Roles","Must Have","Please list your solution's ability to assign personnel to roles.",null,"Cannot Meet",{"$f":"IFERROR(VLOOKUP(H62,VendorResponseLookupTbl[], 2,0), \"\")","v":" The product cannot meet the requirement “Out-of-the-Box”, “With Configuration”, “With Custom Programming” or with a “Future Release”."}]
["2.C.26","Security Administration","Functional","Multiple Roles","Must Have","Please list your solution's ability to assign personnel to multiple roles.",null,"Cannot Meet",{"$f":"IFERROR(VLOOKUP(H63,VendorResponseLookupTbl[], 2,0), \"\")","v":" The product cannot meet the requirement “Out-of-the-Box”, “With Configuration”, “With Custom Programming” or with a “Future Release”."}]
["2.C.27","Security Administration","Functional","Defining Roles","Must Have","Please list your solution's ability for Agencies to define permissions for each role, including but not limited to:\n\na) Application Access\nb) Module Access\nc) Modification Rights (e.g., Read-only, Read and Write)",null,"Cannot Meet",{"$f":"IFERROR(VLOOKUP(H64,VendorResponseLookupTbl[], 2,0), \"\")","v":" The product cannot meet the requirement “Out-of-the-Box”, “With Configuration”, “With Custom Programming” or with a “Future Release”."}]
["2.C.28","Security Administration","Functional","Various Functions","Must Have","Please list your solution's ability to separately secure add, inquiry, modify, print and delete functions.",null,"Cannot Meet",{"$f":"IFERROR(VLOOKUP(H65,VendorResponseLookupTbl[], 2,0), \"\")","v":" The product cannot meet the requirement “Out-of-the-Box”, “With Configuration”, “With Custom Programming” or with a “Future Release”."}]
["2.C.29","Security Administration","Functional","Role Modifications","Must Have","Please list your solution's ability to view, add, modify and make inactive user profiles based on:\n\na) Role\nb) User ID\nc) User name\nd) Any combination of the above",null,"Cannot Meet",{"$f":"IFERROR(VLOOKUP(H66,VendorResponseLookupTbl[], 2,0), \"\")","v":" The product cannot meet the requirement “Out-of-the-Box”, “With Configuration”, “With Custom Programming” or with a “Future Release”."}]
["2.C.30","Security Administration","Functional","Admin Designation","Must Have","Please list your solution's ability to designate a user(s) as a System Administrator.",null,"Cannot Meet",{"$f":"IFERROR(VLOOKUP(H67,VendorResponseLookupTbl[], 2,0), \"\")","v":" The product cannot meet the requirement “Out-of-the-Box”, “With Configuration”, “With Custom Programming” or with a “Future Release”."}]
["2.C.31","Security Administration","Functional","Access Restriction","Must Have","Please list your solution's ability to  restrict access based on both user and workstation (desktop or mobile).",null,"Cannot Meet",{"$f":"IFERROR(VLOOKUP(H68,VendorResponseLookupTbl[], 2,0), \"\")","v":" The product cannot meet the requirement “Out-of-the-Box”, “With Configuration”, “With Custom Programming” or with a “Future Release”."}]
["2.C.32","Security Administration","Functional","Levels of Security","Must Have","Please list your solution's ability to provide security at the following levels:\n\na) Application\nb) Database\nc) Screen\nd) Transaction",null,"Cannot Meet",{"$f":"IFERROR(VLOOKUP(H69,VendorResponseLookupTbl[], 2,0), \"\")","v":" The product cannot meet the requirement “Out-of-the-Box”, “With Configuration”, “With Custom Programming” or with a “Future Release”."}]
["2.C.33","Security Administration","Functional","Temporary Profiles","Must Have","Please list your solution's ability to create temporary security profiles.",null,"Cannot Meet",{"$f":"IFERROR(VLOOKUP(H70,VendorResponseLookupTbl[], 2,0), \"\")","v":" The product cannot meet the requirement “Out-of-the-Box”, “With Configuration”, “With Custom Programming” or with a “Future Release”."}]
["2.C.34","Security Administration","Functional","Logon Restriction","Must Have","Please list your solution's ability to restrict logon by workstation or MDT ID.",null,"Cannot Meet",{"$f":"IFERROR(VLOOKUP(H71,VendorResponseLookupTbl[], 2,0), \"\")","v":" The product cannot meet the requirement “Out-of-the-Box”, “With Configuration”, “With Custom Programming” or with a “Future Release”."}]
["2.D.00","Code Table Administration"]
["2.D.01",{"$f":"B72","v":"Code Table Administration"},"Functional","Coding Tables\nProduction Environment","Must Have","Please list your solution's ability to  update code tables without taking the system offline.",null,"Cannot Meet",{"$f":"IFERROR(VLOOKUP(H73,VendorResponseLookupTbl[], 2,0), \"\")","v":" The product cannot meet the requirement “Out-of-the-Box”, “With Configuration”, “With Custom Programming” or with a “Future Release”."}]
["2.D.02","Code Table Administration",{"$f":"C73","v":"Functional"},"Defining Codes","Must Have","Please list your solution's ability for customer to define codes for drop down menus (e.g., BN for brown, BL for blue) without vendor intervention.",null,"Cannot Meet",{"$f":"IFERROR(VLOOKUP(H74,VendorResponseLookupTbl[], 2,0), \"\")","v":" The product cannot meet the requirement “Out-of-the-Box”, “With Configuration”, “With Custom Programming” or with a “Future Release”."}]
["2.D.03","Code Table Administration",{"$f":"C74","v":"Functional"},"Incorporating\nNIBRS Codes","Must Have","Please list your solution's ability to incorporate NIBRS codes and standards into standard code tables.",null,"Cannot Meet",{"$f":"IFERROR(VLOOKUP(H75,VendorResponseLookupTbl[], 2,0), \"\")","v":" The product cannot meet the requirement “Out-of-the-Box”, “With Configuration”, “With Custom Programming” or with a “Future Release”."}]
["2.D.04","Code Table Administration",{"$f":"C75","v":"Functional"},"Incorporating\nNCIC Codes","Must Have","Please list your solution's ability to incorporate NCIC codes into standard code tables.",null,"Cannot Meet",{"$f":"IFERROR(VLOOKUP(H76,VendorResponseLookupTbl[], 2,0), \"\")","v":" The product cannot meet the requirement “Out-of-the-Box”, “With Configuration”, “With Custom Programming” or with a “Future Release”."}]
["2.D.05","Code Table Administration",{"$f":"C76","v":"Functional"},"Mapping Offenses","Must Have","Please list your solution's ability to map state and local offenses to equivalent NIBRS and NCIC offense codes",null,"Cannot Meet",{"$f":"IFERROR(VLOOKUP(H77,VendorResponseLookupTbl[], 2,0), \"\")","v":" The product cannot meet the requirement “Out-of-the-Box”, “With Configuration”, “With Custom Programming” or with a “Future Release”."}]
["2.D.06","Code Table Administration",{"$f":"C77","v":"Functional"},"Maintaining Code Tables","Must Have","Please list your solution's ability for customer to maintain code tables (add/change/delete) without vendor intervention.",null,"Cannot Meet",{"$f":"IFERROR(VLOOKUP(H78,VendorResponseLookupTbl[], 2,0), \"\")","v":" The product cannot meet the requirement “Out-of-the-Box”, “With Configuration”, “With Custom Programming” or with a “Future Release”."}]
["2.D.07",{"$f":"B78","v":"Code Table Administration"},{"$f":"C78","v":"Functional"},"Modifying Code Tables","Must Have","Please list your solution's ability to modify code tables to the code tables without modification to software (i.e., modifying code tables does not require a custom system).",null,"Cannot Meet",{"$f":"IFERROR(VLOOKUP(H79,VendorResponseLookupTbl[], 2,0), \"\")","v":" The product cannot meet the requirement “Out-of-the-Box”, “With Configuration”, “With Custom Programming” or with a “Future Release”."}]
["2.D.08","Code Table Administration","Functional","Deleting Code Table Values","Must Have","Please list your solution's ability to delete a code table value.",null,"Cannot Meet",{"$f":"IFERROR(VLOOKUP(H80,VendorResponseLookupTbl[], 2,0), \"\")","v":" The product cannot meet the requirement “Out-of-the-Box”, “With Configuration”, “With Custom Programming” or with a “Future Release”."}]
["2.D.09","Code Table Administration","Functional","Creating and Linking Codes","Must Have","Please list your solution's ability to create a new code and merge/link historical records to a new code.",null,"Cannot Meet",{"$f":"IFERROR(VLOOKUP(H81,VendorResponseLookupTbl[], 2,0), \"\")","v":" The product cannot meet the requirement “Out-of-the-Box”, “With Configuration”, “With Custom Programming” or with a “Future Release”."}]
["2.D.10","Code Table Administration","Functional","Retiring Code Table Values","Must Have","Please list your solution's ability to retire a code table value.",null,"Cannot Meet",{"$f":"IFERROR(VLOOKUP(H82,VendorResponseLookupTbl[], 2,0), \"\")","v":" The product cannot meet the requirement “Out-of-the-Box”, “With Configuration”, “With Custom Programming” or with a “Future Release”."}]
["2.D.11","Code Table Administration","Functional","Obsolete Values","Must Have","Please list your solution's ability to store the date a code table value becomes obsolete.",null,"Cannot Meet",{"$f":"IFERROR(VLOOKUP(H83,VendorResponseLookupTbl[], 2,0), \"\")","v":" The product cannot meet the requirement “Out-of-the-Box”, “With Configuration”, “With Custom Programming” or with a “Future Release”."}]
["2.D.12","Code Table Administration","Functional","Effective  ","Must Have","Please list your solution's ability to store the date a code table value becomes effective.",null,"Cannot Meet",{"$f":"IFERROR(VLOOKUP(H84,VendorResponseLookupTbl[], 2,0), \"\")","v":" The product cannot meet the requirement “Out-of-the-Box”, “With Configuration”, “With Custom Programming” or with a “Future Release”."}]
["2.D.13","Code Table Administration","Functional","Prevent Obsolete Display","Must Have","Please list your solution's ability to prevent display of obsolete code table values on drop down lists.",null,"Cannot Meet",{"$f":"IFERROR(VLOOKUP(H85,VendorResponseLookupTbl[], 2,0), \"\")","v":" The product cannot meet the requirement “Out-of-the-Box”, “With Configuration”, “With Custom Programming” or with a “Future Release”."}]
["2.D.14","Code Table Administration","Functional","Importing Tables","Must Have","Please list your solution's ability to import tables created in other applications (e.g., Excel, Access).",null,"Cannot Meet",{"$f":"IFERROR(VLOOKUP(H86,VendorResponseLookupTbl[], 2,0), \"\")","v":" The product cannot meet the requirement “Out-of-the-Box”, “With Configuration”, “With Custom Programming” or with a “Future Release”."}]
["2.D.15","Code Table Administration","Functional","Exporting Tables","Must Have","Please list your solution's ability to export code tables into other applications (e.g., Excel, Access) for the purpose of updating and editing the tables.",null,"Cannot Meet",{"$f":"IFERROR(VLOOKUP(H87,VendorResponseLookupTbl[], 2,0), \"\")","v":" The product cannot meet the requirement “Out-of-the-Box”, “With Configuration”, “With Custom Programming” or with a “Future Release”."}]
["2.D.16","Code Table Administration","Functional","Propagating Information","Must Have","Please list your solution's ability for code table updates to propagate throughout the system (e.g., an update in a code table for one application component updates the same code table in other application components) where applicable.",null,"Cannot Meet",{"$f":"IFERROR(VLOOKUP(H88,VendorResponseLookupTbl[], 2,0), \"\")","v":" The product cannot meet the requirement “Out-of-the-Box”, “With Configuration”, “With Custom Programming” or with a “Future Release”."}]
["2.D.17","Code Table Administration","Functional","Code Designation\nObsolete and Unavailable","Must Have","Please list your solution's ability to designate code table values as obsolete and unavailable for current use, preventing further entry of that value, yet retain the value in the table for inquiries on historical data.",null,"Cannot Meet",{"$f":"IFERROR(VLOOKUP(H89,VendorResponseLookupTbl[], 2,0), \"\")","v":" The product cannot meet the requirement “Out-of-the-Box”, “With Configuration”, “With Custom Programming” or with a “Future Release”."}]
["2.D.18","Code Table Administration","Functional","Auditing Code Tables","Must Have","Please list your solution's ability to run audit reports on additions and modifications to code tables.",null,"Cannot Meet",{"$f":"IFERROR(VLOOKUP(H90,VendorResponseLookupTbl[], 2,0), \"\")","v":" The product cannot meet the requirement “Out-of-the-Box”, “With Configuration”, “With Custom Programming” or with a “Future Release”."}]
["3.A","Audit Trails and Timestamps"]
["3.A.00",{"$f":"B91","v":"Audit Trails and Timestamps"}]
["3.A.01",{"$f":"B92","v":"Audit Trails and Timestamps"},"Functional","Date and Timestamps","Must Have","Please list your solution's ability to date and time stamp all:\n\na) System transactions\nb) User transaction",null,"Cannot Meet",{"$f":"IFERROR(VLOOKUP(H93,VendorResponseLookupTbl[], 2,0), \"\")","v":" The product cannot meet the requirement “Out-of-the-Box”, “With Configuration”, “With Custom Programming” or with a “Future Release”."}]
["3.A.02",{"$f":"B93","v":"Audit Trails and Timestamps"},{"$f":"C93","v":"Functional"},"System vs. User Transactions","Must Have","Please list your solution's ability to differentiate between a system transaction and a user transaction.",null,"Cannot Meet",{"$f":"IFERROR(VLOOKUP(H94,VendorResponseLookupTbl[], 2,0), \"\")","v":" The product cannot meet the requirement “Out-of-the-Box”, “With Configuration”, “With Custom Programming” or with a “Future Release”."}]
["3.A.03",{"$f":"B94","v":"Audit Trails and Timestamps"},{"$f":"C94","v":"Functional"},"Comment Boxes","Must Have","Please list your solution's ability to augment audit trail with comments.",null,"Cannot Meet",{"$f":"IFERROR(VLOOKUP(H95,VendorResponseLookupTbl[], 2,0), \"\")","v":" The product cannot meet the requirement “Out-of-the-Box”, “With Configuration”, “With Custom Programming” or with a “Future Release”."}]
["3.A.04","Audit Trails and Timestamps","Functional","System Admin Configurations","Must Have","Please list your solution's ability for the system administrator to configure the items that are included/excluded from the audit trail.",null,"Cannot Meet",{"$f":"IFERROR(VLOOKUP(H96,VendorResponseLookupTbl[], 2,0), \"\")","v":" The product cannot meet the requirement “Out-of-the-Box”, “With Configuration”, “With Custom Programming” or with a “Future Release”."}]
["3.A.05","Audit Trails and Timestamps","Functional","Forms","Must Have","Please list your solution's ability to provide an audit trail for customer- and agency-created forms.",null,"Cannot Meet",{"$f":"IFERROR(VLOOKUP(H97,VendorResponseLookupTbl[], 2,0), \"\")","v":" The product cannot meet the requirement “Out-of-the-Box”, “With Configuration”, “With Custom Programming” or with a “Future Release”."}]
["3.A.06","Audit Trails and Timestamps","Functional","Fields","Must Have","Please list your solution's ability to  provide an audit trail for customer- and agency-created fields.",null,"Cannot Meet",{"$f":"IFERROR(VLOOKUP(H98,VendorResponseLookupTbl[], 2,0), \"\")","v":" The product cannot meet the requirement “Out-of-the-Box”, “With Configuration”, “With Custom Programming” or with a “Future Release”."}]
["3.A.07","Audit Trails and Timestamps","Functional","Printed Reports","Must Have","Please list your solution's ability to provide an audit trail for printed reports.",null,"Cannot Meet",{"$f":"IFERROR(VLOOKUP(H99,VendorResponseLookupTbl[], 2,0), \"\")","v":" The product cannot meet the requirement “Out-of-the-Box”, “With Configuration”, “With Custom Programming” or with a “Future Release”."}]
["3.A.08","Audit Trails and Timestamps","Functional","Visibility ","Must Have","Please list your solution's ability for the system administrator to configure the visibility of audit trail based on security rights/roles/privileges.",null,"Cannot Meet",{"$f":"IFERROR(VLOOKUP(H100,VendorResponseLookupTbl[], 2,0), \"\")","v":" The product cannot meet the requirement “Out-of-the-Box”, “With Configuration”, “With Custom Programming” or with a “Future Release”."}]
["3.A.09","Audit Trails and Timestamps","Functional","Record Retention","Must Have","Please list your solution's ability to prevent the modification or deletion of audit trail records.",null,"Cannot Meet",{"$f":"IFERROR(VLOOKUP(H101,VendorResponseLookupTbl[], 2,0), \"\")","v":" The product cannot meet the requirement “Out-of-the-Box”, “With Configuration”, “With Custom Programming” or with a “Future Release”."}]
["3.A.10","Audit Trails and Timestamps","Functional","Maintaining Trails","Must Have","Please list your solution's ability to maintain an audit trail at the following levels:\n\na) User\nb) Field\nc) Record\nd) Module\ne) Application",null,"Cannot Meet",{"$f":"IFERROR(VLOOKUP(H102,VendorResponseLookupTbl[], 2,0), \"\")","v":" The product cannot meet the requirement “Out-of-the-Box”, “With Configuration”, “With Custom Programming” or with a “Future Release”."}]
["3.A.11","Audit Trails and Timestamps","Functional","Storing Trails","Must Have","Please list your solution's ability to  store audit trail data including, but not limited to:\n\na) User ID\nb) User name\nc) IP address\nd) Computer name (domain name of the workstation)\ne) Date and time stamp\nf) Action taken (e.g., print, edit, deletion)",null,"Cannot Meet",{"$f":"IFERROR(VLOOKUP(H103,VendorResponseLookupTbl[], 2,0), \"\")","v":" The product cannot meet the requirement “Out-of-the-Box”, “With Configuration”, “With Custom Programming” or with a “Future Release”."}]
["3.A.12","Audit Trails and Timestamps","Functional","Logging Actions","Must Have","Please list your solution's ability to log all system actions including, but not limited to:\n\na) Security violations and attempted breeches\nb) Successful logons and logoffs\nc) Unsuccessful sign-on attempts\nd) System and sub-system shutdowns and starts",null,"Cannot Meet",{"$f":"IFERROR(VLOOKUP(H104,VendorResponseLookupTbl[], 2,0), \"\")","v":" The product cannot meet the requirement “Out-of-the-Box”, “With Configuration”, “With Custom Programming” or with a “Future Release”."}]
["3.A.13","Audit Trails and Timestamps","Functional","Logging User Actions","Must Have","Please list your solution's ability to log and timestamp the following user actions:\n\na) Printing\nb) Viewing\nc) Editing\nd) Deletions\ne) Adding new information\nf) Inquires to all internal and external systems\ng) Reports\nh) Taking or releasing control of a dispatch group",null,"Cannot Meet",{"$f":"IFERROR(VLOOKUP(H105,VendorResponseLookupTbl[], 2,0), \"\")","v":" The product cannot meet the requirement “Out-of-the-Box”, “With Configuration”, “With Custom Programming” or with a “Future Release”."}]
["3.A.14","Audit Trails and Timestamps","Functional","Setting Notifications\nSecurity Risk","Must Have","Please list your solution's ability for a system administrator to set notifications to help identify individuals engaged in activity deemed a security risk.",null,"Cannot Meet",{"$f":"IFERROR(VLOOKUP(H106,VendorResponseLookupTbl[], 2,0), \"\")","v":" The product cannot meet the requirement “Out-of-the-Box”, “With Configuration”, “With Custom Programming” or with a “Future Release”."}]
["3.A.15","Audit Trails and Timestamps","Functional","Setting Notifications\nConfidential Records","Must Have","Please list your solution's ability for a system administrator to set notifications to help identify when someone is reviewing or attempting to review records marked as sensitive or confidential.",null,"Cannot Meet",{"$f":"IFERROR(VLOOKUP(H107,VendorResponseLookupTbl[], 2,0), \"\")","v":" The product cannot meet the requirement “Out-of-the-Box”, “With Configuration”, “With Custom Programming” or with a “Future Release”."}]
["3.A.16","Audit Trails and Timestamps","Functional","Logging Alerts","Must Have","Please list your solution's ability to  log and timestamp system alerts and notices and user actions related to the alerts and notices.",null,"Cannot Meet",{"$f":"IFERROR(VLOOKUP(H108,VendorResponseLookupTbl[], 2,0), \"\")","v":" The product cannot meet the requirement “Out-of-the-Box”, “With Configuration”, “With Custom Programming” or with a “Future Release”."}]
["3.A.17","Audit Trails and Timestamps","Functional","Before/After Values","Must Have","Please list your solution's ability to log before and after values when users modify information.",null,"Cannot Meet",{"$f":"IFERROR(VLOOKUP(H109,VendorResponseLookupTbl[], 2,0), \"\")","v":" The product cannot meet the requirement “Out-of-the-Box”, “With Configuration”, “With Custom Programming” or with a “Future Release”."}]
["3.A.18","Audit Trails and Timestamps","Functional","Logging Error Messages","Must Have","Please list your solution's ability to log and timestamp system error messages and user actions related to the error messages.",null,"Cannot Meet",{"$f":"IFERROR(VLOOKUP(H110,VendorResponseLookupTbl[], 2,0), \"\")","v":" The product cannot meet the requirement “Out-of-the-Box”, “With Configuration”, “With Custom Programming” or with a “Future Release”."}]
["3.A.19","Audit Trails and Timestamps","Functional","Reviewing User Activity","Must Have","Please list your solution's ability to review all system activity performed by a specified user during a period of time.",null,"Cannot Meet",{"$f":"IFERROR(VLOOKUP(H111,VendorResponseLookupTbl[], 2,0), \"\")","v":" The product cannot meet the requirement “Out-of-the-Box”, “With Configuration”, “With Custom Programming” or with a “Future Release”."}]
["3.A.20","Audit Trails and Timestamps","Functional","Vendor Access","Must Have","Please list your solution's ability to log all vendor access to system.",null,"Cannot Meet",{"$f":"IFERROR(VLOOKUP(H112,VendorResponseLookupTbl[], 2,0), \"\")","v":" The product cannot meet the requirement “Out-of-the-Box”, “With Configuration”, “With Custom Programming” or with a “Future Release”."}]
["3.A.21","Audit Trails and Timestamps","Functional","Historical Data","Must Have","Please list your solution's ability to maintain historical audit trail data based on a customer-defined length of time.",null,"Cannot Meet",{"$f":"IFERROR(VLOOKUP(H113,VendorResponseLookupTbl[], 2,0), \"\")","v":" The product cannot meet the requirement “Out-of-the-Box”, “With Configuration”, “With Custom Programming” or with a “Future Release”."}]
["3.A.22","Audit Trails and Timestamps","Functional","Maintaining History","Must Have","Please list your solution's ability to maintain file history so that field value changes can be viewed both before and after change occurred.",null,"Cannot Meet",{"$f":"IFERROR(VLOOKUP(H114,VendorResponseLookupTbl[], 2,0), \"\")","v":" The product cannot meet the requirement “Out-of-the-Box”, “With Configuration”, “With Custom Programming” or with a “Future Release”."}]
["3.A.23","Audit Trails and Timestamps","Functional","Archiving Records","Must Have","Please list your solution's ability to archive deleted records.",null,"Cannot Meet",{"$f":"IFERROR(VLOOKUP(H115,VendorResponseLookupTbl[], 2,0), \"\")","v":" The product cannot meet the requirement “Out-of-the-Box”, “With Configuration”, “With Custom Programming” or with a “Future Release”."}]
["3.A.24","Audit Trails and Timestamps","Functional","Deleting Archived Records","Must Have","Please list your solution's ability to delete archived records in conjunction with customer-defined records retention schedule.",null,"Cannot Meet",{"$f":"IFERROR(VLOOKUP(H116,VendorResponseLookupTbl[], 2,0), \"\")","v":" The product cannot meet the requirement “Out-of-the-Box”, “With Configuration”, “With Custom Programming” or with a “Future Release”."}]
["3.A.25","Audit Trails and Timestamps","Functional","Auto-Archiving","Must Have","Please list your solution's ability to automatically archive information based upon customer-specified parameters  In \"Comments\" field, describe what criteria may be set (e.g., time, date, file size).",null,"Cannot Meet",{"$f":"IFERROR(VLOOKUP(H117,VendorResponseLookupTbl[], 2,0), \"\")","v":" The product cannot meet the requirement “Out-of-the-Box”, “With Configuration”, “With Custom Programming” or with a “Future Release”."}]
["3.A.26","Audit Trails and Timestamps","Functional","Retrieval From Archival","Must Have","Please list your solution's ability to retrieve deleted records from the archive (e.g., if accidentally delete a record).",null,"Cannot Meet",{"$f":"IFERROR(VLOOKUP(H118,VendorResponseLookupTbl[], 2,0), \"\")","v":" The product cannot meet the requirement “Out-of-the-Box”, “With Configuration”, “With Custom Programming” or with a “Future Release”."}]
["3.A.27","Audit Trails and Timestamps","Functional","NCIC Logging Requirements","Must Have","Please list your solution's ability to comply with National Crime Information Center (NCIC) Interstate Identification Index (III) logging requirements.",null,"Cannot Meet",{"$f":"IFERROR(VLOOKUP(H119,VendorResponseLookupTbl[], 2,0), \"\")","v":" The product cannot meet the requirement “Out-of-the-Box”, “With Configuration”, “With Custom Programming” or with a “Future Release”."}]
["3.A.28","Audit Trails and Timestamps","Functional","Printing Audit Logs","Must Have","Please list your solution's ability to print the audit log for a given time period.",null,"Cannot Meet",{"$f":"IFERROR(VLOOKUP(H120,VendorResponseLookupTbl[], 2,0), \"\")","v":" The product cannot meet the requirement “Out-of-the-Box”, “With Configuration”, “With Custom Programming” or with a “Future Release”."}]
["4.A","Online Documentation"]
["4.A.00",{"$f":"B121","v":"Online Documentation"}]
["4.A.01",{"$f":"B122","v":"Online Documentation"},"Functional","Online Help Menu","Must Have","Please list your solution's ability to access an online help menu.",null,"Cannot Meet",{"$f":"IFERROR(VLOOKUP(H123,VendorResponseLookupTbl[], 2,0), \"\")","v":" The product cannot meet the requirement “Out-of-the-Box”, “With Configuration”, “With Custom Programming” or with a “Future Release”."}]
["4.A.02",{"$f":"B123","v":"Online Documentation"},{"$f":"C123","v":"Functional"},"Context-Sensitive Help","Must Have","Please list your solution's ability to  provide context-sensitive help that may be accessed from anywhere within the application.",null,"Cannot Meet",{"$f":"IFERROR(VLOOKUP(H124,VendorResponseLookupTbl[], 2,0), \"\")","v":" The product cannot meet the requirement “Out-of-the-Box”, “With Configuration”, “With Custom Programming” or with a “Future Release”."}]
["4.A.03",{"$f":"B124","v":"Online Documentation"},{"$f":"C124","v":"Functional"},"Training Modules","Must Have","Please list your solution's ability to  provide training modules through the help menu.",null,"Cannot Meet",{"$f":"IFERROR(VLOOKUP(H125,VendorResponseLookupTbl[], 2,0), \"\")","v":" The product cannot meet the requirement “Out-of-the-Box”, “With Configuration”, “With Custom Programming” or with a “Future Release”."}]
["4.A.04","Online Documentation","Functional","Edit Help Text","Must Have","Please list your solution's ability for customer to edit text in help files.",null,"Cannot Meet",{"$f":"IFERROR(VLOOKUP(H126,VendorResponseLookupTbl[], 2,0), \"\")","v":" The product cannot meet the requirement “Out-of-the-Box”, “With Configuration”, “With Custom Programming” or with a “Future Release”."}]
["4.A.05","Online Documentation","Functional","Auto-Updates","Must Have","Please list your solution's ability for help file to automatically update at the time of all version/release updates.",null,"Cannot Meet",{"$f":"IFERROR(VLOOKUP(H127,VendorResponseLookupTbl[], 2,0), \"\")","v":" The product cannot meet the requirement “Out-of-the-Box”, “With Configuration”, “With Custom Programming” or with a “Future Release”."}]
["4.A.06","Online Documentation","Functional","Software Update Prevention","Must Have","Please list your solution's ability to prevent software updates from overriding customer-specific online documentation and help files.",null,"Cannot Meet",{"$f":"IFERROR(VLOOKUP(H128,VendorResponseLookupTbl[], 2,0), \"\")","v":" The product cannot meet the requirement “Out-of-the-Box”, “With Configuration”, “With Custom Programming” or with a “Future Release”."}]
["4.A.07","Online Documentation","Functional","Creating Error Messages","Must Have","Please list your solution's ability for system administrator to create error messages.",null,"Cannot Meet",{"$f":"IFERROR(VLOOKUP(H129,VendorResponseLookupTbl[], 2,0), \"\")","v":" The product cannot meet the requirement “Out-of-the-Box”, “With Configuration”, “With Custom Programming” or with a “Future Release”."}]
["4.A.08","Online Documentation","Functional","Editing Error Messages","Must Have","Please list your solution's ability for system administrator to edit error messages.",null,"Cannot Meet",{"$f":"IFERROR(VLOOKUP(H130,VendorResponseLookupTbl[], 2,0), \"\")","v":" The product cannot meet the requirement “Out-of-the-Box”, “With Configuration”, “With Custom Programming” or with a “Future Release”."}]
["4.A.09","Online Documentation","Functional","Tracking Revisions","Must Have","Please list your solution's ability to  track revisions to online documentation and help files by:\n\na) Operator ID\nb) Date and time",null,"Cannot Meet",{"$f":"IFERROR(VLOOKUP(H131,VendorResponseLookupTbl[], 2,0), \"\")","v":" The product cannot meet the requirement “Out-of-the-Box”, “With Configuration”, “With Custom Programming” or with a “Future Release”."}]
["4.A.10","Online Documentation","Functional","Bookmarking","Must Have","Please list your solution's ability to bookmark topics.",null,"Cannot Meet",{"$f":"IFERROR(VLOOKUP(H132,VendorResponseLookupTbl[], 2,0), \"\")","v":" The product cannot meet the requirement “Out-of-the-Box”, “With Configuration”, “With Custom Programming” or with a “Future Release”."}]
["4.A.11","Online Documentation","Functional","Searching ","Must Have","Please list your solution's ability to search help file by:\n\na) Keyboards\nb) Topics\nc) Field Name",null,"Cannot Meet",{"$f":"IFERROR(VLOOKUP(H133,VendorResponseLookupTbl[], 2,0), \"\")","v":" The product cannot meet the requirement “Out-of-the-Box”, “With Configuration”, “With Custom Programming” or with a “Future Release”."}]
["4.A.12","Online Documentation","Functional","Glossary","Must Have","Please list your solution's ability to include a built-in glossary.",null,"Cannot Meet",{"$f":"IFERROR(VLOOKUP(H134,VendorResponseLookupTbl[], 2,0), \"\")","v":" The product cannot meet the requirement “Out-of-the-Box”, “With Configuration”, “With Custom Programming” or with a “Future Release”."}]
["4.A.13","Online Documentation","Functional","Printing Help Topics","Must Have","Please list your solution's ability to print help topics.",null,"Cannot Meet",{"$f":"IFERROR(VLOOKUP(H135,VendorResponseLookupTbl[], 2,0), \"\")","v":" The product cannot meet the requirement “Out-of-the-Box”, “With Configuration”, “With Custom Programming” or with a “Future Release”."}]
["5.A ","Personnel Records"]
["5.A.00",{"$f":"B136","v":"Personnel Records"}]
["5.A.01",{"$f":"B137","v":"Personnel Records"},"Functional","Personnel Information","Must Have","Please list your solution's ability to  provide fields to capture personnel information including, but not limited to:\n\na) Name\nb) Agency\nc) Full-time or part-time\nd) Photo\ne) ID number (multiple)\nf) Address\ng) Employee Email\nh) Telephone numbers (multiple)\ni) Sex",null,"Cannot Meet",{"$f":"IFERROR(VLOOKUP(H138,VendorResponseLookupTbl[], 2,0), \"\")","v":" The product cannot meet the requirement “Out-of-the-Box”, “With Configuration”, “With Custom Programming” or with a “Future Release”."}]
["5.A.02",{"$f":"B138","v":"Personnel Records"},{"$f":"C138","v":"Functional"},"Emergency Contact Information","Must Have","Please list your solution's ability to  provide emergency contact information:\n\na) Name\nb) Address\nc) Email\nd) Phone number(s)\ne) Relationship\nf) Next of kin",null,"Cannot Meet",{"$f":"IFERROR(VLOOKUP(H139,VendorResponseLookupTbl[], 2,0), \"\")","v":" The product cannot meet the requirement “Out-of-the-Box”, “With Configuration”, “With Custom Programming” or with a “Future Release”."}]
["5.B.00","Certification"]
["5.B.01","Certification","Functional","Tracking Personnel Certifications","Could Have","Please list your solution's ability for each agency to track personnel certifications:\n\na) Certification type ( from agency-defined drop down table)\nb) Date certified\nc) Certification expiration date",null,"Cannot Meet",{"$f":"IFERROR(VLOOKUP(H141,VendorResponseLookupTbl[], 2,0), \"\")","v":" The product cannot meet the requirement “Out-of-the-Box”, “With Configuration”, “With Custom Programming” or with a “Future Release”."}]
["5.B.02",{"$f":"B141","v":"Certification"},"Functional","Notification Alerts","Could Have","Please list your solution's ability to alert supervisors to upcoming certification expirations.",null,"Cannot Meet",{"$f":"IFERROR(VLOOKUP(H142,VendorResponseLookupTbl[], 2,0), \"\")","v":" The product cannot meet the requirement “Out-of-the-Box”, “With Configuration”, “With Custom Programming” or with a “Future Release”."}]
["5.B.03","Certification","Functional","Tracking Employee Skills","Could Have","Please list your solution's ability to  track employee skills:\n\na) Skill type\nb) Expiration or renewal date",null,"Cannot Meet",{"$f":"IFERROR(VLOOKUP(H143,VendorResponseLookupTbl[], 2,0), \"\")","v":" The product cannot meet the requirement “Out-of-the-Box”, “With Configuration”, “With Custom Programming” or with a “Future Release”."}]
["5.B.04","Certification","Functional","Special Skills","Could Have","Please list your solution's ability to maintain multiple special skills.",null,"Cannot Meet",{"$f":"IFERROR(VLOOKUP(H144,VendorResponseLookupTbl[], 2,0), \"\")","v":" The product cannot meet the requirement “Out-of-the-Box”, “With Configuration”, “With Custom Programming” or with a “Future Release”."}]
["5.B.05","Certification","Functional","Report Generation","Could Have","Please list your solution's ability to generate reports for:\n\na) Expiring certifications\nb) An individual's certifications (with expiration dates)",null,"Cannot Meet",{"$f":"IFERROR(VLOOKUP(H145,VendorResponseLookupTbl[], 2,0), \"\")","v":" The product cannot meet the requirement “Out-of-the-Box”, “With Configuration”, “With Custom Programming” or with a “Future Release”."}]
["5.C.00","Equipment"]
["5.C.01",{"$f":"B146","v":"Equipment"},"Functional","Maintaining Records","Could Have","Please list your solution's ability to maintain records for agency equipment:\n\na) Equipment name\nb) Equipment category (e.g., weapon, clothing, equipment)\nc) Vendor\nd) Vendor contact information\ne) Serial number\nf) Issued to\ng) Issued by\nh) Issued date\ni) Replacement date\nj) Inspection history\nk) Repair history\nl) Return date",null,"Cannot Meet",{"$f":"IFERROR(VLOOKUP(H147,VendorResponseLookupTbl[], 2,0), \"\")","v":" The product cannot meet the requirement “Out-of-the-Box”, “With Configuration”, “With Custom Programming” or with a “Future Release”."}]
["5.C.02",{"$f":"B147","v":"Equipment"},{"$f":"C147","v":"Functional"},"Document Attachments","Could Have","Please list your solution's ability to attach documents to equipment records.",null,"Cannot Meet",{"$f":"IFERROR(VLOOKUP(H148,VendorResponseLookupTbl[], 2,0), \"\")","v":" The product cannot meet the requirement “Out-of-the-Box”, “With Configuration”, “With Custom Programming” or with a “Future Release”."}]
["5.C.03",{"$f":"B148","v":"Equipment"},{"$f":"C148","v":"Functional"},"Issuing Equipment","Could Have","Please list your solution's ability to issue equipment to:\n\na) A person\nb) A unit\nc) A vehicle",null,"Cannot Meet",{"$f":"IFERROR(VLOOKUP(H149,VendorResponseLookupTbl[], 2,0), \"\")","v":" The product cannot meet the requirement “Out-of-the-Box”, “With Configuration”, “With Custom Programming” or with a “Future Release”."}]
["5.C.04","Equipment","Functional","Inspection History\nPersonnel Equipment","Could Have","Please list your solution's ability to maintain a history of personnel equipment inspections:\n\na) Inspection date\nb) Equipment inspected\nc) Inspection results",null,"Cannot Meet",{"$f":"IFERROR(VLOOKUP(H150,VendorResponseLookupTbl[], 2,0), \"\")","v":" The product cannot meet the requirement “Out-of-the-Box”, “With Configuration”, “With Custom Programming” or with a “Future Release”."}]
["5.C.05","Equipment","Functional","Inspection History\nVehicle Equipment","Could Have","Please list your solution's ability to maintain a history of vehicle equipment inspections:\n\na) Inspection date\nb) Equipment inspected\nc) Inspection results",null,"Cannot Meet",{"$f":"IFERROR(VLOOKUP(H151,VendorResponseLookupTbl[], 2,0), \"\")","v":" The product cannot meet the requirement “Out-of-the-Box”, “With Configuration”, “With Custom Programming” or with a “Future Release”."}]
["5.C.06","Equipment","Functional","Agency-Defined Categories","Could Have","Please list your solution's ability for agency to define the equipment categories.",null,"Cannot Meet",{"$f":"IFERROR(VLOOKUP(H152,VendorResponseLookupTbl[], 2,0), \"\")","v":" The product cannot meet the requirement “Out-of-the-Box”, “With Configuration”, “With Custom Programming” or with a “Future Release”."}]
["5.C.07","Equipment","Functional","Scheduling Activities","Could Have","Please list your solution's ability to schedule agency-specific equipment related activities (inspection, replacement, repair).",null,"Cannot Meet",{"$f":"IFERROR(VLOOKUP(H153,VendorResponseLookupTbl[], 2,0), \"\")","v":" The product cannot meet the requirement “Out-of-the-Box”, “With Configuration”, “With Custom Programming” or with a “Future Release”."}]
["5.C.08","Equipment","Functional","Multiple Users","Could Have","Please list your solution's ability to issue equipment to multiple users at the same time (e.g., batch issue vest to a group of personnel).",null,"Cannot Meet",{"$f":"IFERROR(VLOOKUP(H154,VendorResponseLookupTbl[], 2,0), \"\")","v":" The product cannot meet the requirement “Out-of-the-Box”, “With Configuration”, “With Custom Programming” or with a “Future Release”."}]
["5.C.09","Equipment","Functional","RFID or Barcodes","Could Have","Please list your solution's ability to use barcodes or RFID tags to issue and track equipment .",null,"Cannot Meet",{"$f":"IFERROR(VLOOKUP(H155,VendorResponseLookupTbl[], 2,0), \"\")","v":" The product cannot meet the requirement “Out-of-the-Box”, “With Configuration”, “With Custom Programming” or with a “Future Release”."}]
["5.C.10","Equipment","Functional","Inspection Fields","Could Have","Please list your solution's ability to provide fields to track individual inspections, including:\n\na) Inspection type (drop down)\nb) Inspection date\nc) Inspection outcome\nd) Next inspection date",null,"Cannot Meet",{"$f":"IFERROR(VLOOKUP(H156,VendorResponseLookupTbl[], 2,0), \"\")","v":" The product cannot meet the requirement “Out-of-the-Box”, “With Configuration”, “With Custom Programming” or with a “Future Release”."}]
["5.C.11","Equipment","Functional","Push Notifications","Could Have","Please list your solution's ability to notify supervisors of an upcoming inspection.",null,"Cannot Meet",{"$f":"IFERROR(VLOOKUP(H157,VendorResponseLookupTbl[], 2,0), \"\")","v":" The product cannot meet the requirement “Out-of-the-Box”, “With Configuration”, “With Custom Programming” or with a “Future Release”."}]
["5.C.12","Equipment","Functional","Agency-Defined Intervals","Could Have","Please list your solution's ability for agency to determine how far in advance of an inspection a supervisor should be notified.",null,"Cannot Meet",{"$f":"IFERROR(VLOOKUP(H158,VendorResponseLookupTbl[], 2,0), \"\")","v":" The product cannot meet the requirement “Out-of-the-Box”, “With Configuration”, “With Custom Programming” or with a “Future Release”."}]
["6.A","Searches and Reports"]
["6.A.00","Searches"]
["6.A.01","Searches","Functional","Search Functionality","Must Have","Please list your solution's ability to conduct searches using:\n\na) Soundex\nb) \"Wild cards\"\nc) Diminutive Names\nd) Exact match\ne) Partial information\nf) Boolean operators (\"and,\" \"or,\"  and \"not\")\ng) Exact case match\nh) Ranges (Date, Location, Time)",null,"Cannot Meet",{"$f":"IFERROR(VLOOKUP(H161,VendorResponseLookupTbl[], 2,0), \"\")","v":" The product cannot meet the requirement “Out-of-the-Box”, “With Configuration”, “With Custom Programming” or with a “Future Release”."}]
["6.A.02","Searches","Functional","Non-case sensitive","Must Have","Please list your solution's ability for searches to be non-case sensitive.",null,"Cannot Meet",{"$f":"IFERROR(VLOOKUP(H162,VendorResponseLookupTbl[], 2,0), \"\")","v":" The product cannot meet the requirement “Out-of-the-Box”, “With Configuration”, “With Custom Programming” or with a “Future Release”."}]
["6.A.03","Searches","Functional","Operational Data","Must Have","Please list your solution's ability to  search any operational data element.",null,"Cannot Meet",{"$f":"IFERROR(VLOOKUP(H163,VendorResponseLookupTbl[], 2,0), \"\")","v":" The product cannot meet the requirement “Out-of-the-Box”, “With Configuration”, “With Custom Programming” or with a “Future Release”."}]
["6.A.04","Searches","Functional","Multiple Fields","Must Have","Please list your solution's ability to search on multiple operational data fields.",null,"Cannot Meet",{"$f":"IFERROR(VLOOKUP(H164,VendorResponseLookupTbl[], 2,0), \"\")","v":" The product cannot meet the requirement “Out-of-the-Box”, “With Configuration”, “With Custom Programming” or with a “Future Release”."}]
["6.A.05","Searches","Functional","Filtering","Must Have","Please list your solution's ability to filter searches by:\n\na) Date\nb) Time\nc) Location (e.g., Block ranges)",null,"Cannot Meet",{"$f":"IFERROR(VLOOKUP(H165,VendorResponseLookupTbl[], 2,0), \"\")","v":" The product cannot meet the requirement “Out-of-the-Box”, “With Configuration”, “With Custom Programming” or with a “Future Release”."}]
["6.A.06","Searches","Functional","Federated\nConducting","Must Have","Please list your solution's ability to conduct federate searches.",null,"Cannot Meet",{"$f":"IFERROR(VLOOKUP(H166,VendorResponseLookupTbl[], 2,0), \"\")","v":" The product cannot meet the requirement “Out-of-the-Box”, “With Configuration”, “With Custom Programming” or with a “Future Release”."}]
["6.A.07","Searches","Functional","Federated\nInclusive","Must Have","Please list your solution's ability for federated searches to include, at a minimum:\n\na) RMS\nb) JMS\nc) CAD",null,"Cannot Meet",{"$f":"IFERROR(VLOOKUP(H167,VendorResponseLookupTbl[], 2,0), \"\")","v":" The product cannot meet the requirement “Out-of-the-Box”, “With Configuration”, “With Custom Programming” or with a “Future Release”."}]
["6.A.08","Searches","Functional","Optional Databases","Must Have","Please list your solution's ability to  provide users an option with which to select which databases to search.",null,"Cannot Meet",{"$f":"IFERROR(VLOOKUP(H168,VendorResponseLookupTbl[], 2,0), \"\")","v":" The product cannot meet the requirement “Out-of-the-Box”, “With Configuration”, “With Custom Programming” or with a “Future Release”."}]
["6.A.09","Searches","Functional","Defaulting Databases","Must Have","Please list your solution's ability to set defaults for databases to search within each application.",null,"Cannot Meet",{"$f":"IFERROR(VLOOKUP(H169,VendorResponseLookupTbl[], 2,0), \"\")","v":" The product cannot meet the requirement “Out-of-the-Box”, “With Configuration”, “With Custom Programming” or with a “Future Release”."}]
["6.A.10","Searches","Functional","Consolidation of Returns","Must Have","Please list your solution's ability to consolidate search returns when multiple databases are searched.",null,"Cannot Meet",{"$f":"IFERROR(VLOOKUP(H170,VendorResponseLookupTbl[], 2,0), \"\")","v":" The product cannot meet the requirement “Out-of-the-Box”, “With Configuration”, “With Custom Programming” or with a “Future Release”."}]
["6.A.11","Searches","Functional","Information Sources","Must Have","Please list your solution's ability  for search returns to indicate the information source.",null,"Cannot Meet",{"$f":"IFERROR(VLOOKUP(H171,VendorResponseLookupTbl[], 2,0), \"\")","v":" The product cannot meet the requirement “Out-of-the-Box”, “With Configuration”, “With Custom Programming” or with a “Future Release”."}]
["6.A.12","Searches","Functional","Drill Downs","Must Have","Please list your solution's ability to select any search and drill down for detailed information.",null,"Cannot Meet",{"$f":"IFERROR(VLOOKUP(H172,VendorResponseLookupTbl[], 2,0), \"\")","v":" The product cannot meet the requirement “Out-of-the-Box”, “With Configuration”, “With Custom Programming” or with a “Future Release”."}]
["6.A.13","Searches","Functional","Narrative Fields","Must Have","Please list your solution's ability to search narrative fields.",null,"Cannot Meet",{"$f":"IFERROR(VLOOKUP(H173,VendorResponseLookupTbl[], 2,0), \"\")","v":" The product cannot meet the requirement “Out-of-the-Box”, “With Configuration”, “With Custom Programming” or with a “Future Release”."}]
["6.A.14","Searches","Functional","Excluding Text","Must Have","Please list your solution's ability to exclude specified text when conducting narrative text searches.",null,"Cannot Meet",{"$f":"IFERROR(VLOOKUP(H174,VendorResponseLookupTbl[], 2,0), \"\")","v":" The product cannot meet the requirement “Out-of-the-Box”, “With Configuration”, “With Custom Programming” or with a “Future Release”."}]
["6.A.15","Searches","Functional","Searching Deactivated Elements","Must Have","Please list your solution's ability to search deactivated elements to include:\n\na) User IDs\nb) Codes with a code table",null,"Cannot Meet",{"$f":"IFERROR(VLOOKUP(H175,VendorResponseLookupTbl[], 2,0), \"\")","v":" The product cannot meet the requirement “Out-of-the-Box”, “With Configuration”, “With Custom Programming” or with a “Future Release”."}]
["6.A.16","Searches","Functional","Formatting\nMust Haves","Must Have","Please list your solution's ability to export search results into standard formats, including:\n\na) MS Excel\nb) MS Word\nc) PDF \nd) CSV",null,"Cannot Meet",{"$f":"IFERROR(VLOOKUP(H176,VendorResponseLookupTbl[], 2,0), \"\")","v":" The product cannot meet the requirement “Out-of-the-Box”, “With Configuration”, “With Custom Programming” or with a “Future Release”."}]
["6.A.17","Searches","Functional","Formatting\nShould Haves","Should Have","Please list your solution's ability to export search results into standard formats, including:\n\na) MS Access\nb) Text files\nc) XML\nd) HTML",null,"Cannot Meet",{"$f":"IFERROR(VLOOKUP(H177,VendorResponseLookupTbl[], 2,0), \"\")","v":" The product cannot meet the requirement “Out-of-the-Box”, “With Configuration”, “With Custom Programming” or with a “Future Release”."}]
["6.A.18","Searches","Functional","Retrieval of Results","Must Have","Please list your solution's ability to retrieve complete set of search results (no limit).",null,"Cannot Meet",{"$f":"IFERROR(VLOOKUP(H178,VendorResponseLookupTbl[], 2,0), \"\")","v":" The product cannot meet the requirement “Out-of-the-Box”, “With Configuration”, “With Custom Programming” or with a “Future Release”."}]
["6.A.19","Searches","Functional","Exporting Results","Must Have","Please list your solution's ability to export complete set of search results (no limit to how many records can be exported at a time).",null,"Cannot Meet",{"$f":"IFERROR(VLOOKUP(H179,VendorResponseLookupTbl[], 2,0), \"\")","v":" The product cannot meet the requirement “Out-of-the-Box”, “With Configuration”, “With Custom Programming” or with a “Future Release”."}]
["6.B.00","Reports"]
["6.B.01",{"$f":"B180","v":"Reports"},"Functional","General Reporting","Must Have","Please list your solution's ability to provide a reporting tool that can:\n\na) Create reports based on any operations data field in any system database\nb) Create reports based on multiple operational data fields in any system database\nc) Access multiple files and tables",null,"Cannot Meet",{"$f":"IFERROR(VLOOKUP(H181,VendorResponseLookupTbl[], 2,0), \"\")","v":" The product cannot meet the requirement “Out-of-the-Box”, “With Configuration”, “With Custom Programming” or with a “Future Release”."}]
["6.B.02",{"$f":"B181","v":"Reports"},{"$f":"C181","v":"Functional"},"Anonymizing Fields","Must Have","Please list your solution's ability to anonymize customer-defined fields, including but not limited to:\n\na) Street number\nb) X/Y coordinates",null,"Cannot Meet",{"$f":"IFERROR(VLOOKUP(H182,VendorResponseLookupTbl[], 2,0), \"\")","v":" The product cannot meet the requirement “Out-of-the-Box”, “With Configuration”, “With Custom Programming” or with a “Future Release”."}]
["6.B.03",{"$f":"B182","v":"Reports"},{"$f":"C182","v":"Functional"},"Auto-Redaction\nMust Haves","Must Have","Please list your solution's ability to automatically redact the following from free form text fields (e.g., non-structured field, narrative) without user interaction:\n\na) Employee/User ID personnel\nb) Reporting party information\nc) Subject/witness information\nd) System messages\ne) Structured call taking protocol scripts\nf) Medical history\ng) Security sensitive items(e.g., door codes, lock combinations, key locations)\nh) Other customer-defined information",null,"Cannot Meet",{"$f":"IFERROR(VLOOKUP(H183,VendorResponseLookupTbl[], 2,0), \"\")","v":" The product cannot meet the requirement “Out-of-the-Box”, “With Configuration”, “With Custom Programming” or with a “Future Release”."}]
["6.B.04",{"$f":"B183","v":"Reports"},{"$f":"C183","v":"Functional"},"Auto-Redaction\nShould Haves","Should Have","Please list your solution's ability to automatically redact the following from free form text fields (e.g., non-structured field, narrative) without user interaction:\n\na) CJIS queries\nb) CJIS returns",null,"Cannot Meet",{"$f":"IFERROR(VLOOKUP(H184,VendorResponseLookupTbl[], 2,0), \"\")","v":" The product cannot meet the requirement “Out-of-the-Box”, “With Configuration”, “With Custom Programming” or with a “Future Release”."}]
["6.B.05","Reports","Functional","Excluding Fields","Must Have","Please list your solution's ability to exclude any operational field from a report.",null,"Cannot Meet",{"$f":"IFERROR(VLOOKUP(H185,VendorResponseLookupTbl[], 2,0), \"\")","v":" The product cannot meet the requirement “Out-of-the-Box”, “With Configuration”, “With Custom Programming” or with a “Future Release”."}]
["6.B.06","Reports","Functional","Reporting Tool Operations","Must Have","Please list your solution's ability for the report generating tool to handle:\n\na) Arithmetic operations, including fractiles and percentiles\nb) A full suite of statistical operations\nc) Logic operations (e.g., greater than equal to)\nd) Time operations",null,"Cannot Meet",{"$f":"IFERROR(VLOOKUP(H186,VendorResponseLookupTbl[], 2,0), \"\")","v":" The product cannot meet the requirement “Out-of-the-Box”, “With Configuration”, “With Custom Programming” or with a “Future Release”."}]
["6.B.07","Reports","Functional","User-Generated Reports","Must Have","Please list your solution's ability to  maintain a general library of user-created reports.",null,"Cannot Meet",{"$f":"IFERROR(VLOOKUP(H187,VendorResponseLookupTbl[], 2,0), \"\")","v":" The product cannot meet the requirement “Out-of-the-Box”, “With Configuration”, “With Custom Programming” or with a “Future Release”."}]
["6.B.08","Reports","Functional","Naming Reports","Must Have","Please list your solution's ability for reports to contain the name and logo of the agency for which the report is created.",null,"Cannot Meet",{"$f":"IFERROR(VLOOKUP(H188,VendorResponseLookupTbl[], 2,0), \"\")","v":" The product cannot meet the requirement “Out-of-the-Box”, “With Configuration”, “With Custom Programming” or with a “Future Release”."}]
["6.B.09","Reports","Functional","Agency-Specific Reports","Must Have","Please list your solution's ability to maintain a library or report templates that Agencies can tailor for their own purposes.",null,"Cannot Meet",{"$f":"IFERROR(VLOOKUP(H189,VendorResponseLookupTbl[], 2,0), \"\")","v":" The product cannot meet the requirement “Out-of-the-Box”, “With Configuration”, “With Custom Programming” or with a “Future Release”."}]
["6.B.10","Reports","Functional","Uniformity","Must Have","Please list your solution's ability for reports to have a uniform look and feel.",null,"Cannot Meet",{"$f":"IFERROR(VLOOKUP(H190,VendorResponseLookupTbl[], 2,0), \"\")","v":" The product cannot meet the requirement “Out-of-the-Box”, “With Configuration”, “With Custom Programming” or with a “Future Release”."}]
["6.B.11","Reports","Functional","Preserving User-Defined Reports","Must Have","Please list your solution's ability to preserve all user-created reports during updates and upgrades.",null,"Cannot Meet",{"$f":"IFERROR(VLOOKUP(H191,VendorResponseLookupTbl[], 2,0), \"\")","v":" The product cannot meet the requirement “Out-of-the-Box”, “With Configuration”, “With Custom Programming” or with a “Future Release”."}]
["6.B.12","Reports","Functional","Accessing Reporting Library","Must Have","Please list your solution's ability for all authorized users to access the general library of user-created reports.",null,"Cannot Meet",{"$f":"IFERROR(VLOOKUP(H192,VendorResponseLookupTbl[], 2,0), \"\")","v":" The product cannot meet the requirement “Out-of-the-Box”, “With Configuration”, “With Custom Programming” or with a “Future Release”."}]
["6.B.13","Reports","Functional","Assigning Rights","Must Have","Please list your solution's ability to assign rights to a report within the library of reports (e.g., who may view report, modify report).",null,"Cannot Meet",{"$f":"IFERROR(VLOOKUP(H193,VendorResponseLookupTbl[], 2,0), \"\")","v":" The product cannot meet the requirement “Out-of-the-Box”, “With Configuration”, “With Custom Programming” or with a “Future Release”."}]
["6.B.14","Reports","Functional","Emailing Reports","Should Have","Please list your solution's ability to send reports to individuals or groups from within the application using an agency's email server.",null,"Cannot Meet",{"$f":"IFERROR(VLOOKUP(H194,VendorResponseLookupTbl[], 2,0), \"\")","v":" The product cannot meet the requirement “Out-of-the-Box”, “With Configuration”, “With Custom Programming” or with a “Future Release”."}]
["6.B.15","Reports","Functional","Scheduling Reports","Must Have","Please list your solution's ability to generate reports on a pre-determined schedule.",null,"Cannot Meet",{"$f":"IFERROR(VLOOKUP(H195,VendorResponseLookupTbl[], 2,0), \"\")","v":" The product cannot meet the requirement “Out-of-the-Box”, “With Configuration”, “With Custom Programming” or with a “Future Release”."}]
["6.B.16","Reports","Functional","Auto-Dissemination of Reports","Must Have","Please list your solution's ability to automatically send scheduled reports to distribution groups or individuals.",null,"Cannot Meet",{"$f":"IFERROR(VLOOKUP(H196,VendorResponseLookupTbl[], 2,0), \"\")","v":" The product cannot meet the requirement “Out-of-the-Box”, “With Configuration”, “With Custom Programming” or with a “Future Release”."}]
["6.B.17","Reports","Functional","Printing Reports","Must Have","Please list your solution's ability to automatically print scheduled reports at designated printers.",null,"Cannot Meet",{"$f":"IFERROR(VLOOKUP(H197,VendorResponseLookupTbl[], 2,0), \"\")","v":" The product cannot meet the requirement “Out-of-the-Box”, “With Configuration”, “With Custom Programming” or with a “Future Release”."}]
["6.B.18","Reports","Functional","Exporting Results\nMust Haves","Must Have","Please list your solution's ability to export results into standard formats, including:\n\na) MS Excel\nb) PDF\nc) CSV",null,"Cannot Meet",{"$f":"IFERROR(VLOOKUP(H198,VendorResponseLookupTbl[], 2,0), \"\")","v":" The product cannot meet the requirement “Out-of-the-Box”, “With Configuration”, “With Custom Programming” or with a “Future Release”."}]
["6.B.19",{"$f":"B198","v":"Reports"},{"$f":"C198","v":"Functional"},"Exporting Results\nShould Haves","Should Have","Please list your solution's ability to export results into standard formats, including:\n\na) MS Word\nb) MS Access\nc) Text files\nd) XML\ne) HTML",null,"Cannot Meet",{"$f":"IFERROR(VLOOKUP(H199,VendorResponseLookupTbl[], 2,0), \"\")","v":" The product cannot meet the requirement “Out-of-the-Box”, “With Configuration”, “With Custom Programming” or with a “Future Release”."}]
["6.B.20","Reports","Functional","Saving Reports for Future Use","Must Have","Please list your solution's ability to save reports for subsequent viewing and/or printing.",null,"Cannot Meet",{"$f":"IFERROR(VLOOKUP(H200,VendorResponseLookupTbl[], 2,0), \"\")","v":" The product cannot meet the requirement “Out-of-the-Box”, “With Configuration”, “With Custom Programming” or with a “Future Release”."}]
["7.A","Data Analysis"]
["7.A.00","General Data Analysis Requirements"]
["7.A.01","General Data Analysis Requirements","Functional","Analysis Options","Must Have","Please list your solution's ability to analyze activity using the following analysis options, including, but not limited to:\n\na) Trend analysis\nb) Frequency analyses (e.g., analyses with only one variable)\nc) Spatial analysis (e.g., analyses by user-defined geographical)\nd) Time analysis (e.g., by time, date, date range)\ne) Link analysis (e.g., relationship between non-key related)\nf) Change over time analysis (e.g., comparative analysis)\ng) Simple relational analyses (e.g., seeking relationships between two data fields)\nh) Complex relational analysis (e.g., seeking relationships among three or more data fields)",null,"Cannot Meet",{"$f":"IFERROR(VLOOKUP(H203,VendorResponseLookupTbl[], 2,0), \"\")","v":" The product cannot meet the requirement “Out-of-the-Box”, “With Configuration”, “With Custom Programming” or with a “Future Release”."}]
["7.A.02","General Data Analysis Requirements","Functional","Drill Downs","Must Have","Please list your solution's ability to drill-down into the analysis reports.",null,"Cannot Meet",{"$f":"IFERROR(VLOOKUP(H204,VendorResponseLookupTbl[], 2,0), \"\")","v":" The product cannot meet the requirement “Out-of-the-Box”, “With Configuration”, “With Custom Programming” or with a “Future Release”."}]
["7.A.03","General Data Analysis Requirements","Functional","Graphical Formats","Must Have","Please list your solution's ability to  present statistics in graphical formats, including, but not limited to the following:\n\na) Pin maps\nb) Bar graphs\nc) Pie charts\nd) Density maps\ne) Line graphs",null,"Cannot Meet",{"$f":"IFERROR(VLOOKUP(H205,VendorResponseLookupTbl[], 2,0), \"\")","v":" The product cannot meet the requirement “Out-of-the-Box”, “With Configuration”, “With Custom Programming” or with a “Future Release”."}]
["7.A.04","General Data Analysis Requirements","Functional","Data Aggregation","Must Have","Please list your solution's ability to aggregate data contained in records to create:\n\na) Summary reports showing data elemental totals (e.g., number of burglaries, number of calls for service)\nb) Summary reports showing data element averages (average number of stolen cars on Friday versus Wednesday)\nc) Summary reports showing frequency of occurrence (number of robberies at a gas station)\nd) Summary reports showing percentages (e.g., percentage of total crimes by beat, percentage of robberies involving a weapon, percentage of burglaries in which the modus operandi was a window break-in)",null,"Cannot Meet",{"$f":"IFERROR(VLOOKUP(H206,VendorResponseLookupTbl[], 2,0), \"\")","v":" The product cannot meet the requirement “Out-of-the-Box”, “With Configuration”, “With Custom Programming” or with a “Future Release”."}]
["7.A.05","General Data Analysis Requirements","Functional","Standard Formats","Must Have","Please list your solution's ability to export data for analysis into standard formats, including:\n\na) Excel\nb) PDF\nc) Text files\nd) HTML\ne) XML",null,"Cannot Meet",{"$f":"IFERROR(VLOOKUP(H207,VendorResponseLookupTbl[], 2,0), \"\")","v":" The product cannot meet the requirement “Out-of-the-Box”, “With Configuration”, “With Custom Programming” or with a “Future Release”."}]
["7.B.00","Activity Analysis"]
["7.B.01",{"$f":"B208","v":"Activity Analysis"},"Functional","Tracking and Analyzing Activity","Should Have","Please list your solution's ability to  track and analyze activity by:\n\na) Address\nb) Address range\nc) Beat\nd) Incident type\ne) Date/time range\nf) Victim characteristics\ng) Suspect characteristics\nh) Persons\ni) Time period (e.g., day of week, time of day)\nj) Geographic area (user-defined or from a map layer)\nk) Vehicles\nl) Organizations\nm) Any combination of above elements",null,"Cannot Meet",{"$f":"IFERROR(VLOOKUP(H209,VendorResponseLookupTbl[], 2,0), \"\")","v":" The product cannot meet the requirement “Out-of-the-Box”, “With Configuration”, “With Custom Programming” or with a “Future Release”."}]
["7.B.02",{"$f":"B209","v":"Activity Analysis"},{"$f":"C209","v":"Functional"},"Alerting Individuals","Should Have","Please list your solution's ability to alert specific individuals when crime activity exceeds an agency-defined level for a given:\n\na) Incident type\nb) Location by user-defined geographic boundaries\nc) User-defined period",null,"Cannot Meet",{"$f":"IFERROR(VLOOKUP(H210,VendorResponseLookupTbl[], 2,0), \"\")","v":" The product cannot meet the requirement “Out-of-the-Box”, “With Configuration”, “With Custom Programming” or with a “Future Release”."}]
["7.C.00","Map Analysis"]
["7.C.01",{"$f":"B211","v":"Map Analysis"},"Functional","Based On Geofile","Must Have","Please list your solution's ability to base map analysis on geofile location information.",null,"Cannot Meet",{"$f":"IFERROR(VLOOKUP(H212,VendorResponseLookupTbl[], 2,0), \"\")","v":" The product cannot meet the requirement “Out-of-the-Box”, “With Configuration”, “With Custom Programming” or with a “Future Release”."}]
["7.C.02",{"$f":"B212","v":"Map Analysis"},{"$f":"C212","v":"Functional"},"Plotting Data","Must Have","Please list your solution's ability to plot incident data on a map of the service area.",null,"Cannot Meet",{"$f":"IFERROR(VLOOKUP(H213,VendorResponseLookupTbl[], 2,0), \"\")","v":" The product cannot meet the requirement “Out-of-the-Box”, “With Configuration”, “With Custom Programming” or with a “Future Release”."}]
["7.C.03",{"$f":"B213","v":"Map Analysis"},{"$f":"C213","v":"Functional"},"Drill Downs\nIncident Details","Must Have","Please list your solution's ability to drill down for incident details from any incident plotted on the map.",null,"Cannot Meet",{"$f":"IFERROR(VLOOKUP(H214,VendorResponseLookupTbl[], 2,0), \"\")","v":" The product cannot meet the requirement “Out-of-the-Box”, “With Configuration”, “With Custom Programming” or with a “Future Release”."}]
["7.C.04","Map Analysis","Functional","Identifying Hot Spots","Must Have","Please list your solution's ability to identify \"hot spots\" on a map.",null,"Cannot Meet",{"$f":"IFERROR(VLOOKUP(H215,VendorResponseLookupTbl[], 2,0), \"\")","v":" The product cannot meet the requirement “Out-of-the-Box”, “With Configuration”, “With Custom Programming” or with a “Future Release”."}]
["7.C.05","Map Analysis","Functional","Topography","Must Have","Please list your solution's ability to display topography information in map analysis.",null,"Cannot Meet",{"$f":"IFERROR(VLOOKUP(H216,VendorResponseLookupTbl[], 2,0), \"\")","v":" The product cannot meet the requirement “Out-of-the-Box”, “With Configuration”, “With Custom Programming” or with a “Future Release”."}]
["7.C.06","Map Analysis","Functional","Drill Downs\nHistories","Must Have","Please list your solution's ability to drill down on a map location for access to detailed incident history, premises history, etc.",null,"Cannot Meet",{"$f":"IFERROR(VLOOKUP(H217,VendorResponseLookupTbl[], 2,0), \"\")","v":" The product cannot meet the requirement “Out-of-the-Box”, “With Configuration”, “With Custom Programming” or with a “Future Release”."}]
["7.C.07","Map Analysis","Functional","Radius Search","Must Have","Please list your solution's ability to conduct a radius search on a map.",null,"Cannot Meet",{"$f":"IFERROR(VLOOKUP(H218,VendorResponseLookupTbl[], 2,0), \"\")","v":" The product cannot meet the requirement “Out-of-the-Box”, “With Configuration”, “With Custom Programming” or with a “Future Release”."}]
["7.C.08","Map Analysis","Functional","Polygon Search ","Must Have","Please list your solution's ability to conduct a polygon search on a map.",null,"Cannot Meet",{"$f":"IFERROR(VLOOKUP(H219,VendorResponseLookupTbl[], 2,0), \"\")","v":" The product cannot meet the requirement “Out-of-the-Box”, “With Configuration”, “With Custom Programming” or with a “Future Release”."}]
["7.C.09","Map Analysis","Functional","Icon Displays","Must Have","Please list your solution's ability to use different icons to display different data types.",null,"Cannot Meet",{"$f":"IFERROR(VLOOKUP(H220,VendorResponseLookupTbl[], 2,0), \"\")","v":" The product cannot meet the requirement “Out-of-the-Box”, “With Configuration”, “With Custom Programming” or with a “Future Release”."}]
["7.C.10","Map Analysis","Functional","Standard Map Elements","Must Have","Please list your solution's ability to display standard map elements (e.g., scale bar, north arrow, legend, title, date, time, creator, disclaimers).",null,"Cannot Meet",{"$f":"IFERROR(VLOOKUP(H221,VendorResponseLookupTbl[], 2,0), \"\")","v":" The product cannot meet the requirement “Out-of-the-Box”, “With Configuration”, “With Custom Programming” or with a “Future Release”."}]
["7.D.00","Link Analysis"]
["7.D.01",{"$f":"B222","v":"Link Analysis"},"Functional","Data Elements","Must Have","Please list your solution's ability to analyze linkages among data elements.",null,"Cannot Meet",{"$f":"IFERROR(VLOOKUP(H223,VendorResponseLookupTbl[], 2,0), \"\")","v":" The product cannot meet the requirement “Out-of-the-Box”, “With Configuration”, “With Custom Programming” or with a “Future Release”."}]
["7.D.02",{"$f":"B223","v":"Link Analysis"},{"$f":"C223","v":"Functional"},"Printing Text/Graphical Formats","Must Have","Please list your solution's ability to display and print linkages in either text or graphic format.",null,"Cannot Meet",{"$f":"IFERROR(VLOOKUP(H224,VendorResponseLookupTbl[], 2,0), \"\")","v":" The product cannot meet the requirement “Out-of-the-Box”, “With Configuration”, “With Custom Programming” or with a “Future Release”."}]
["7.D.03",{"$f":"B224","v":"Link Analysis"},{"$f":"C224","v":"Functional"},"Relationship Diagrams","Must Have","Please list your solution's ability to drill down into specific records in relationship diagrams.",null,"Cannot Meet",{"$f":"IFERROR(VLOOKUP(H225,VendorResponseLookupTbl[], 2,0), \"\")","v":" The product cannot meet the requirement “Out-of-the-Box”, “With Configuration”, “With Custom Programming” or with a “Future Release”."}]
["7.D.04","Link Analysis","Functional","Linkage Nature","Must Have","Please list your solution's ability to display the nature of the link (e.g., telephone number, vehicle, incident).",null,"Cannot Meet",{"$f":"IFERROR(VLOOKUP(H226,VendorResponseLookupTbl[], 2,0), \"\")","v":" The product cannot meet the requirement “Out-of-the-Box”, “With Configuration”, “With Custom Programming” or with a “Future Release”."}]
["7.D.05","Link Analysis","Functional","Relating Vehicles","Must Have","Please list your solution's ability to display relationships between stolen and recovered locations for vehicles.",null,"Cannot Meet",{"$f":"IFERROR(VLOOKUP(H227,VendorResponseLookupTbl[], 2,0), \"\")","v":" The product cannot meet the requirement “Out-of-the-Box”, “With Configuration”, “With Custom Programming” or with a “Future Release”."}]
["7.D.06","Link Analysis","Functional","Relating Vehicle Plates","Must Have","Please list your solution's ability to display relationships between stolen and recovered locations for vehicles plates.",null,"Cannot Meet",{"$f":"IFERROR(VLOOKUP(H228,VendorResponseLookupTbl[], 2,0), \"\")","v":" The product cannot meet the requirement “Out-of-the-Box”, “With Configuration”, “With Custom Programming” or with a “Future Release”."}]
["7.D.07","Link Analysis","Functional","Relating Property","Must Have","Please list your solution's ability to display relationships between stolen and recovered locations for property.",null,"Cannot Meet",{"$f":"IFERROR(VLOOKUP(H229,VendorResponseLookupTbl[], 2,0), \"\")","v":" The product cannot meet the requirement “Out-of-the-Box”, “With Configuration”, “With Custom Programming” or with a “Future Release”."}]
["7.D.08","Link Analysis","Functional","Relating Elements","Must Have","Please list your solution's ability to click on a linked element to show links based on that element (e.g., if a person of interest is linked to a business, click on the business to show its linkages).",null,"Cannot Meet",{"$f":"IFERROR(VLOOKUP(H230,VendorResponseLookupTbl[], 2,0), \"\")","v":" The product cannot meet the requirement “Out-of-the-Box”, “With Configuration”, “With Custom Programming” or with a “Future Release”."}]
["7.E.00","Dashboards"]
["7.E.01",{"$f":"B231","v":"Dashboards"},"Functional","Monitor Activity","Should Have","Please list your solution's ability to have unique dashboards by user to monitor activity.",null,"Cannot Meet",{"$f":"IFERROR(VLOOKUP(H232,VendorResponseLookupTbl[], 2,0), \"\")","v":" The product cannot meet the requirement “Out-of-the-Box”, “With Configuration”, “With Custom Programming” or with a “Future Release”."}]
["7.E.02","Dashboards",{"$f":"C232","v":"Functional"},"Log-On","Should Have","Please list your solution's ability  for dashboards to be associated with log-on.",null,"Cannot Meet",{"$f":"IFERROR(VLOOKUP(H233,VendorResponseLookupTbl[], 2,0), \"\")","v":" The product cannot meet the requirement “Out-of-the-Box”, “With Configuration”, “With Custom Programming” or with a “Future Release”."}]
["7.E.03","Dashboards",{"$f":"C233","v":"Functional"},"Canned Dashboards","Should Have","Please list your solution's ability to provide a library of canned dashboards that can be tailored for individual use.",null,"Cannot Meet",{"$f":"IFERROR(VLOOKUP(H234,VendorResponseLookupTbl[], 2,0), \"\")","v":" The product cannot meet the requirement “Out-of-the-Box”, “With Configuration”, “With Custom Programming” or with a “Future Release”."}]
["7.E.04","Dashboards",{"$f":"C234","v":"Functional"},"Library of Dashboards","Should Have","Please list your solution's ability to store a library of dashboards that can be created by one person and then used by others.",null,"Cannot Meet",{"$f":"IFERROR(VLOOKUP(H235,VendorResponseLookupTbl[], 2,0), \"\")","v":" The product cannot meet the requirement “Out-of-the-Box”, “With Configuration”, “With Custom Programming” or with a “Future Release”."}]
["7.E.05","Dashboards",{"$f":"C235","v":"Functional"},"Tailoring Dashboards","Should Have","Please list your solution's ability to  tailor a dashboard selected from the library of dashboards.",null,"Cannot Meet",{"$f":"IFERROR(VLOOKUP(H236,VendorResponseLookupTbl[], 2,0), \"\")","v":" The product cannot meet the requirement “Out-of-the-Box”, “With Configuration”, “With Custom Programming” or with a “Future Release”."}]
["7.E.06","Dashboards",{"$f":"C236","v":"Functional"},"Drill Downs","Should Have","Please list your solution's ability to  support drill down functionality from the dashboard.",null,"Cannot Meet",{"$f":"IFERROR(VLOOKUP(H237,VendorResponseLookupTbl[], 2,0), \"\")","v":" The product cannot meet the requirement “Out-of-the-Box”, “With Configuration”, “With Custom Programming” or with a “Future Release”."}]
["7.E.07",{"$f":"B237","v":"Dashboards"},{"$f":"C237","v":"Functional"},"Identifying Types","Should Have","Please list your solution's ability for each user to identify what type of incidents/variables are part of the dashboard.",null,"Cannot Meet",{"$f":"IFERROR(VLOOKUP(H238,VendorResponseLookupTbl[], 2,0), \"\")","v":" The product cannot meet the requirement “Out-of-the-Box”, “With Configuration”, “With Custom Programming” or with a “Future Release”."}]
["7.E.08","Dashboards","Functional","Incorporating Features","Should Have","Please list your solution's ability for dashboards to incorporate the following features:\n\na) Bar graphs\nb) Mapping\nc) Summary tools\nd) Comparative analysis (e.g., changes over time)",null,"Cannot Meet",{"$f":"IFERROR(VLOOKUP(H239,VendorResponseLookupTbl[], 2,0), \"\")","v":" The product cannot meet the requirement “Out-of-the-Box”, “With Configuration”, “With Custom Programming” or with a “Future Release”."}]
["7.E.09","Dashboards","Functional","Real-time Updates","Should Have","Please list your solution's ability for dashboards to update in real-time.",null,"Cannot Meet",{"$f":"IFERROR(VLOOKUP(H240,VendorResponseLookupTbl[], 2,0), \"\")","v":" The product cannot meet the requirement “Out-of-the-Box”, “With Configuration”, “With Custom Programming” or with a “Future Release”."}]
["7.E.10","Dashboards","Functional","Forecasting","Should Have","Please list your solution's ability  for dashboards to provide forecasting/trends analysis.",null,"Cannot Meet",{"$f":"IFERROR(VLOOKUP(H241,VendorResponseLookupTbl[], 2,0), \"\")","v":" The product cannot meet the requirement “Out-of-the-Box”, “With Configuration”, “With Custom Programming” or with a “Future Release”."}]

{"sheet":"RMS","index":1,"n_rows":678,"n_cols":10,"rows_kept":678,"cut":false,"hidden":false,"merged":[[8,0,8,9],[0,0,0,9],[1,0,1,9],[2,0,2,9],[4,0,4,3],[4,4,4,9],[6,0,6,3],[6,4,6,9]]}
["RFP # 101-26"]
["RMS AND CAD SOFTWARE REPLACEMENT WITH PROFESSIONAL SERVICES FOR IMPLEMENTATION"]
["Appendix No. 1 - Requirements Traceability Matrix (RTM)"]
[]
["Proposing Vendor Name:",null,null,null,"VENDOR NAME"]
[]
["Proposing Vendor Contact Name:",null,null,null,"VENDOR CONTACT NAME"]
[]
["Notes to Proposing Vendors:\n1) Column G is an open text field for you to list what product/module of your solution is providing the service to cover the listed requirement.  \n2) Column H is a set of drop down fields for you to select from a set of pre-defined abilities.  Please select your response and do NOT change the formatting.  Column I will change automatically based upon your selection from column H.\n3) Column J is an open text field for your firm to provide a BRIEF explanation to how the proposed product matches your Requirement Compliance response."]
["Req. ID","Requirement Category","Requirement Type","General Requirement Description","MoSCoW Value","Request for Information","Vendor Proposed Product/Module","Requirement Compliance","Requirement Definition","Vendor Explanation"]
["1.A","Master Indices"]
["1.A.00","General Master Index"]
["1.A.01",{"$f":"B12","v":"General Master Index"},"Functional","General Hierarchy","Must Have","Please list your solution's ability to Maintain the following master indices:\n\na) People\nb) Locations\nc) Property\nd) Vehicles\ne) Organizations",null,"Cannot Meet",{"$f":"IFERROR(VLOOKUP(H13,VendorResponseLookupTbl[], 2,0), \"\")","v":" The product cannot meet the requirement “Out-of-the-Box”, “With Configuration”, “With Custom Programming” or with a “Future Release”."}]
["1.A.02",{"$f":"B13","v":"General Master Index"},{"$f":"C13","v":"Functional"},"Information Updating","Must Have","Please list your solution's ability to update master indices with information entered into other RMS modules that include, but are not limited to:\n\na) Incident Reporting\nb) Accident Reporting\nc) Citations\nd) Towed Vehicles\ne) Booking and Arrest\nf) Field Interviews\ng) Sex Offender Registration",null,"Cannot Meet",{"$f":"IFERROR(VLOOKUP(H14,VendorResponseLookupTbl[], 2,0), \"\")","v":" The product cannot meet the requirement “Out-of-the-Box”, “With Configuration”, “With Custom Programming” or with a “Future Release”."}]
["1.A.03","General Master Index","Functional","Reuse of Information","Must Have","Please list your solution's ability to reuse/recall previously stored information.",null,"Cannot Meet",{"$f":"IFERROR(VLOOKUP(H15,VendorResponseLookupTbl[], 2,0), \"\")","v":" The product cannot meet the requirement “Out-of-the-Box”, “With Configuration”, “With Custom Programming” or with a “Future Release”."}]
["1.A.04","General Master Index","Functional","Agency Determination on Information Population","Must Have","Please list your solution's capability to allow an Agency to self-determine what information can be auto-populated with new data entries.",null,"Cannot Meet",{"$f":"IFERROR(VLOOKUP(H16,VendorResponseLookupTbl[], 2,0), \"\")","v":" The product cannot meet the requirement “Out-of-the-Box”, “With Configuration”, “With Custom Programming” or with a “Future Release”."}]
["1.A.05","General Master Index","Functional","Historical Information Maintenance","Must Have","Please list your solution's ability to maintain historical information upon entry of updated information into a master record.",null,"Cannot Meet",{"$f":"IFERROR(VLOOKUP(H17,VendorResponseLookupTbl[], 2,0), \"\")","v":" The product cannot meet the requirement “Out-of-the-Box”, “With Configuration”, “With Custom Programming” or with a “Future Release”."}]
["1.A.06","General Master Index","Functional","Master Record Search","Must Have","Please list your solution's capability to allow a User entering a new master record the option to determine if there is an existing master record match.",null,"Cannot Meet",{"$f":"IFERROR(VLOOKUP(H18,VendorResponseLookupTbl[], 2,0), \"\")","v":" The product cannot meet the requirement “Out-of-the-Box”, “With Configuration”, “With Custom Programming” or with a “Future Release”."}]
["1.A.07","General Master Index","Functional","Information Linking","Must Have","Please list your solution's ability to support linkages among any information, including but not limited to:\n\na) People to people\nb) People to locations\nc) People to property\nd) People to vehicles\ne) People to organizations\nf) Locations to property\ng) Locations to vehicles\nh) Locations to organizations\ni) Property to vehicles\nj) Property to organizations\nk) Vehicles to organizations\nl) Organizations to organizations",null,"Cannot Meet",{"$f":"IFERROR(VLOOKUP(H19,VendorResponseLookupTbl[], 2,0), \"\")","v":" The product cannot meet the requirement “Out-of-the-Box”, “With Configuration”, “With Custom Programming” or with a “Future Release”."}]
["1.B.00","Master Name Index"]
["1.B.01",{"$f":"B20","v":"Master Name Index"},"Functional","Individual Record Linkage","Must Have","Please list your solution's capability to link an individual master name record to every event in which the individual is involved or associated",null,"Cannot Meet",{"$f":"IFERROR(VLOOKUP(H21,VendorResponseLookupTbl[], 2,0), \"\")","v":" The product cannot meet the requirement “Out-of-the-Box”, “With Configuration”, “With Custom Programming” or with a “Future Release”."}]
["1.B.02",{"$f":"B21","v":"Master Name Index"},"Functional","Master Record\nLinking a Person","Must Have","Please list your solution's ability to create a master name record to every person associated with an event.",null,"Cannot Meet",{"$f":"IFERROR(VLOOKUP(H22,VendorResponseLookupTbl[], 2,0), \"\")","v":" The product cannot meet the requirement “Out-of-the-Box”, “With Configuration”, “With Custom Programming” or with a “Future Release”."}]
["1.B.03","Master Name Index","Functional","Master Record\nLinking an Event","Must Have","Please list your solution's ability to link a new event to an existing master name record if the person is involved in the new event.",null,"Cannot Meet",{"$f":"IFERROR(VLOOKUP(H23,VendorResponseLookupTbl[], 2,0), \"\")","v":" The product cannot meet the requirement “Out-of-the-Box”, “With Configuration”, “With Custom Programming” or with a “Future Release”."}]
["1.B.04","Master Name Index","Functional","Master Record\nCreation","Must Have","Please list your solution's ability to create a master record that includes, but is not limited to:\n\na) Hyphenated Names\nb) Names with apostrophes (e.g., O'Malley)\nc) Single names",null,"Cannot Meet",{"$f":"IFERROR(VLOOKUP(H24,VendorResponseLookupTbl[], 2,0), \"\")","v":" The product cannot meet the requirement “Out-of-the-Box”, “With Configuration”, “With Custom Programming” or with a “Future Release”."}]
["1.B.05","Master Name Index","Functional","Master Record\nLinking an Alias","Must Have","Please list your solution's ability to link alias names to an individual master name record.",null,"Cannot Meet",{"$f":"IFERROR(VLOOKUP(H25,VendorResponseLookupTbl[], 2,0), \"\")","v":" The product cannot meet the requirement “Out-of-the-Box”, “With Configuration”, “With Custom Programming” or with a “Future Release”."}]
["1.B.06","Master Name Index","Functional","Master Record\nLinking Monikers","Must Have","Please list your solution's ability to link monikers to an individual master name record.",null,"Cannot Meet",{"$f":"IFERROR(VLOOKUP(H26,VendorResponseLookupTbl[], 2,0), \"\")","v":" The product cannot meet the requirement “Out-of-the-Box”, “With Configuration”, “With Custom Programming” or with a “Future Release”."}]
["1.B.07","Master Name Index","Functional","Capturing Social Media","Should Have","Please list your solution's ability to capture multiple social media user names, including but not limited to:\n\na) User Name\nb) Application",null,"Cannot Meet",{"$f":"IFERROR(VLOOKUP(H27,VendorResponseLookupTbl[], 2,0), \"\")","v":" The product cannot meet the requirement “Out-of-the-Box”, “With Configuration”, “With Custom Programming” or with a “Future Release”."}]
["1.B.08","Master Name Index","Functional","Synopsis of an Individual","Must Have","Please list your solution's ability to produce a synopsis of all Police RMS records associated with an individual.",null,"Cannot Meet",{"$f":"IFERROR(VLOOKUP(H28,VendorResponseLookupTbl[], 2,0), \"\")","v":" The product cannot meet the requirement “Out-of-the-Box”, “With Configuration”, “With Custom Programming” or with a “Future Release”."}]
["1.B.09","Master Name Index","Functional","Viewing a Related Query Records","Must Have","Please list your solution's ability for a User to view all related records when querying an individual MNI record.",null,"Cannot Meet",{"$f":"IFERROR(VLOOKUP(H29,VendorResponseLookupTbl[], 2,0), \"\")","v":" The product cannot meet the requirement “Out-of-the-Box”, “With Configuration”, “With Custom Programming” or with a “Future Release”."}]
["1.B.10","Master Name Index","Functional","Master Record\nDedicated Fields","Must Have","Please list your solution's ability to provided dedicated fields to capture, at a minimum, the following information in the master name index:\n\na) Current physical characteristics and descriptors\nb) Past physical characteristics and descriptors\nc) Gender\nd) Race\ne) Ethnicity\nf) Birth date and place of birth\ng) Death date\nh) Last known location\ni) History of past residences\ni) Employer information\nj) School information\nk) Multiple telephone numbers\nl) Social media accounts\nm) Known associates\nn) Alias names/monikers\no) Mug shots\np) Photographs\nq) Multiple scars, marks, tattoos, piercings and brandings\nr) Modus operandi\ns) Multiple types of identification numbers\nt) NCIC fingerprint classification\nu) Parent or guardian information",null,"Cannot Meet",{"$f":"IFERROR(VLOOKUP(H30,VendorResponseLookupTbl[], 2,0), \"\")","v":" The product cannot meet the requirement “Out-of-the-Box”, “With Configuration”, “With Custom Programming” or with a “Future Release”."}]
["1.B.11","Master Name Index","Functional","Parent/Guardian Information","Must Have","Please list your solution's ability for parent or guardian information to be mandatory if subject is a juvenile.",null,"Cannot Meet",{"$f":"IFERROR(VLOOKUP(H31,VendorResponseLookupTbl[], 2,0), \"\")","v":" The product cannot meet the requirement “Out-of-the-Box”, “With Configuration”, “With Custom Programming” or with a “Future Release”."}]
["1.B.12","Master Name Index","Functional","Birth Date Calculation","Must Have","Please list your solution's capability to calculate age from a birth date.",null,"Cannot Meet",{"$f":"IFERROR(VLOOKUP(H32,VendorResponseLookupTbl[], 2,0), \"\")","v":" The product cannot meet the requirement “Out-of-the-Box”, “With Configuration”, “With Custom Programming” or with a “Future Release”."}]
["1.B.13","Master Name Index","Functional","Death Date","Must Have","Please list your solution's ability for age to remain stable upon entry of a death date (stop calculated based on year and maintain age as of age of death)",null,"Cannot Meet",{"$f":"IFERROR(VLOOKUP(H33,VendorResponseLookupTbl[], 2,0), \"\")","v":" The product cannot meet the requirement “Out-of-the-Box”, “With Configuration”, “With Custom Programming” or with a “Future Release”."}]
["1.B.14","Master Name Index","Functional","Indicating a Juvenile","Must Have","Please list your solution's capability to indicate a juvenile record based on birthdate.",null,"Cannot Meet",{"$f":"IFERROR(VLOOKUP(H34,VendorResponseLookupTbl[], 2,0), \"\")","v":" The product cannot meet the requirement “Out-of-the-Box”, “With Configuration”, “With Custom Programming” or with a “Future Release”."}]
["1.B.15","Master Name Index","Functional","Updates to MNI","Must Have","Please list your solution's ability to update MNI information while maintaining historical information.",null,"Cannot Meet",{"$f":"IFERROR(VLOOKUP(H35,VendorResponseLookupTbl[], 2,0), \"\")","v":" The product cannot meet the requirement “Out-of-the-Box”, “With Configuration”, “With Custom Programming” or with a “Future Release”."}]
["1.B.16","Master Name Index","Functional","Verification Prior to Auto population","Must Have","Please list your solution's capability to require verification of demographic information before accepting auto population of fields if the previous entry for the subject was made more than a customer-defined number of years before the current entry.",null,"Cannot Meet",{"$f":"IFERROR(VLOOKUP(H36,VendorResponseLookupTbl[], 2,0), \"\")","v":" The product cannot meet the requirement “Out-of-the-Box”, “With Configuration”, “With Custom Programming” or with a “Future Release”."}]
["1.B.17","Master Name Index","Functional","Photograph Display","Must Have","Please list your solution's ability to display the most recent photograph when displaying a master name record.",null,"Cannot Meet",{"$f":"IFERROR(VLOOKUP(H37,VendorResponseLookupTbl[], 2,0), \"\")","v":" The product cannot meet the requirement “Out-of-the-Box”, “With Configuration”, “With Custom Programming” or with a “Future Release”."}]
["1.B.18","Master Name Index","Functional","Alias Identifiers","Must Have","Please list your solution's ability to associate alias identifiers with a master name record that includes, but is not limited to:\n\na) Alias names\nb) Monikers\nc) Date of birth\nd) Social security number\ne) Driver's license number\nf) Passport number",null,"Cannot Meet",{"$f":"IFERROR(VLOOKUP(H38,VendorResponseLookupTbl[], 2,0), \"\")","v":" The product cannot meet the requirement “Out-of-the-Box”, “With Configuration”, “With Custom Programming” or with a “Future Release”."}]
["1.B.19","Master Name Index","Functional","Unverified Records","Must Have","Please list your solution's ability to distinguish verified name records from unverified name records.",null,"Cannot Meet",{"$f":"IFERROR(VLOOKUP(H39,VendorResponseLookupTbl[], 2,0), \"\")","v":" The product cannot meet the requirement “Out-of-the-Box”, “With Configuration”, “With Custom Programming” or with a “Future Release”."}]
["1.B.20","Master Name Index","Functional","Cross-reference Alias'","Must Have","Please list your solution's capability to link master name records as associates when a person uses another person's name as an alias.",null,"Cannot Meet",{"$f":"IFERROR(VLOOKUP(H40,VendorResponseLookupTbl[], 2,0), \"\")","v":" The product cannot meet the requirement “Out-of-the-Box”, “With Configuration”, “With Custom Programming” or with a “Future Release”."}]
["1.B.21","Master Name Index","Functional","Differentiate Aliases","Must Have","Please list your solution's capability to differentiate and display first known name from all aliases associated with an individual.",null,"Cannot Meet",{"$f":"IFERROR(VLOOKUP(H41,VendorResponseLookupTbl[], 2,0), \"\")","v":" The product cannot meet the requirement “Out-of-the-Box”, “With Configuration”, “With Custom Programming” or with a “Future Release”."}]
["1.B.22","Master Name Index","Functional","Duplicate Names","Must Have","Please list your solution's capability to automatically look for potential duplicate names when a record or report is added to the RMS.",null,"Cannot Meet",{"$f":"IFERROR(VLOOKUP(H42,VendorResponseLookupTbl[], 2,0), \"\")","v":" The product cannot meet the requirement “Out-of-the-Box”, “With Configuration”, “With Custom Programming” or with a “Future Release”."}]
["1.B.23","Master Name Index","Functional","Duplicate Names\nAgency Defined Rules","Must Have","Please list your solution's ability to define the rules for identifying potential duplicate names.",null,"Cannot Meet",{"$f":"IFERROR(VLOOKUP(H43,VendorResponseLookupTbl[], 2,0), \"\")","v":" The product cannot meet the requirement “Out-of-the-Box”, “With Configuration”, “With Custom Programming” or with a “Future Release”."}]
["1.B.24","Master Name Index","Functional","Address Updates","Must Have","Please list your solution's capability for a User to update an address for a subject and maintain historical addresses.",null,"Cannot Meet",{"$f":"IFERROR(VLOOKUP(H44,VendorResponseLookupTbl[], 2,0), \"\")","v":" The product cannot meet the requirement “Out-of-the-Box”, “With Configuration”, “With Custom Programming” or with a “Future Release”."}]
["1.B.25","Master Name Index","Functional","Historical Addresses","Must Have","Please list your solution's ability to update a new/existing address for a subject without changing the subject's address on previous reports and records.",null,"Cannot Meet",{"$f":"IFERROR(VLOOKUP(H45,VendorResponseLookupTbl[], 2,0), \"\")","v":" The product cannot meet the requirement “Out-of-the-Box”, “With Configuration”, “With Custom Programming” or with a “Future Release”."}]
["1.B.26","Master Name Index","Functional","Partial Match Auto population","Must Have","Please list your solution's ability to provide user entering data into a name field with a list of potential existing master name records based on a variety of criteria, including:\n\na) Exact spelling\nb) Partial name\nc) Sound-alike searching\nd) Phonetic replacement\ne) Diminutive first names\nf) Social security number\ng) Driver's license number",null,"Cannot Meet",{"$f":"IFERROR(VLOOKUP(H46,VendorResponseLookupTbl[], 2,0), \"\")","v":" The product cannot meet the requirement “Out-of-the-Box”, “With Configuration”, “With Custom Programming” or with a “Future Release”."}]
["1.B.27",{"$f":"B46","v":"Master Name Index"},{"$f":"C46","v":"Functional"},"Search Results\nPunctuation","Must Have","Please list your solution's ability to prevent punctuation (e.g.,, dashes, periods, parenthesis or spaces) from impacting search results.",null,"Cannot Meet",{"$f":"IFERROR(VLOOKUP(H47,VendorResponseLookupTbl[], 2,0), \"\")","v":" The product cannot meet the requirement “Out-of-the-Box”, “With Configuration”, “With Custom Programming” or with a “Future Release”."}]
["1.B.28","Master Name Index","Functional","User Defined Linkage","Must Have","Please list your solution's capability for a User to decide whether to link information to an existing master name record or add a new master name record.",null,"Cannot Meet",{"$f":"IFERROR(VLOOKUP(H48,VendorResponseLookupTbl[], 2,0), \"\")","v":" The product cannot meet the requirement “Out-of-the-Box”, “With Configuration”, “With Custom Programming” or with a “Future Release”."}]
["1.B.29","Master Name Index","Functional","Link MNI","Must Have","Please list your solution's ability to link MNI records.",null,"Cannot Meet",{"$f":"IFERROR(VLOOKUP(H49,VendorResponseLookupTbl[], 2,0), \"\")","v":" The product cannot meet the requirement “Out-of-the-Box”, “With Configuration”, “With Custom Programming” or with a “Future Release”."}]
["1.B.30","Master Name Index","Functional","Unlink MNI","Must Have","Please list your solution's ability to unlink MNI records.",null,"Cannot Meet",{"$f":"IFERROR(VLOOKUP(H50,VendorResponseLookupTbl[], 2,0), \"\")","v":" The product cannot meet the requirement “Out-of-the-Box”, “With Configuration”, “With Custom Programming” or with a “Future Release”."}]
["1.B.31","Master Name Index","Functional","Re-linking MNI","Must Have","Please list your solution's ability to unlink a record or report from one MNI record and re-link it to another MNI record",null,"Cannot Meet",{"$f":"IFERROR(VLOOKUP(H51,VendorResponseLookupTbl[], 2,0), \"\")","v":" The product cannot meet the requirement “Out-of-the-Box”, “With Configuration”, “With Custom Programming” or with a “Future Release”."}]
["1.B.32",{"$f":"B51","v":"Master Name Index"},{"$f":"C51","v":"Functional"},"MNI Records\nCanned Reports","Must Have","Please list your solution's ability to generate a canned report displaying all added and linked MNI records for a user-defined period of time.",null,"Cannot Meet",{"$f":"IFERROR(VLOOKUP(H52,VendorResponseLookupTbl[], 2,0), \"\")","v":" The product cannot meet the requirement “Out-of-the-Box”, “With Configuration”, “With Custom Programming” or with a “Future Release”."}]
["1.B.33","Master Name Index","Functional","Duplicate Names\nCanned Report","Must Have","Please list your solution's ability to identify potential duplicate name entries either via a flag or by running a canned report.",null,"Cannot Meet",{"$f":"IFERROR(VLOOKUP(H53,VendorResponseLookupTbl[], 2,0), \"\")","v":" The product cannot meet the requirement “Out-of-the-Box”, “With Configuration”, “With Custom Programming” or with a “Future Release”."}]
["1.B.34","Master Name Index","Functional","Merging MNI ","Must Have","Please list your solution's ability to merge two or more MNI records into one MNI record.",null,"Cannot Meet",{"$f":"IFERROR(VLOOKUP(H54,VendorResponseLookupTbl[], 2,0), \"\")","v":" The product cannot meet the requirement “Out-of-the-Box”, “With Configuration”, “With Custom Programming” or with a “Future Release”."}]
["1.B.35","Master Name Index","Functional","MNI Attachments","Must Have","Please list your solution's capability for all attachments and forms to merge when two MNI records are merged into one MNI record.",null,"Cannot Meet",{"$f":"IFERROR(VLOOKUP(H55,VendorResponseLookupTbl[], 2,0), \"\")","v":" The product cannot meet the requirement “Out-of-the-Box”, “With Configuration”, “With Custom Programming” or with a “Future Release”."}]
["1.B.36","Master Name Index","Functional","Error Message","Must Have","Please list your solution's ability to proved a plain English error message if any issues occur during an attempted merge.",null,"Cannot Meet",{"$f":"IFERROR(VLOOKUP(H56,VendorResponseLookupTbl[], 2,0), \"\")","v":" The product cannot meet the requirement “Out-of-the-Box”, “With Configuration”, “With Custom Programming” or with a “Future Release”."}]
["1.B.37","Master Name Index","Functional","Unmerge MNI","Must Have","Please list your solution's ability to unmerge previously merged MNI records (e.g., if merged erroneously).",null,"Cannot Meet",{"$f":"IFERROR(VLOOKUP(H57,VendorResponseLookupTbl[], 2,0), \"\")","v":" The product cannot meet the requirement “Out-of-the-Box”, “With Configuration”, “With Custom Programming” or with a “Future Release”."}]
["1.C.00","Master Vehicle Index"]
["1.C.01",{"$f":"B58","v":"Master Vehicle Index"},"Functional","Vehicle Records with Events","Must Have","Please list your solution's ability to  link a vehicle record to every event in which a vehicle is involved or associated.",null,"Cannot Meet",{"$f":"IFERROR(VLOOKUP(H59,VendorResponseLookupTbl[], 2,0), \"\")","v":" The product cannot meet the requirement “Out-of-the-Box”, “With Configuration”, “With Custom Programming” or with a “Future Release”."}]
["1.C.02",{"$f":"B59","v":"Master Vehicle Index"},{"$f":"C59","v":"Functional"},"Master Vehicle Records","Must Have","Please list your solution's ability to give a master vehicle record to every vehicle associated with an event.",null,"Cannot Meet",{"$f":"IFERROR(VLOOKUP(H60,VendorResponseLookupTbl[], 2,0), \"\")","v":" The product cannot meet the requirement “Out-of-the-Box”, “With Configuration”, “With Custom Programming” or with a “Future Release”."}]
["1.C.03","Master Vehicle Index","Functional","New Vehicle Events","Must Have","Please list your solution's ability to link a new event to an existing master vehicle record if the vehicle is involved in the new event.",null,"Cannot Meet",{"$f":"IFERROR(VLOOKUP(H61,VendorResponseLookupTbl[], 2,0), \"\")","v":" The product cannot meet the requirement “Out-of-the-Box”, “With Configuration”, “With Custom Programming” or with a “Future Release”."}]
["1.C.04","Master Vehicle Index","Functional","Capturing Vehicle Information","Must Have","Please list your solution's capability to capture, at a minimum, the following information in the master vehicle index:\n\na) Vehicle identification number\nb) License plate number\nc) License plate state\nd) License plate year\ne) Registered owner\nf) Description of the vehicle",null,"Cannot Meet",{"$f":"IFERROR(VLOOKUP(H62,VendorResponseLookupTbl[], 2,0), \"\")","v":" The product cannot meet the requirement “Out-of-the-Box”, “With Configuration”, “With Custom Programming” or with a “Future Release”."}]
["1.C.05","Master Vehicle Index","Functional","Multiple Owners","Must Have","Please list your solution's ability to associate multiple owners with one vehicle.",null,"Cannot Meet",{"$f":"IFERROR(VLOOKUP(H63,VendorResponseLookupTbl[], 2,0), \"\")","v":" The product cannot meet the requirement “Out-of-the-Box”, “With Configuration”, “With Custom Programming” or with a “Future Release”."}]
["1.C.06","Master Vehicle Index","Functional","Previous Owners","Must Have","Please list your solution's capability to track previous vehicle owners.",null,"Cannot Meet",{"$f":"IFERROR(VLOOKUP(H64,VendorResponseLookupTbl[], 2,0), \"\")","v":" The product cannot meet the requirement “Out-of-the-Box”, “With Configuration”, “With Custom Programming” or with a “Future Release”."}]
["1.C.07","Master Vehicle Index","Functional","Produce RMS Events","Must Have","Please list your solution's capability to produce all RMS events associated with a vehicle.",null,"Cannot Meet",{"$f":"IFERROR(VLOOKUP(H65,VendorResponseLookupTbl[], 2,0), \"\")","v":" The product cannot meet the requirement “Out-of-the-Box”, “With Configuration”, “With Custom Programming” or with a “Future Release”."}]
["1.C.08","Master Vehicle Index","Functional","User Defined Linkage","Must Have","Please list your solution's ability for a User to decide whether to link information to an existing master vehicle record or add a new master vehicle record.",null,"Cannot Meet",{"$f":"IFERROR(VLOOKUP(H66,VendorResponseLookupTbl[], 2,0), \"\")","v":" The product cannot meet the requirement “Out-of-the-Box”, “With Configuration”, “With Custom Programming” or with a “Future Release”."}]
["1.C.09","Master Vehicle Index","Functional","VIN Validation","Should Have","Please list your solution's capability to validate VIN against the year, make and model entered into the vehicle description fields.",null,"Cannot Meet",{"$f":"IFERROR(VLOOKUP(H67,VendorResponseLookupTbl[], 2,0), \"\")","v":" The product cannot meet the requirement “Out-of-the-Box”, “With Configuration”, “With Custom Programming” or with a “Future Release”."}]
["1.C.10","Master Vehicle Index","Functional","Linking MVI","Must Have","Please list your solution's ability to link MVI records.",null,"Cannot Meet",{"$f":"IFERROR(VLOOKUP(H68,VendorResponseLookupTbl[], 2,0), \"\")","v":" The product cannot meet the requirement “Out-of-the-Box”, “With Configuration”, “With Custom Programming” or with a “Future Release”."}]
["1.C.11","Master Vehicle Index","Functional","Unlinking MVI","Must Have","Please list your solution's ability to unlink MVI records.",null,"Cannot Meet",{"$f":"IFERROR(VLOOKUP(H69,VendorResponseLookupTbl[], 2,0), \"\")","v":" The product cannot meet the requirement “Out-of-the-Box”, “With Configuration”, “With Custom Programming” or with a “Future Release”."}]
["1.C.12","Master Vehicle Index","Functional","Re-Linking MVI","Must Have","Please list your solution's ability to unlink a record or report from one MVI record and re-link it to another MVI record.",null,"Cannot Meet",{"$f":"IFERROR(VLOOKUP(H70,VendorResponseLookupTbl[], 2,0), \"\")","v":" The product cannot meet the requirement “Out-of-the-Box”, “With Configuration”, “With Custom Programming” or with a “Future Release”."}]
["1.C.13","Master Vehicle Index","Functional","MVI Canned Reports","Must Have","Please list your solution's ability to generate a canned report displaying all added and linked MVI records for a user-defined period of time.",null,"Cannot Meet",{"$f":"IFERROR(VLOOKUP(H71,VendorResponseLookupTbl[], 2,0), \"\")","v":" The product cannot meet the requirement “Out-of-the-Box”, “With Configuration”, “With Custom Programming” or with a “Future Release”."}]
["1.C.14","Master Vehicle Index","Functional","Duplicate Entries","Must Have","Please list your solution's ability to identify potential duplicate vehicle entries either via a flag or by running a canned report.",null,"Cannot Meet",{"$f":"IFERROR(VLOOKUP(H72,VendorResponseLookupTbl[], 2,0), \"\")","v":" The product cannot meet the requirement “Out-of-the-Box”, “With Configuration”, “With Custom Programming” or with a “Future Release”."}]
["1.C.15","Master Vehicle Index","Functional","Merging MVI Records","Must Have","Please list your solution's capability to merge two or more MVI records into one MVI record.",null,"Cannot Meet",{"$f":"IFERROR(VLOOKUP(H73,VendorResponseLookupTbl[], 2,0), \"\")","v":" The product cannot meet the requirement “Out-of-the-Box”, “With Configuration”, “With Custom Programming” or with a “Future Release”."}]
["1.C.16","Master Vehicle Index","Functional","Merging Correction","Must Have","Please list your solution's ability to unmerge previously merged MVI records (e.g., if merged erroneously).",null,"Cannot Meet",{"$f":"IFERROR(VLOOKUP(H74,VendorResponseLookupTbl[], 2,0), \"\")","v":" The product cannot meet the requirement “Out-of-the-Box”, “With Configuration”, “With Custom Programming” or with a “Future Release”."}]
["1.D.00","Master Property Index"]
["1.D.01",{"$f":"B75","v":"Master Property Index"},"Functional","Evidence vs. Property","Must Have","Please list your solution's ability to distinguish between property and evidence.",null,"Cannot Meet",{"$f":"IFERROR(VLOOKUP(H76,VendorResponseLookupTbl[], 2,0), \"\")","v":" The product cannot meet the requirement “Out-of-the-Box”, “With Configuration”, “With Custom Programming” or with a “Future Release”."}]
["1.D.02","Master Property Index",{"$f":"C76","v":"Functional"},"Evidence vs. Property\nRule Assignment","Must Have","Please list your solution's ability to assign different rules (e.g. mandatory fields) for property versus evidence.",null,"Cannot Meet",{"$f":"IFERROR(VLOOKUP(H77,VendorResponseLookupTbl[], 2,0), \"\")","v":" The product cannot meet the requirement “Out-of-the-Box”, “With Configuration”, “With Custom Programming” or with a “Future Release”."}]
["1.D.03","Master Property Index","Functional","In/Out of Custody","Must Have","Please list your solution's ability to distinguish between property that is in custody and property that is not in custody.",null,"Cannot Meet",{"$f":"IFERROR(VLOOKUP(H78,VendorResponseLookupTbl[], 2,0), \"\")","v":" The product cannot meet the requirement “Out-of-the-Box”, “With Configuration”, “With Custom Programming” or with a “Future Release”."}]
["1.D.04","Master Property Index","Functional","Property Records\nLinking","Must Have","Please list your solution's ability to link a property record to every incident/report in which the property is involved or associated.",null,"Cannot Meet",{"$f":"IFERROR(VLOOKUP(H79,VendorResponseLookupTbl[], 2,0), \"\")","v":" The product cannot meet the requirement “Out-of-the-Box”, “With Configuration”, “With Custom Programming” or with a “Future Release”."}]
["1.D.05","Master Property Index","Functional","Property Records\nMaster Record","Must Have","Please list your solution's ability to give a master property record to every piece of property associated with an event.",null,"Cannot Meet",{"$f":"IFERROR(VLOOKUP(H80,VendorResponseLookupTbl[], 2,0), \"\")","v":" The product cannot meet the requirement “Out-of-the-Box”, “With Configuration”, “With Custom Programming” or with a “Future Release”."}]
["1.D.06","Master Property Index","Functional","Master Property Cataloguing","Must Have","Please list your solution's ability to catalogue at a minimum, the following information in the master property index, including but not limited to:\n\na) NCIC Property code\nb) Make\nc) Model\nd) Brand name\ne) Description\nf) Distinguishing characteristics\ng) Serial number",null,"Cannot Meet",{"$f":"IFERROR(VLOOKUP(H81,VendorResponseLookupTbl[], 2,0), \"\")","v":" The product cannot meet the requirement “Out-of-the-Box”, “With Configuration”, “With Custom Programming” or with a “Future Release”."}]
["1.D.07","Master Property Index","Functional","Cross-referencing MPI","Must Have","Please list your solution's ability to automatically cross-reference the MPI when property is entered into an event in order to find potential matches.",null,"Cannot Meet",{"$f":"IFERROR(VLOOKUP(H82,VendorResponseLookupTbl[], 2,0), \"\")","v":" The product cannot meet the requirement “Out-of-the-Box”, “With Configuration”, “With Custom Programming” or with a “Future Release”."}]
["1.E.00","Master Location Index"]
["1.E.01",{"$f":"B83","v":"Master Location Index"},"Functional","Latitude and Longitude","Must Have","Please list your solution's ability to accommodate latitude and longitude coordinates.",null,"Cannot Meet",{"$f":"IFERROR(VLOOKUP(H84,VendorResponseLookupTbl[], 2,0), \"\")","v":" The product cannot meet the requirement “Out-of-the-Box”, “With Configuration”, “With Custom Programming” or with a “Future Release”."}]
["1.E.02","Master Location Index",{"$f":"C84","v":"Functional"},"Storing Premise Information","Must Have","Please list your solution's ability to store premise information for a specific address or group of addresses (e.g., high rise building, apartment complex).",null,"Cannot Meet",{"$f":"IFERROR(VLOOKUP(H85,VendorResponseLookupTbl[], 2,0), \"\")","v":" The product cannot meet the requirement “Out-of-the-Box”, “With Configuration”, “With Custom Programming” or with a “Future Release”."}]
["1.E.03","Master Location Index",{"$f":"C85","v":"Functional"},"Linking Locations to Events","Must Have","Please list your solution's capability to link a location record to every event in which the location is involved or associated.",null,"Cannot Meet",{"$f":"IFERROR(VLOOKUP(H86,VendorResponseLookupTbl[], 2,0), \"\")","v":" The product cannot meet the requirement “Out-of-the-Box”, “With Configuration”, “With Custom Programming” or with a “Future Release”."}]
["1.E.04","Master Location Index",{"$f":"C86","v":"Functional"},"Master Location Record\nEvent Specific","Must Have","Please list your solution's ability to give a master location record to every location associated with an event.",null,"Cannot Meet",{"$f":"IFERROR(VLOOKUP(H87,VendorResponseLookupTbl[], 2,0), \"\")","v":" The product cannot meet the requirement “Out-of-the-Box”, “With Configuration”, “With Custom Programming” or with a “Future Release”."}]
["1.E.05","Master Location Index",{"$f":"C87","v":"Functional"},"Master Location Record\nNew Event","Must Have","Please list your solution's ability to link a new event to an existing master location record if the location is involved in the new event.",null,"Cannot Meet",{"$f":"IFERROR(VLOOKUP(H88,VendorResponseLookupTbl[], 2,0), \"\")","v":" The product cannot meet the requirement “Out-of-the-Box”, “With Configuration”, “With Custom Programming” or with a “Future Release”."}]
["1.E.06","Master Location Index",{"$f":"C88","v":"Functional"},"Non-Street Address","Must Have","Please list your solution's capability to link a new event to an existing master location record if the location is involved in the new event.",null,"Cannot Meet",{"$f":"IFERROR(VLOOKUP(H89,VendorResponseLookupTbl[], 2,0), \"\")","v":" The product cannot meet the requirement “Out-of-the-Box”, “With Configuration”, “With Custom Programming” or with a “Future Release”."}]
["1.E.07","Master Location Index","Functional","Data Aggregation","Must Have","Please list your solution's ability to aggregate information throughout the proposed RMS based on, at minimum:\n\na) Specific address\nb) Address range\nc) Geographic area (as defined in the geofile)\nd) Locations based on latitude and longitude coordinates\ne) Landmarks",null,"Cannot Meet",{"$f":"IFERROR(VLOOKUP(H90,VendorResponseLookupTbl[], 2,0), \"\")","v":" The product cannot meet the requirement “Out-of-the-Box”, “With Configuration”, “With Custom Programming” or with a “Future Release”."}]
["1.E.08","Master Location Index","Functional","Intersections","Must Have","Please list your solution's ability to accommodate intersections.",null,"Cannot Meet",{"$f":"IFERROR(VLOOKUP(H91,VendorResponseLookupTbl[], 2,0), \"\")","v":" The product cannot meet the requirement “Out-of-the-Box”, “With Configuration”, “With Custom Programming” or with a “Future Release”."}]
["1.E.09","Master Location Index","Functional","Address Validation","Must Have","Please list your solution's ability to validate addresses at the  time of data entry (if address is within the boundaries of the geofile).",null,"Cannot Meet",{"$f":"IFERROR(VLOOKUP(H92,VendorResponseLookupTbl[], 2,0), \"\")","v":" The product cannot meet the requirement “Out-of-the-Box”, “With Configuration”, “With Custom Programming” or with a “Future Release”."}]
["1.E.10","Master Location Index","Functional","Master Location Index Updating","Must Have","Please list your solution's ability to update master location index with geofile data (e.g., latitude and longitude, geographical boundaries), during the address validation process.",null,"Cannot Meet",{"$f":"IFERROR(VLOOKUP(H93,VendorResponseLookupTbl[], 2,0), \"\")","v":" The product cannot meet the requirement “Out-of-the-Box”, “With Configuration”, “With Custom Programming” or with a “Future Release”."}]
["1.E.11","Master Location Index","Functional","Unverified Address","Must Have","Please list your solution's capability of accepting an unverified address.",null,"Cannot Meet",{"$f":"IFERROR(VLOOKUP(H94,VendorResponseLookupTbl[], 2,0), \"\")","v":" The product cannot meet the requirement “Out-of-the-Box”, “With Configuration”, “With Custom Programming” or with a “Future Release”."}]
["1.E.12","Master Location Index","Functional","Unverified Address\nIdentifying","Must Have","Please list your solution's capability to identify unverified address either via a flag or by running a canned report.",null,"Cannot Meet",{"$f":"IFERROR(VLOOKUP(H95,VendorResponseLookupTbl[], 2,0), \"\")","v":" The product cannot meet the requirement “Out-of-the-Box”, “With Configuration”, “With Custom Programming” or with a “Future Release”."}]
["1.E.13","Master Location Index","Functional","Linking Addresses and Streets","Must Have","Please list your solution's ability to link addresses and commonplace street names.",null,"Cannot Meet",{"$f":"IFERROR(VLOOKUP(H96,VendorResponseLookupTbl[], 2,0), \"\")","v":" The product cannot meet the requirement “Out-of-the-Box”, “With Configuration”, “With Custom Programming” or with a “Future Release”."}]
["1.E.14","Master Location Index","Functional","Address Population\nCommonplace Name","Must Have","Please list your solution's ability to enter a commonplace name and be presented with potential addresses associated with the commonplace name.",null,"Cannot Meet",{"$f":"IFERROR(VLOOKUP(H97,VendorResponseLookupTbl[], 2,0), \"\")","v":" The product cannot meet the requirement “Out-of-the-Box”, “With Configuration”, “With Custom Programming” or with a “Future Release”."}]
["1.F.00","Master Organization Index"]
["1.F.01",{"$f":"B98","v":"Master Organization Index"},"Functional","Organization Categories","Must Have","Please list your solution's ability to allow for the customer to define organization categories (e.g., businesses, schools, shopping centers, gangs).",null,"Cannot Meet",{"$f":"IFERROR(VLOOKUP(H99,VendorResponseLookupTbl[], 2,0), \"\")","v":" The product cannot meet the requirement “Out-of-the-Box”, “With Configuration”, “With Custom Programming” or with a “Future Release”."}]
["1.F.02","Master Organization Index",{"$f":"C99","v":"Functional"},"Organization Information","Must Have","Please list your solution's ability to capture organization information, including but not limited to:\n\na) Type\nb) Name\nc) Alias names\nd) Associated individuals\ne) Location\nf) Aliases",null,"Cannot Meet",{"$f":"IFERROR(VLOOKUP(H100,VendorResponseLookupTbl[], 2,0), \"\")","v":" The product cannot meet the requirement “Out-of-the-Box”, “With Configuration”, “With Custom Programming” or with a “Future Release”."}]
["1.F.03","Master Organization Index","Functional","Organization Information\nEditing","Must Have","Please list your solution's ability to allow a User to edit organization record information.",null,"Cannot Meet",{"$f":"IFERROR(VLOOKUP(H101,VendorResponseLookupTbl[], 2,0), \"\")","v":" The product cannot meet the requirement “Out-of-the-Box”, “With Configuration”, “With Custom Programming” or with a “Future Release”."}]
["1.F.04","Master Organization Index","Functional","Organization Records\nLinking","Must Have","Please list your solution's ability to link an organization record to every event in which the organization is involved or associated.",null,"Cannot Meet",{"$f":"IFERROR(VLOOKUP(H102,VendorResponseLookupTbl[], 2,0), \"\")","v":" The product cannot meet the requirement “Out-of-the-Box”, “With Configuration”, “With Custom Programming” or with a “Future Release”."}]
["1.F.05","Master Organization Index","Functional","Master Org. Record\nEvents","Must Have","Please list your solution's ability to give a master organization record to every organization associated with an event.",null,"Cannot Meet",{"$f":"IFERROR(VLOOKUP(H103,VendorResponseLookupTbl[], 2,0), \"\")","v":" The product cannot meet the requirement “Out-of-the-Box”, “With Configuration”, “With Custom Programming” or with a “Future Release”."}]
["1.F.06","Master Organization Index","Functional","Master Org. Record\nLinking New Events","Must Have","Please list your solution's ability to link a new event to an existing master organization record if the organization is involved in the new event.",null,"Cannot Meet",{"$f":"IFERROR(VLOOKUP(H104,VendorResponseLookupTbl[], 2,0), \"\")","v":" The product cannot meet the requirement “Out-of-the-Box”, “With Configuration”, “With Custom Programming” or with a “Future Release”."}]
["1.F.07","Master Organization Index","Functional","Organization Records\nAudit Trail","Must Have","Please list your solution's ability to keep historical records of changes to organization names and locations.",null,"Cannot Meet",{"$f":"IFERROR(VLOOKUP(H105,VendorResponseLookupTbl[], 2,0), \"\")","v":" The product cannot meet the requirement “Out-of-the-Box”, “With Configuration”, “With Custom Programming” or with a “Future Release”."}]
["1.F.08","Master Organization Index","Functional","Organization Records\nOrganizational Retrieval","Must Have","Please list your solution's ability to retrieve a listing of all records associated with an organization.",null,"Cannot Meet",{"$f":"IFERROR(VLOOKUP(H106,VendorResponseLookupTbl[], 2,0), \"\")","v":" The product cannot meet the requirement “Out-of-the-Box”, “With Configuration”, “With Custom Programming” or with a “Future Release”."}]
["1.F.09","Master Organization Index","Functional","Organization Records\nIndividual Retrieval","Must Have","Please list your solution's ability to retrieve a listing of all individuals associated with an organization.",null,"Cannot Meet",{"$f":"IFERROR(VLOOKUP(H107,VendorResponseLookupTbl[], 2,0), \"\")","v":" The product cannot meet the requirement “Out-of-the-Box”, “With Configuration”, “With Custom Programming” or with a “Future Release”."}]
["2.A","RMS Data Management"]
["2.A.00","Sealings and Expungements"]
["2.A.01",{"$f":"B109","v":"Sealings and Expungements"},"Functional","File Attachment","Must Have","Please list your solution's ability to attach a file to a record (e.g., Court order).",null,"Cannot Meet",{"$f":"IFERROR(VLOOKUP(H110,VendorResponseLookupTbl[], 2,0), \"\")","v":" The product cannot meet the requirement “Out-of-the-Box”, “With Configuration”, “With Custom Programming” or with a “Future Release”."}]
["2.A.02","Sealings and Expungements",{"$f":"C110","v":"Functional"},"Sealed Record\nVisual Cue","Must Have","Please list your solution's ability to provide a visual indicator that a record is sealed.",null,"Cannot Meet",{"$f":"IFERROR(VLOOKUP(H111,VendorResponseLookupTbl[], 2,0), \"\")","v":" The product cannot meet the requirement “Out-of-the-Box”, “With Configuration”, “With Custom Programming” or with a “Future Release”."}]
["2.A.03",{"$f":"B111","v":"Sealings and Expungements"},{"$f":"C111","v":"Functional"},"Sealed Record\nRBAC Viewing-Search","Must Have","Please list your solution's ability through role-based access controls (RBACs) to allow for a User who is authorized to view a sealed record to see that it exists in the system (e.g., search for the record).",null,"Cannot Meet",{"$f":"IFERROR(VLOOKUP(H112,VendorResponseLookupTbl[], 2,0), \"\")","v":" The product cannot meet the requirement “Out-of-the-Box”, “With Configuration”, “With Custom Programming” or with a “Future Release”."}]
["2.A.04","Sealings and Expungements","Functional","Sealed Record\nRBAC Viewing-LEO","Must Have","Please list your solution's ability through role-based access controls (RBACs) to allow for law enforcement employees to see sealed records.",null,"Cannot Meet",{"$f":"IFERROR(VLOOKUP(H113,VendorResponseLookupTbl[], 2,0), \"\")","v":" The product cannot meet the requirement “Out-of-the-Box”, “With Configuration”, “With Custom Programming” or with a “Future Release”."}]
["2.A.05","Sealings and Expungements","Functional","Sealed Record\nRBAC Restrictions","Must Have","Please list your solution's ability through role-based access controls (RBACs) to prevent all users without the authority to see a sealed record from seeing that the record exists.",null,"Cannot Meet",{"$f":"IFERROR(VLOOKUP(H114,VendorResponseLookupTbl[], 2,0), \"\")","v":" The product cannot meet the requirement “Out-of-the-Box”, “With Configuration”, “With Custom Programming” or with a “Future Release”."}]
["2.A.06","Sealings and Expungements","Functional","Sealed Record\nPublic View","Must Have","Please list your solution's ability to prevent public viewing of a sealed record.",null,"Cannot Meet",{"$f":"IFERROR(VLOOKUP(H115,VendorResponseLookupTbl[], 2,0), \"\")","v":" The product cannot meet the requirement “Out-of-the-Box”, “With Configuration”, “With Custom Programming” or with a “Future Release”."}]
["2.A.07","Sealings and Expungements","Functional","Sealed Record\nClosing a Record","Must Have","Please list your solution's ability to accommodate the following types of record closings:\n\na) Sealed records\nb) Expunged records",null,"Cannot Meet",{"$f":"IFERROR(VLOOKUP(H116,VendorResponseLookupTbl[], 2,0), \"\")","v":" The product cannot meet the requirement “Out-of-the-Box”, “With Configuration”, “With Custom Programming” or with a “Future Release”."}]
["2.A.08","Sealings and Expungements","Functional","Sealed Record\nUser Editing","Must Have","Please list your solution's ability for an authorized User(s) to selectively edit and expunge or seal case information and/or arrest records, including but not limited to:\n\na) A person\nb) An incident\nc) A narrative\nd) Group/all records\ne) All except specific records\nf) Specific information from a single record",null,"Cannot Meet",{"$f":"IFERROR(VLOOKUP(H117,VendorResponseLookupTbl[], 2,0), \"\")","v":" The product cannot meet the requirement “Out-of-the-Box”, “With Configuration”, “With Custom Programming” or with a “Future Release”."}]
["2.A.09","Sealings and Expungements","Functional","Sealed Record\nSelective Sealing","Must Have","Please list your solution's ability to allow a User to seal a case without sealing an entire person from other cases.",null,"Cannot Meet",{"$f":"IFERROR(VLOOKUP(H118,VendorResponseLookupTbl[], 2,0), \"\")","v":" The product cannot meet the requirement “Out-of-the-Box”, “With Configuration”, “With Custom Programming” or with a “Future Release”."}]
["2.A.10","Sealings and Expungements","Functional","Sealed Record\nAudit Trails","Must Have","Please list your solution's ability to  track the following information when an authorized user views a sealed record:\n\na) User name\nb) Date and time stamp of access\nc) Court order number",null,"Cannot Meet",{"$f":"IFERROR(VLOOKUP(H119,VendorResponseLookupTbl[], 2,0), \"\")","v":" The product cannot meet the requirement “Out-of-the-Box”, “With Configuration”, “With Custom Programming” or with a “Future Release”."}]
["2.A.11","Sealings and Expungements","Functional","Sealed Record\nAudit Trail Notification","Must Have","Please list your solution's ability to actively notify a designated Administrator when a user attempts to view a sealed or expunged record, including providing the Administrator with the:\n\na) User name of who accessed\nb) Date and time stamp of access\nc) Court order number",null,"Cannot Meet",{"$f":"IFERROR(VLOOKUP(H120,VendorResponseLookupTbl[], 2,0), \"\")","v":" The product cannot meet the requirement “Out-of-the-Box”, “With Configuration”, “With Custom Programming” or with a “Future Release”."}]
["2.A.12","Sealings and Expungements","Functional","Sealed Record\nAdministrator Controls","Must Have","Please list your solution's ability to limit the ability to print a sealed case based on RBACs and security controls set by the Administrator.",null,"Cannot Meet",{"$f":"IFERROR(VLOOKUP(H121,VendorResponseLookupTbl[], 2,0), \"\")","v":" The product cannot meet the requirement “Out-of-the-Box”, “With Configuration”, “With Custom Programming” or with a “Future Release”."}]
["2.A.13","Sealings and Expungements","Functional","Sealed Record\nProp. & Evid. Notification","Must Have","Please list your solution's ability to notify Property and Evidence personnel when a case is sealed (to determine disposition of any involved property items).",null,"Cannot Meet",{"$f":"IFERROR(VLOOKUP(H122,VendorResponseLookupTbl[], 2,0), \"\")","v":" The product cannot meet the requirement “Out-of-the-Box”, “With Configuration”, “With Custom Programming” or with a “Future Release”."}]
["2.A.14","Sealings and Expungements","Functional","Sealed Record\nUnsealing Records","Must Have","Please list your solution's ability for an Administrator to unseal a record.",null,"Cannot Meet",{"$f":"IFERROR(VLOOKUP(H123,VendorResponseLookupTbl[], 2,0), \"\")","v":" The product cannot meet the requirement “Out-of-the-Box”, “With Configuration”, “With Custom Programming” or with a “Future Release”."}]
["2.B.00","Records Release"]
["2.B.01",{"$f":"B124","v":"Records Release"},"Functional","Report Generation\nPDF","Must Have","Please list your solution's ability to generate a PDF version of a report appropriate for release to the public (e.g., with sensitive data redacted).",null,"Cannot Meet",{"$f":"IFERROR(VLOOKUP(H125,VendorResponseLookupTbl[], 2,0), \"\")","v":" The product cannot meet the requirement “Out-of-the-Box”, “With Configuration”, “With Custom Programming” or with a “Future Release”."}]
["2.B.02",{"$f":"B125","v":"Records Release"},{"$f":"C125","v":"Functional"},"Report Generation\nLinking","Must Have","Please list your solution's ability to save the attached the released version of the report such that it is linked to the original report.",null,"Cannot Meet",{"$f":"IFERROR(VLOOKUP(H126,VendorResponseLookupTbl[], 2,0), \"\")","v":" The product cannot meet the requirement “Out-of-the-Box”, “With Configuration”, “With Custom Programming” or with a “Future Release”."}]
["2.B.03",{"$f":"B126","v":"Records Release"},{"$f":"C126","v":"Functional"},"Report Generation\nPublic Release","Must Have","Please list your solution's ability to indicate on a report that a version of it has been released to the public.",null,"Cannot Meet",{"$f":"IFERROR(VLOOKUP(H127,VendorResponseLookupTbl[], 2,0), \"\")","v":" The product cannot meet the requirement “Out-of-the-Box”, “With Configuration”, “With Custom Programming” or with a “Future Release”."}]
["2.B.04","Records Release","Functional","Report Generation\nLog","Must Have","Please list your solution's ability to maintain a log of reports released to the public such that the log entries are linked to the report being released.",null,"Cannot Meet",{"$f":"IFERROR(VLOOKUP(H128,VendorResponseLookupTbl[], 2,0), \"\")","v":" The product cannot meet the requirement “Out-of-the-Box”, “With Configuration”, “With Custom Programming” or with a “Future Release”."}]
["2.B.05","Records Release","Functional","Report Generation\nInformation Release Tracking","Must Have","Please list your solution's ability to track information associated with the release of a report, including:\n\na) Requesting party\nb) Date of request\nc) Released to\nd) Date of release",null,"Cannot Meet",{"$f":"IFERROR(VLOOKUP(H129,VendorResponseLookupTbl[], 2,0), \"\")","v":" The product cannot meet the requirement “Out-of-the-Box”, “With Configuration”, “With Custom Programming” or with a “Future Release”."}]
["2.C.00","Redaction"]
["2.C.01",{"$f":"B130","v":"Redaction"},"Functional","Electronic","Could Have","Please list your solution's ability to electronically redact information from reports.",null,"Cannot Meet",{"$f":"IFERROR(VLOOKUP(H131,VendorResponseLookupTbl[], 2,0), \"\")","v":" The product cannot meet the requirement “Out-of-the-Box”, “With Configuration”, “With Custom Programming” or with a “Future Release”."}]
["2.C.02",{"$f":"B131","v":"Redaction"},{"$f":"C131","v":"Functional"},"Victim PII","Could Have","Please list your solution's ability to automatically redact a victim address and/or PII from reports.",null,"Cannot Meet",{"$f":"IFERROR(VLOOKUP(H132,VendorResponseLookupTbl[], 2,0), \"\")","v":" The product cannot meet the requirement “Out-of-the-Box”, “With Configuration”, “With Custom Programming” or with a “Future Release”."}]
["2.C.03",{"$f":"B132","v":"Redaction"},{"$f":"C132","v":"Functional"},"Agency Defined Rules","Could Have","Please list your solution's ability to allow for the Agency to define redaction rules.",null,"Cannot Meet",{"$f":"IFERROR(VLOOKUP(H133,VendorResponseLookupTbl[], 2,0), \"\")","v":" The product cannot meet the requirement “Out-of-the-Box”, “With Configuration”, “With Custom Programming” or with a “Future Release”."}]
["2.C.04","Redaction","Functional","Redaction Prior to Release","Could Have","Please list your solution's ability to electronically redact information from reports prior to creating a public copy (hard copy or digital).",null,"Cannot Meet",{"$f":"IFERROR(VLOOKUP(H134,VendorResponseLookupTbl[], 2,0), \"\")","v":" The product cannot meet the requirement “Out-of-the-Box”, “With Configuration”, “With Custom Programming” or with a “Future Release”."}]
["2.C.05","Redaction","Functional","Printing Redactions","Could Have","Please list your solution's ability to print either a public or internal version of the report, or both.",null,"Cannot Meet",{"$f":"IFERROR(VLOOKUP(H135,VendorResponseLookupTbl[], 2,0), \"\")","v":" The product cannot meet the requirement “Out-of-the-Box”, “With Configuration”, “With Custom Programming” or with a “Future Release”."}]
["2.C.06","Redaction","Functional","Saving Redactions","Could Have","Please list your solution's ability to save a copy of the redacted report with the original report record.",null,"Cannot Meet",{"$f":"IFERROR(VLOOKUP(H136,VendorResponseLookupTbl[], 2,0), \"\")","v":" The product cannot meet the requirement “Out-of-the-Box”, “With Configuration”, “With Custom Programming” or with a “Future Release”."}]
["2.C.07","Redaction","Functional","Auto-Redaction","Could Have","Please list your solution's ability to automatically redact data in agency-defined reports, based on agency defined parameters.",null,"Cannot Meet",{"$f":"IFERROR(VLOOKUP(H137,VendorResponseLookupTbl[], 2,0), \"\")","v":" The product cannot meet the requirement “Out-of-the-Box”, “With Configuration”, “With Custom Programming” or with a “Future Release”."}]
[3,"NIBRS Reporting"]
["3.A.00",{"$f":"B138","v":"NIBRS Reporting"}]
["3.A.01",{"$f":"B139","v":"NIBRS Reporting"},"Functional","Standards Compliance","Must Have","Please list your solution's ability to comply with Colorado NIBRS standards.",null,"Cannot Meet",{"$f":"IFERROR(VLOOKUP(H140,VendorResponseLookupTbl[], 2,0), \"\")","v":" The product cannot meet the requirement “Out-of-the-Box”, “With Configuration”, “With Custom Programming” or with a “Future Release”."}]
["3.A.02",{"$f":"B140","v":"NIBRS Reporting"},{"$f":"C140","v":"Functional"},"Submission Compliance","Must Have","Please list your solution's ability to comply with Colorado NIBRS submission requirements.",null,"Cannot Meet",{"$f":"IFERROR(VLOOKUP(H141,VendorResponseLookupTbl[], 2,0), \"\")","v":" The product cannot meet the requirement “Out-of-the-Box”, “With Configuration”, “With Custom Programming” or with a “Future Release”."}]
["3.A.03",{"$f":"B141","v":"NIBRS Reporting"},{"$f":"C141","v":"Functional"},"Code Translation","Must Have","Please list your solution's ability to translate customer-defined codes (e.g., property categories, race and location) used in reports to NIBRS codes.",null,"Cannot Meet",{"$f":"IFERROR(VLOOKUP(H142,VendorResponseLookupTbl[], 2,0), \"\")","v":" The product cannot meet the requirement “Out-of-the-Box”, “With Configuration”, “With Custom Programming” or with a “Future Release”."}]
["3.A.04","NIBRS Reporting","Functional","Report Review","Must Have","Please list your solution's ability to conduct a NIBRS review for individual reports.",null,"Cannot Meet",{"$f":"IFERROR(VLOOKUP(H143,VendorResponseLookupTbl[], 2,0), \"\")","v":" The product cannot meet the requirement “Out-of-the-Box”, “With Configuration”, “With Custom Programming” or with a “Future Release”."}]
["3.A.05","NIBRS Reporting","Functional","Agency Defined Audit","Must Have","Please list your solution's ability to allow for each Agency to define the point in the workflow when a NIBRS audit occurs on an individual report (e.g., before submission to sergeant for approval or submission to records).",null,"Cannot Meet",{"$f":"IFERROR(VLOOKUP(H144,VendorResponseLookupTbl[], 2,0), \"\")","v":" The product cannot meet the requirement “Out-of-the-Box”, “With Configuration”, “With Custom Programming” or with a “Future Release”."}]
["3.A.06","NIBRS Reporting","Functional","Correction of Errors\nNIBRS","Must Have","Please list your solution's ability to allow for Agency records personnel to correct NIBRS-related errors, if able to legally and per agency policy.",null,"Cannot Meet",{"$f":"IFERROR(VLOOKUP(H145,VendorResponseLookupTbl[], 2,0), \"\")","v":" The product cannot meet the requirement “Out-of-the-Box”, “With Configuration”, “With Custom Programming” or with a “Future Release”."}]
["3.A.07","NIBRS Reporting","Functional","Correction of Errors\nNCIC","Must Have","Please list your solution's ability to allow for Agency records personnel to correct NCIC-related errors, if able to legally and per agency policy.",null,"Cannot Meet",{"$f":"IFERROR(VLOOKUP(H146,VendorResponseLookupTbl[], 2,0), \"\")","v":" The product cannot meet the requirement “Out-of-the-Box”, “With Configuration”, “With Custom Programming” or with a “Future Release”."}]
["3.A.08","NIBRS Reporting","Functional","Flagging Data","Must Have","Please list your solution's ability to flag data fields that do not meet NIBRS requirements or contain errors.",null,"Cannot Meet",{"$f":"IFERROR(VLOOKUP(H147,VendorResponseLookupTbl[], 2,0), \"\")","v":" The product cannot meet the requirement “Out-of-the-Box”, “With Configuration”, “With Custom Programming” or with a “Future Release”."}]
["3.A.09","NIBRS Reporting","Functional","Monthly Audits","Must Have","Please list your solution's ability to perform monthly NIBRS audits.",null,"Cannot Meet",{"$f":"IFERROR(VLOOKUP(H148,VendorResponseLookupTbl[], 2,0), \"\")","v":" The product cannot meet the requirement “Out-of-the-Box”, “With Configuration”, “With Custom Programming” or with a “Future Release”."}]
["3.A.10","NIBRS Reporting","Functional","Trial vs. Final Case Information","Must Have","Please list your solution's ability to allow a User to submit a \"trial\" version of case information for NIBRS review that identifies potential errors, but does not count for final statistics.",null,"Cannot Meet",{"$f":"IFERROR(VLOOKUP(H149,VendorResponseLookupTbl[], 2,0), \"\")","v":" The product cannot meet the requirement “Out-of-the-Box”, “With Configuration”, “With Custom Programming” or with a “Future Release”."}]
["3.A.11","NIBRS Reporting","Functional","Error Message Description","Must Have","Please list your solution's ability to provide an error message describing corrections that need to be made.",null,"Cannot Meet",{"$f":"IFERROR(VLOOKUP(H150,VendorResponseLookupTbl[], 2,0), \"\")","v":" The product cannot meet the requirement “Out-of-the-Box”, “With Configuration”, “With Custom Programming” or with a “Future Release”."}]
["3.A.12","NIBRS Reporting","Functional","Error Correction Before Submission","Must Have","Please list your solution's ability to prevent reports from being submitted to NIBRS until all errors have been corrected.",null,"Cannot Meet",{"$f":"IFERROR(VLOOKUP(H151,VendorResponseLookupTbl[], 2,0), \"\")","v":" The product cannot meet the requirement “Out-of-the-Box”, “With Configuration”, “With Custom Programming” or with a “Future Release”."}]
["3.A.13","NIBRS Reporting","Functional","Overriding Error Message","Must Have","Please list your solution's ability for a User to override mandatory error correction functionality and submit reports containing errors to NIBRS.",null,"Cannot Meet",{"$f":"IFERROR(VLOOKUP(H152,VendorResponseLookupTbl[], 2,0), \"\")","v":" The product cannot meet the requirement “Out-of-the-Box”, “With Configuration”, “With Custom Programming” or with a “Future Release”."}]
["3.A.14","NIBRS Reporting","Functional","Final Submission","Must Have","Please list your solution's ability to submit a \"final\" version of case information for NIBRS review via a flat file.",null,"Cannot Meet",{"$f":"IFERROR(VLOOKUP(H153,VendorResponseLookupTbl[], 2,0), \"\")","v":" The product cannot meet the requirement “Out-of-the-Box”, “With Configuration”, “With Custom Programming” or with a “Future Release”."}]
["3.A.15","NIBRS Reporting","Functional","Flagging Data Edits","Must Have","Please list your solution's ability to flag any data elements that are edited by an authorized user other than the original author (e.g., NIBRS review personnel change a data element from the original report).",null,"Cannot Meet",{"$f":"IFERROR(VLOOKUP(H154,VendorResponseLookupTbl[], 2,0), \"\")","v":" The product cannot meet the requirement “Out-of-the-Box”, “With Configuration”, “With Custom Programming” or with a “Future Release”."}]
["3.A.16","NIBRS Reporting","Functional","Version History","Must Have","Please list your solution's ability to maintain a version history of each case that identifies any edits to a case report over time.",null,"Cannot Meet",{"$f":"IFERROR(VLOOKUP(H155,VendorResponseLookupTbl[], 2,0), \"\")","v":" The product cannot meet the requirement “Out-of-the-Box”, “With Configuration”, “With Custom Programming” or with a “Future Release”."}]
["3.A.17","NIBRS Reporting","Functional","Case Changes Subsequent","Must Have","Please list your solution's ability for subsequent submissions for NIBRS to include any case changes.",null,"Cannot Meet",{"$f":"IFERROR(VLOOKUP(H156,VendorResponseLookupTbl[], 2,0), \"\")","v":" The product cannot meet the requirement “Out-of-the-Box”, “With Configuration”, “With Custom Programming” or with a “Future Release”."}]
["3.A.18","NIBRS Reporting","Functional","Offense Reclassification","Must Have","Please list your solution's ability for offenses to be reclassified and resubmitted in the event of an offense change (e.g., aggravated assault to homicide).",null,"Cannot Meet",{"$f":"IFERROR(VLOOKUP(H157,VendorResponseLookupTbl[], 2,0), \"\")","v":" The product cannot meet the requirement “Out-of-the-Box”, “With Configuration”, “With Custom Programming” or with a “Future Release”."}]
[4,"Calls for Service"]
["4.A.00",{"$f":"B158","v":"Calls for Service"}]
["4.A.01",{"$f":"B159","v":"Calls for Service"},"Functional","Receiving","Must Have","Please list your solution's ability to receive call for service data transferred from the CAD application, including but not limited to the following:\n\na) Incident number\nb) Initial call time\nc) Units dispatched (to include units from other agencies)\nd) Call for service activity time stamps (e.g., en route, at scene)\ne) Initial call type\nf) Call source\ng) Final call type\nh) Call disposition\ni) Call comments",null,"Cannot Meet",{"$f":"IFERROR(VLOOKUP(H160,VendorResponseLookupTbl[], 2,0), \"\")","v":" The product cannot meet the requirement “Out-of-the-Box”, “With Configuration”, “With Custom Programming” or with a “Future Release”."}]
["4.A.02",{"$f":"B160","v":"Calls for Service"},{"$f":"C160","v":"Functional"},"Linking Data","Must Have","Please list your solution's ability to link call service data to:\n\na) Master indices of entities associated with the incident\nb) Records/reports generated from the incident",null,"Cannot Meet",{"$f":"IFERROR(VLOOKUP(H161,VendorResponseLookupTbl[], 2,0), \"\")","v":" The product cannot meet the requirement “Out-of-the-Box”, “With Configuration”, “With Custom Programming” or with a “Future Release”."}]
["4.A.03",{"$f":"B161","v":"Calls for Service"},{"$f":"C161","v":"Functional"},"Listing the Officer","Must Have","Please list your solution's ability for call for service record to indicate officer responsible for completing a report.",null,"Cannot Meet",{"$f":"IFERROR(VLOOKUP(H162,VendorResponseLookupTbl[], 2,0), \"\")","v":" The product cannot meet the requirement “Out-of-the-Box”, “With Configuration”, “With Custom Programming” or with a “Future Release”."}]
["4.A.04","Calls for Service","Functional","Task Generation","Must Have","Please list your solution's ability to generate a task to write a report and assign the task to the officer responsible for writing the report.",null,"Cannot Meet",{"$f":"IFERROR(VLOOKUP(H163,VendorResponseLookupTbl[], 2,0), \"\")","v":" The product cannot meet the requirement “Out-of-the-Box”, “With Configuration”, “With Custom Programming” or with a “Future Release”."}]
["4.A.05","Calls for Service","Functional","CAD Data Population","Must Have","Please list your solution's capability for all relevant CAD data to populate the corresponding incident report",null,"Cannot Meet",{"$f":"IFERROR(VLOOKUP(H164,VendorResponseLookupTbl[], 2,0), \"\")","v":" The product cannot meet the requirement “Out-of-the-Box”, “With Configuration”, “With Custom Programming” or with a “Future Release”."}]
["4.A.06","Calls for Service","Functional","Updating RMS Records","Must Have","Please list your solution's capability to update the RMS Call for Service record with any information added to the CAD record after the initial transfer to the RMS.",null,"Cannot Meet",{"$f":"IFERROR(VLOOKUP(H165,VendorResponseLookupTbl[], 2,0), \"\")","v":" The product cannot meet the requirement “Out-of-the-Box”, “With Configuration”, “With Custom Programming” or with a “Future Release”."}]
[5,"Flags and Alerts"]
["5.A.00",{"$f":"B166","v":"Flags and Alerts"}]
["5.A.01",{"$f":"B167","v":"Flags and Alerts"},"Functional","Characteristics of Interest","Must Have","Please list your solution's ability to flag master index records to indicate characteristics of interest (examples include:  habitual domestic violence offender, officer threat, trespass orders, warrants).",null,"Cannot Meet",{"$f":"IFERROR(VLOOKUP(H168,VendorResponseLookupTbl[], 2,0), \"\")","v":" The product cannot meet the requirement “Out-of-the-Box”, “With Configuration”, “With Custom Programming” or with a “Future Release”."}]
["5.A.02",{"$f":"B168","v":"Flags and Alerts"},{"$f":"C168","v":"Functional"},"Defining Flags","Must Have","Please list your solution's ability to allow the Agency to define flag categories.",null,"Cannot Meet",{"$f":"IFERROR(VLOOKUP(H169,VendorResponseLookupTbl[], 2,0), \"\")","v":" The product cannot meet the requirement “Out-of-the-Box”, “With Configuration”, “With Custom Programming” or with a “Future Release”."}]
["5.A.03","Flags and Alerts","Functional","Defining Types","Must Have","Please list your solution's capability to allow an Agency to define:\n\na) Alert types\nb) Recipients\nc) Flag types\nd) Criteria for adding flags to records",null,"Cannot Meet",{"$f":"IFERROR(VLOOKUP(H170,VendorResponseLookupTbl[], 2,0), \"\")","v":" The product cannot meet the requirement “Out-of-the-Box”, “With Configuration”, “With Custom Programming” or with a “Future Release”."}]
["5.A.04","Flags and Alerts","Functional","Creating Business Rules","Must Have","Please list your solution's capability to allow an Agency to create business rules for flag categories (e.g., length of time before expiration by type of flag)",null,"Cannot Meet",{"$f":"IFERROR(VLOOKUP(H171,VendorResponseLookupTbl[], 2,0), \"\")","v":" The product cannot meet the requirement “Out-of-the-Box”, “With Configuration”, “With Custom Programming” or with a “Future Release”."}]
["5.A.05","Flags and Alerts","Functional","Automatic Flagging","Must Have","Please list your solution's capability to support automatic flags based on business rules or entries on other modules.",null,"Cannot Meet",{"$f":"IFERROR(VLOOKUP(H172,VendorResponseLookupTbl[], 2,0), \"\")","v":" The product cannot meet the requirement “Out-of-the-Box”, “With Configuration”, “With Custom Programming” or with a “Future Release”."}]
["5.A.06","Flags and Alerts","Functional","Flagging as Confidential","Must Have","Please list your solution's ability to flag as confidential:\n\na) Records\nb) Specific fields\nc) Requiring reasons for flagging as confidential",null,"Cannot Meet",{"$f":"IFERROR(VLOOKUP(H173,VendorResponseLookupTbl[], 2,0), \"\")","v":" The product cannot meet the requirement “Out-of-the-Box”, “With Configuration”, “With Custom Programming” or with a “Future Release”."}]
["5.A.07","Flags and Alerts","Functional","Push Notifications","Must Have","Please list your solution's ability to allow for Users to subscribe to events such that they are notified via email or text when a specified entity is involved in an incident.",null,"Cannot Meet",{"$f":"IFERROR(VLOOKUP(H174,VendorResponseLookupTbl[], 2,0), \"\")","v":" The product cannot meet the requirement “Out-of-the-Box”, “With Configuration”, “With Custom Programming” or with a “Future Release”."}]
["5.A.08","Flags and Alerts","Functional","Flag Expiration Notices","Must Have","Please list your solution's ability to send an alert of a pending flag expiration to an Agency designated role.",null,"Cannot Meet",{"$f":"IFERROR(VLOOKUP(H175,VendorResponseLookupTbl[], 2,0), \"\")","v":" The product cannot meet the requirement “Out-of-the-Box”, “With Configuration”, “With Custom Programming” or with a “Future Release”."}]
["5.A.09","Flags and Alerts","Functional","Specific Record Alerts","Must Have","Please list your solution's capability of attaching an alert to a specific record so that if a record is updated in any other context, the appropriate user is alerted.",null,"Cannot Meet",{"$f":"IFERROR(VLOOKUP(H176,VendorResponseLookupTbl[], 2,0), \"\")","v":" The product cannot meet the requirement “Out-of-the-Box”, “With Configuration”, “With Custom Programming” or with a “Future Release”."}]
["6.A","Incident Reporting"]
["6.A.00","General Incident Writing Requirements"]
["6.A.01",{"$f":"B178","v":"General Incident Writing Requirements"},"Functional","Report Entry Platforms","Must Have","Please list your solution's ability to enter incident reports in a desktop environment and a mobile environment.",null,"Cannot Meet",{"$f":"IFERROR(VLOOKUP(H179,VendorResponseLookupTbl[], 2,0), \"\")","v":" The product cannot meet the requirement “Out-of-the-Box”, “With Configuration”, “With Custom Programming” or with a “Future Release”."}]
["6.A.02",{"$f":"B179","v":"General Incident Writing Requirements"},{"$f":"C179","v":"Functional"},"Report Entry Completion","Must Have","Please list your solution's ability to save the creation of an incident report so that an officer can start entering an incident report in one environment (mobile) and finish in a different environment (desktop).",null,"Cannot Meet",{"$f":"IFERROR(VLOOKUP(H180,VendorResponseLookupTbl[], 2,0), \"\")","v":" The product cannot meet the requirement “Out-of-the-Box”, “With Configuration”, “With Custom Programming” or with a “Future Release”."}]
["6.A.03",{"$f":"B180","v":"General Incident Writing Requirements"},{"$f":"C180","v":"Functional"},"Populating Data from CAD","Must Have","Please list your solution's ability to populate report with data from CAD incident initiating the report:\n\na) Dates\nb) Times\nc) Units dispatched\nd) Final call type\ne) Call comments",null,"Cannot Meet",{"$f":"IFERROR(VLOOKUP(H181,VendorResponseLookupTbl[], 2,0), \"\")","v":" The product cannot meet the requirement “Out-of-the-Box”, “With Configuration”, “With Custom Programming” or with a “Future Release”."}]
["6.A.04","General Incident Writing Requirements","Functional","Dedicated Fields \nNIBRS Reporting","Must Have","Please list your solution's ability to provide dedicated fields to capture all information required for Colorado NIBRS reporting.",null,"Cannot Meet",{"$f":"IFERROR(VLOOKUP(H182,VendorResponseLookupTbl[], 2,0), \"\")","v":" The product cannot meet the requirement “Out-of-the-Box”, “With Configuration”, “With Custom Programming” or with a “Future Release”."}]
["6.A.05","General Incident Writing Requirements","Functional","Dedicated Fields \nProperty Information","Must Have","Please list your solution's ability to provide dedicated fields to capture/enter property information.",null,"Cannot Meet",{"$f":"IFERROR(VLOOKUP(H183,VendorResponseLookupTbl[], 2,0), \"\")","v":" The product cannot meet the requirement “Out-of-the-Box”, “With Configuration”, “With Custom Programming” or with a “Future Release”."}]
["6.A.06","General Incident Writing Requirements","Functional","Code Translation","Must Have","Please list your solution's ability to translate offenses codes into NIBRS codes upon entry of an offense code.",null,"Cannot Meet",{"$f":"IFERROR(VLOOKUP(H184,VendorResponseLookupTbl[], 2,0), \"\")","v":" The product cannot meet the requirement “Out-of-the-Box”, “With Configuration”, “With Custom Programming” or with a “Future Release”."}]
["6.A.07","General Incident Writing Requirements","Functional","Updating NIBRS and NCIC Codes","Must Have","Please list your solution's ability to update NIBRS and NCIC codes upon update of an offense code.",null,"Cannot Meet",{"$f":"IFERROR(VLOOKUP(H185,VendorResponseLookupTbl[], 2,0), \"\")","v":" The product cannot meet the requirement “Out-of-the-Box”, “With Configuration”, “With Custom Programming” or with a “Future Release”."}]
["6.A.08","General Incident Writing Requirements","Functional","Capturing Locations","Must Have","Please list your solution's ability to capture location information for:\n\na) Involved persons\nb) Involved incident locations",null,"Cannot Meet",{"$f":"IFERROR(VLOOKUP(H186,VendorResponseLookupTbl[], 2,0), \"\")","v":" The product cannot meet the requirement “Out-of-the-Box”, “With Configuration”, “With Custom Programming” or with a “Future Release”."}]
["6.A.09","General Incident Writing Requirements","Functional","Linking Case Reports","Must Have","Please list your solution's ability to link case report to related call for service record in the CFS module.",null,"Cannot Meet",{"$f":"IFERROR(VLOOKUP(H187,VendorResponseLookupTbl[], 2,0), \"\")","v":" The product cannot meet the requirement “Out-of-the-Box”, “With Configuration”, “With Custom Programming” or with a “Future Release”."}]
["6.A.10","General Incident Writing Requirements","Functional","Initiating Queries","Must Have","Please list your solution's ability to initiate queries into one or more databases from within the reporting application.",null,"Cannot Meet",{"$f":"IFERROR(VLOOKUP(H188,VendorResponseLookupTbl[], 2,0), \"\")","v":" The product cannot meet the requirement “Out-of-the-Box”, “With Configuration”, “With Custom Programming” or with a “Future Release”."}]
["6.A.11","General Incident Writing Requirements","Functional","File Attachment","Must Have","Please list your solution's ability to attach files to reports, including but not limited to Microsoft Office files, Adobe PDF files, digital media (e.g., photos, videos, audio recordings), and other file types.",null,"Cannot Meet",{"$f":"IFERROR(VLOOKUP(H189,VendorResponseLookupTbl[], 2,0), \"\")","v":" The product cannot meet the requirement “Out-of-the-Box”, “With Configuration”, “With Custom Programming” or with a “Future Release”."}]
["6.A.12","General Incident Writing Requirements","Functional","Axon Integration","Must Have","Please list your solution's ability to provide an integration/interface with Axon's Evidence.com for digital media related to an incident report.",null,"Cannot Meet",{"$f":"IFERROR(VLOOKUP(H190,VendorResponseLookupTbl[], 2,0), \"\")","v":" The product cannot meet the requirement “Out-of-the-Box”, “With Configuration”, “With Custom Programming” or with a “Future Release”."}]
["6.A.13","General Incident Writing Requirements","Functional","Report Creation","Must Have","Please list your solution's ability to create the following types of reports and documents:\n\na) Arrest/booking report\nb) Property/evidence report\nc) Citation\nd) Field Interview or contact\ne) Crash reports\nf) Tow reports\ng) Narrative supplements",null,"Cannot Meet",{"$f":"IFERROR(VLOOKUP(H191,VendorResponseLookupTbl[], 2,0), \"\")","v":" The product cannot meet the requirement “Out-of-the-Box”, “With Configuration”, “With Custom Programming” or with a “Future Release”."}]
["6.B.00","Supplemental Reports"]
["6.B.01",{"$f":"B192","v":"Supplemental Reports"},"Functional","Adding/Editing Cases","Must Have","Please list your solution's capability for a User to add new information to a case after the initial case report has been submitted and approved.",null,"Cannot Meet",{"$f":"IFERROR(VLOOKUP(H193,VendorResponseLookupTbl[], 2,0), \"\")","v":" The product cannot meet the requirement “Out-of-the-Box”, “With Configuration”, “With Custom Programming” or with a “Future Release”."}]
["6.B.02",{"$f":"B193","v":"Supplemental Reports"},{"$f":"C193","v":"Functional"},"Adding New Subjects","Must Have","Please list your solution's ability to add new subjects to a case after the initial case report has been submitted and approved.",null,"Cannot Meet",{"$f":"IFERROR(VLOOKUP(H194,VendorResponseLookupTbl[], 2,0), \"\")","v":" The product cannot meet the requirement “Out-of-the-Box”, “With Configuration”, “With Custom Programming” or with a “Future Release”."}]
["6.B.03",{"$f":"B194","v":"Supplemental Reports"},{"$f":"C194","v":"Functional"},"Adding New Offenses","Must Have","Please list your solution's ability to add new offenses to a case after the initial case report has been submitted and approved.",null,"Cannot Meet",{"$f":"IFERROR(VLOOKUP(H195,VendorResponseLookupTbl[], 2,0), \"\")","v":" The product cannot meet the requirement “Out-of-the-Box”, “With Configuration”, “With Custom Programming” or with a “Future Release”."}]
["6.B.04","Supplemental Reports","Functional","Supplemental Report Completion","Must Have","Please list your solution's ability to permit users to complete supplemental reports before the original report is submitted for review.",null,"Cannot Meet",{"$f":"IFERROR(VLOOKUP(H196,VendorResponseLookupTbl[], 2,0), \"\")","v":" The product cannot meet the requirement “Out-of-the-Box”, “With Configuration”, “With Custom Programming” or with a “Future Release”."}]
["6.B.05","Supplemental Reports","Functional","Multiple Users \nSame Event","Must Have","Please list your solution's capability for multiple officers to simultaneously create and add supplemental reports regarding the same event.",null,"Cannot Meet",{"$f":"IFERROR(VLOOKUP(H197,VendorResponseLookupTbl[], 2,0), \"\")","v":" The product cannot meet the requirement “Out-of-the-Box”, “With Configuration”, “With Custom Programming” or with a “Future Release”."}]
["6.B.06","Supplemental Reports","Functional","Investigation Status","Must Have","Please list your solution's ability for a User to update the status of an investigation via a supplemental report.",null,"Cannot Meet",{"$f":"IFERROR(VLOOKUP(H198,VendorResponseLookupTbl[], 2,0), \"\")","v":" The product cannot meet the requirement “Out-of-the-Box”, “With Configuration”, “With Custom Programming” or with a “Future Release”."}]
["6.B.07","Supplemental Reports","Functional","Investigation Follow-Up","Must Have","Please list your solution's ability for investigators to create supplemental reports to document follow-up investigations.",null,"Cannot Meet",{"$f":"IFERROR(VLOOKUP(H199,VendorResponseLookupTbl[], 2,0), \"\")","v":" The product cannot meet the requirement “Out-of-the-Box”, “With Configuration”, “With Custom Programming” or with a “Future Release”."}]
["6.B.08","Supplemental Reports","Functional","Report Approval Process","Must Have","Please list your solution's ability to submit supplemental reports through the report approval process.",null,"Cannot Meet",{"$f":"IFERROR(VLOOKUP(H200,VendorResponseLookupTbl[], 2,0), \"\")","v":" The product cannot meet the requirement “Out-of-the-Box”, “With Configuration”, “With Custom Programming” or with a “Future Release”."}]
["6.B.09","Supplemental Reports","Functional","Link to Original Reports","Must Have","Please list your solution's ability to link supplemental reports to the original case report.",null,"Cannot Meet",{"$f":"IFERROR(VLOOKUP(H201,VendorResponseLookupTbl[], 2,0), \"\")","v":" The product cannot meet the requirement “Out-of-the-Box”, “With Configuration”, “With Custom Programming” or with a “Future Release”."}]
["6.B.10","Supplemental Reports","Functional","Pre-fill Supplemental Reports","Must Have","Please list your solution's ability to pre-fill supplemental reports with information already in system.",null,"Cannot Meet",{"$f":"IFERROR(VLOOKUP(H202,VendorResponseLookupTbl[], 2,0), \"\")","v":" The product cannot meet the requirement “Out-of-the-Box”, “With Configuration”, “With Custom Programming” or with a “Future Release”."}]
["6.B.11","Supplemental Reports","Functional","Date and Time Stamp","Must Have","Please list your solution's ability to date and time stamp when supplemental information is collected, while preserving the original date and time stamps.",null,"Cannot Meet",{"$f":"IFERROR(VLOOKUP(H203,VendorResponseLookupTbl[], 2,0), \"\")","v":" The product cannot meet the requirement “Out-of-the-Box”, “With Configuration”, “With Custom Programming” or with a “Future Release”."}]
["6.B.12","Supplemental Reports","Functional","Supplemental Report Retrieval","Must Have","Please list your solution's ability to retrieve all supplemental reports when retrieving the parent incident report.",null,"Cannot Meet",{"$f":"IFERROR(VLOOKUP(H204,VendorResponseLookupTbl[], 2,0), \"\")","v":" The product cannot meet the requirement “Out-of-the-Box”, “With Configuration”, “With Custom Programming” or with a “Future Release”."}]
["6.C.00","Report Workload Management"]
["6.C.01",{"$f":"B205","v":"Report Workload Management"},"Functional","Simultaneous Workload","Must Have","Please list your solution's ability to work on multiple reports and multiple incidents simultaneously and toggle among them at the user's discretion.",null,"Cannot Meet",{"$f":"IFERROR(VLOOKUP(H206,VendorResponseLookupTbl[], 2,0), \"\")","v":" The product cannot meet the requirement “Out-of-the-Box”, “With Configuration”, “With Custom Programming” or with a “Future Release”."}]
["6.C.02",{"$f":"B206","v":"Report Workload Management"},{"$f":"C206","v":"Functional"},"Auto-Save","Must Have","Please list your solution's capability of auto-saving reports already in progress.",null,"Cannot Meet",{"$f":"IFERROR(VLOOKUP(H207,VendorResponseLookupTbl[], 2,0), \"\")","v":" The product cannot meet the requirement “Out-of-the-Box”, “With Configuration”, “With Custom Programming” or with a “Future Release”."}]
["6.C.03",{"$f":"B207","v":"Report Workload Management"},{"$f":"C207","v":"Functional"},"Saving Locally","Must Have","Please list your solution's ability to save reports locally to a separate file folder.",null,"Cannot Meet",{"$f":"IFERROR(VLOOKUP(H208,VendorResponseLookupTbl[], 2,0), \"\")","v":" The product cannot meet the requirement “Out-of-the-Box”, “With Configuration”, “With Custom Programming” or with a “Future Release”."}]
["6.C.04","Report Workload Management","Functional","Saving Incomplete Reports","Must Have","Please list your solution's ability for a User to automatically save incomplete reports at the network level so that a user can access the report at a later time from a computer other than the one used to start the original report.",null,"Cannot Meet",{"$f":"IFERROR(VLOOKUP(H209,VendorResponseLookupTbl[], 2,0), \"\")","v":" The product cannot meet the requirement “Out-of-the-Box”, “With Configuration”, “With Custom Programming” or with a “Future Release”."}]
["6.C.05","Report Workload Management","Functional","Resuming Work","Must Have","Please list your solution's capability for a User to resume work on a saved report at the exact location in report completion process with no loss of data.",null,"Cannot Meet",{"$f":"IFERROR(VLOOKUP(H210,VendorResponseLookupTbl[], 2,0), \"\")","v":" The product cannot meet the requirement “Out-of-the-Box”, “With Configuration”, “With Custom Programming” or with a “Future Release”."}]
["6.C.06","Report Workload Management","Functional","Offline Entry","Must Have","Please list your solution's ability for a User to enter data when offline and for that data to upload to the RMS.",null,"Cannot Meet",{"$f":"IFERROR(VLOOKUP(H211,VendorResponseLookupTbl[], 2,0), \"\")","v":" The product cannot meet the requirement “Out-of-the-Box”, “With Configuration”, “With Custom Programming” or with a “Future Release”."}]
["6.C.07","Report Workload Management","Functional","Report Writing \nCall Disposition","Must Have","Please list your solution's capability for a User to begin to write a report prior to entering a call disposition.",null,"Cannot Meet",{"$f":"IFERROR(VLOOKUP(H212,VendorResponseLookupTbl[], 2,0), \"\")","v":" The product cannot meet the requirement “Out-of-the-Box”, “With Configuration”, “With Custom Programming” or with a “Future Release”."}]
["6.C.08","Report Workload Management","Functional","User Task Lists","Must Have","Please list your solution's ability to display the following information on a user's \"task list\":\n\na) Draft unsubmitted reports\nb) Rejected reports\nc) Reports awaiting approval\nd) Reports awaiting follow up investigations\ne) Recently approved reports\nf) Assigned cases",null,"Cannot Meet",{"$f":"IFERROR(VLOOKUP(H213,VendorResponseLookupTbl[], 2,0), \"\")","v":" The product cannot meet the requirement “Out-of-the-Box”, “With Configuration”, “With Custom Programming” or with a “Future Release”."}]
["6.C.09","Report Workload Management","Functional","Outstanding Report Notification","Must Have","Please list your solution's ability to notify users of outstanding reports before they log out of the application.",null,"Cannot Meet",{"$f":"IFERROR(VLOOKUP(H214,VendorResponseLookupTbl[], 2,0), \"\")","v":" The product cannot meet the requirement “Out-of-the-Box”, “With Configuration”, “With Custom Programming” or with a “Future Release”."}]
["6.C.10","Report Workload Management","Functional","Supervisor Viewing\nEnd of Shift","Must Have","Please list your solution's capability for a Supervisor to see which reports have not been completed at the end of the shift by their staff.",null,"Cannot Meet",{"$f":"IFERROR(VLOOKUP(H215,VendorResponseLookupTbl[], 2,0), \"\")","v":" The product cannot meet the requirement “Out-of-the-Box”, “With Configuration”, “With Custom Programming” or with a “Future Release”."}]
["6.C.11","Report Workload Management","Functional","Supervisor Viewing\nRemaining Undone","Must Have","Please list your solution's capability for a Supervisor to see outstanding reports from their staff that have yet to be completed when the Supervisor logs into the platform.",null,"Cannot Meet",{"$f":"IFERROR(VLOOKUP(H216,VendorResponseLookupTbl[], 2,0), \"\")","v":" The product cannot meet the requirement “Out-of-the-Box”, “With Configuration”, “With Custom Programming” or with a “Future Release”."}]
["6.D.00","Data Entry"]
["6.D.01",{"$f":"B217","v":"Data Entry"},"Functional","Data Input\nMust Haves","Must Have","Please list your solution's ability to support inputting of data via:\n\na) Keyboard\nb) Touch screen\nc) Barcode readers",null,"Cannot Meet",{"$f":"IFERROR(VLOOKUP(H218,VendorResponseLookupTbl[], 2,0), \"\")","v":" The product cannot meet the requirement “Out-of-the-Box”, “With Configuration”, “With Custom Programming” or with a “Future Release”."}]
["6.D.02",{"$f":"B218","v":"Data Entry"},{"$f":"C218","v":"Functional"},"Data Input\nShould Haves","Should Have","Please list your solution's ability to support inputting of data via card swiping devices",null,"Cannot Meet",{"$f":"IFERROR(VLOOKUP(H219,VendorResponseLookupTbl[], 2,0), \"\")","v":" The product cannot meet the requirement “Out-of-the-Box”, “With Configuration”, “With Custom Programming” or with a “Future Release”."}]
["6.D.03",{"$f":"B219","v":"Data Entry"},{"$f":"C219","v":"Functional"},"Populating Reports\nVarious Devices","Must Have","Please list your solution's ability to populate report with information captured from reading Barcodes, magnetic strips or QR codes:\n\na) Driver's license information\nb) Vehicle registration information",null,"Cannot Meet",{"$f":"IFERROR(VLOOKUP(H220,VendorResponseLookupTbl[], 2,0), \"\")","v":" The product cannot meet the requirement “Out-of-the-Box”, “With Configuration”, “With Custom Programming” or with a “Future Release”."}]
["6.D.04","Data Entry","Functional","Populating Reports\nEnforcement Mobile ","Must Have","Please list your solution's ability to populate report with data returned from data entered in the Enforcement Mobile citation devices.",null,"Cannot Meet",{"$f":"IFERROR(VLOOKUP(H221,VendorResponseLookupTbl[], 2,0), \"\")","v":" The product cannot meet the requirement “Out-of-the-Box”, “With Configuration”, “With Custom Programming” or with a “Future Release”."}]
["6.D.05","Data Entry","Functional","Populating Reports\nQueries","Must Have","Please list your solution's ability to populate report with data returned from queries run in CAD/Mobile.",null,"Cannot Meet",{"$f":"IFERROR(VLOOKUP(H222,VendorResponseLookupTbl[], 2,0), \"\")","v":" The product cannot meet the requirement “Out-of-the-Box”, “With Configuration”, “With Custom Programming” or with a “Future Release”."}]
["6.D.06","Data Entry","Functional","One-time Data Entry","Must Have","Please list your solution's capability to support one-time data entry such that entry of an incident number or report number auto populates all fields that have been filled out in other reports and forms with the same incident or report number.",null,"Cannot Meet",{"$f":"IFERROR(VLOOKUP(H223,VendorResponseLookupTbl[], 2,0), \"\")","v":" The product cannot meet the requirement “Out-of-the-Box”, “With Configuration”, “With Custom Programming” or with a “Future Release”."}]
["6.D.07","Data Entry","Functional","Accelerating Data Entry","Must Have","Please list your solution's ability to accelerate routine data entry tasks (i.e., workflow functionality) by any of the following: \n\na) Auto-population based on matches on identification fields within the MNI (e.g., name, social security number, driver's license number)\nb) Auto-format (e.g., no need to put dashes, spaces or parentheses for telephone numbers).\nc) Code-driven drop-down menus\nd) Type ahead based on drop-down menus",null,"Cannot Meet",{"$f":"IFERROR(VLOOKUP(H224,VendorResponseLookupTbl[], 2,0), \"\")","v":" The product cannot meet the requirement “Out-of-the-Box”, “With Configuration”, “With Custom Programming” or with a “Future Release”."}]
["6.D.08","Data Entry","Functional","Detox Report Information","Must Have","Please list your solution's ability to document information required for Detox reports that includes:\n\na) Subject's name\nb) County facility\nc) Reason taken into custody\nd) Length of time in protective custody",null,"Cannot Meet",{"$f":"IFERROR(VLOOKUP(H225,VendorResponseLookupTbl[], 2,0), \"\")","v":" The product cannot meet the requirement “Out-of-the-Box”, “With Configuration”, “With Custom Programming” or with a “Future Release”."}]
["6.D.09","Data Entry","Functional","Limitation of Fields","Must Have","Please list your solution's ability to limit fields displayed for data entry to only those fields required for the offense type.",null,"Cannot Meet",{"$f":"IFERROR(VLOOKUP(H226,VendorResponseLookupTbl[], 2,0), \"\")","v":" The product cannot meet the requirement “Out-of-the-Box”, “With Configuration”, “With Custom Programming” or with a “Future Release”."}]
["6.D.10","Data Entry","Functional","Field Replication","Must Have","Please list your solution's ability to replicate fields when only minimal information changes from one entry to another (e.g., same property with different serial numbers).",null,"Cannot Meet",{"$f":"IFERROR(VLOOKUP(H227,VendorResponseLookupTbl[], 2,0), \"\")","v":" The product cannot meet the requirement “Out-of-the-Box”, “With Configuration”, “With Custom Programming” or with a “Future Release”."}]
["6.D.11","Data Entry","Functional","Arrest Report","Must Have","Please list your solution's ability to generate and populate an arrest report for an individual if the involvement type is \"arrestee\".",null,"Cannot Meet",{"$f":"IFERROR(VLOOKUP(H228,VendorResponseLookupTbl[], 2,0), \"\")","v":" The product cannot meet the requirement “Out-of-the-Box”, “With Configuration”, “With Custom Programming” or with a “Future Release”."}]
["6.D.12","Data Entry","Functional","Non-Criminal Activity \nReports","Must Have","Please list your solution's ability to accommodate reports for non-criminal activity (e.g., informational).",null,"Cannot Meet",{"$f":"IFERROR(VLOOKUP(H229,VendorResponseLookupTbl[], 2,0), \"\")","v":" The product cannot meet the requirement “Out-of-the-Box”, “With Configuration”, “With Custom Programming” or with a “Future Release”."}]
["6.D.13","Data Entry","Functional","Non-Criminal Activity \nCodes","Must Have","Please list your solution's ability to include codes for non-criminal activity in offense code table (e.g., for incidents that do not involve criminal activity but which an agency would like to track).",null,"Cannot Meet",{"$f":"IFERROR(VLOOKUP(H230,VendorResponseLookupTbl[], 2,0), \"\")","v":" The product cannot meet the requirement “Out-of-the-Box”, “With Configuration”, “With Custom Programming” or with a “Future Release”."}]
["6.D.14","Data Entry","Functional","Report Generation","Must Have","Please list your solution's ability to populate reports with any relevant information already in the system (e.g., incident information, name information).",null,"Cannot Meet",{"$f":"IFERROR(VLOOKUP(H231,VendorResponseLookupTbl[], 2,0), \"\")","v":" The product cannot meet the requirement “Out-of-the-Box”, “With Configuration”, “With Custom Programming” or with a “Future Release”."}]
["6.D.15","Data Entry","Functional","Auto Populating Names","Must Have","Please list your solution's ability to provide Users entering a name with a list of potential existing master name records based on a variety of criteria, including:\n\na) Exact spelling\nb) Partial name\nc) Sound-alike searching\nd) Phonetic replacement\ne) Diminutive first names",null,"Cannot Meet",{"$f":"IFERROR(VLOOKUP(H232,VendorResponseLookupTbl[], 2,0), \"\")","v":" The product cannot meet the requirement “Out-of-the-Box”, “With Configuration”, “With Custom Programming” or with a “Future Release”."}]
["6.D.16","Data Entry","Functional","Date of Matches","Must Have","Please list your solution's ability to show the date that potential matches were entered (e.g., to help officers identify the most current information).",null,"Cannot Meet",{"$f":"IFERROR(VLOOKUP(H233,VendorResponseLookupTbl[], 2,0), \"\")","v":" The product cannot meet the requirement “Out-of-the-Box”, “With Configuration”, “With Custom Programming” or with a “Future Release”."}]
["6.D.17","Data Entry","Functional","Sorting Matches","Must Have","Please list your solution's ability to sort potential matches in chronological (or reverse chronological) order.",null,"Cannot Meet",{"$f":"IFERROR(VLOOKUP(H234,VendorResponseLookupTbl[], 2,0), \"\")","v":" The product cannot meet the requirement “Out-of-the-Box”, “With Configuration”, “With Custom Programming” or with a “Future Release”."}]
["6.D.18","Data Entry","Functional","Electronic Signatures","Must Have","Please list your solution's ability to capture electronic signatures (e.g., DocuSign, Adobe Sign, etc.).",null,"Cannot Meet",{"$f":"IFERROR(VLOOKUP(H235,VendorResponseLookupTbl[], 2,0), \"\")","v":" The product cannot meet the requirement “Out-of-the-Box”, “With Configuration”, “With Custom Programming” or with a “Future Release”."}]
["6.D.19","Data Entry","Functional","Crime Scene Diagrams","Must Have","Please list your solution's capability to attach crime scene diagrams to incident report.",null,"Cannot Meet",{"$f":"IFERROR(VLOOKUP(H236,VendorResponseLookupTbl[], 2,0), \"\")","v":" The product cannot meet the requirement “Out-of-the-Box”, “With Configuration”, “With Custom Programming” or with a “Future Release”."}]
["6.D.20","Data Entry","Functional","Narratives\nWritten","Must Have","Please list your solution's ability to allow a User to enter narratives of unlimited length.",null,"Cannot Meet",{"$f":"IFERROR(VLOOKUP(H237,VendorResponseLookupTbl[], 2,0), \"\")","v":" The product cannot meet the requirement “Out-of-the-Box”, “With Configuration”, “With Custom Programming” or with a “Future Release”."}]
["6.D.21","Data Entry","Functional","Narratives\nPics and Charts","Must Have","Please list your solution's ability to cut and paste photographs and charts into report narrative.",null,"Cannot Meet",{"$f":"IFERROR(VLOOKUP(H238,VendorResponseLookupTbl[], 2,0), \"\")","v":" The product cannot meet the requirement “Out-of-the-Box”, “With Configuration”, “With Custom Programming” or with a “Future Release”."}]
["6.D.22","Data Entry","Functional","Narratives\nInsertion","Must Have","Please list your solution's ability for a User to insert into the narrative:\n\na) Excel tables\nb) Word tables\nc) Graphs\nd) Witness statements",null,"Cannot Meet",{"$f":"IFERROR(VLOOKUP(H239,VendorResponseLookupTbl[], 2,0), \"\")","v":" The product cannot meet the requirement “Out-of-the-Box”, “With Configuration”, “With Custom Programming” or with a “Future Release”."}]
["6.D.23","Data Entry","Functional","Narratives\nTemplates","Must Have","Please list your solution's ability to embed templates for writing the narrative section of a report.",null,"Cannot Meet",{"$f":"IFERROR(VLOOKUP(H240,VendorResponseLookupTbl[], 2,0), \"\")","v":" The product cannot meet the requirement “Out-of-the-Box”, “With Configuration”, “With Custom Programming” or with a “Future Release”."}]
["6.D.24","Data Entry","Functional","Drawing Function","Should Have","Please list your solution's capability to provide a drawing tool for drawing crime scene diagrams.",null,"Cannot Meet",{"$f":"IFERROR(VLOOKUP(H241,VendorResponseLookupTbl[], 2,0), \"\")","v":" The product cannot meet the requirement “Out-of-the-Box”, “With Configuration”, “With Custom Programming” or with a “Future Release”."}]
["6.E.00","NCIC Uploads"]
["6.E.01",{"$f":"B242","v":"NCIC Uploads"},"Functional","Documenting Info","Should Have","Please list your solution's ability to document information that needs to be uploaded to NCIC for:\n\na) Missing persons\nb) Stolen vehicles\nc) Stolen property",null,"Cannot Meet",{"$f":"IFERROR(VLOOKUP(H243,VendorResponseLookupTbl[], 2,0), \"\")","v":" The product cannot meet the requirement “Out-of-the-Box”, “With Configuration”, “With Custom Programming” or with a “Future Release”."}]
["6.E.02",{"$f":"B243","v":"NCIC Uploads"},{"$f":"C243","v":"Functional"},"Uploading Info","Should Have","Please list your solution's ability to upload information to NCIC from within the report, based on appropriate permissions.",null,"Cannot Meet",{"$f":"IFERROR(VLOOKUP(H244,VendorResponseLookupTbl[], 2,0), \"\")","v":" The product cannot meet the requirement “Out-of-the-Box”, “With Configuration”, “With Custom Programming” or with a “Future Release”."}]
["6.F.00","Property Intake"]
["6.F.01",{"$f":"B245","v":"Property Intake"},"Functional","Documenting\nProperty","Must Have","Please list your solution's ability to document property as:\n\na) Evidence\nb) In custody\nc) Found\nd) Safekeeping",null,"Cannot Meet",{"$f":"IFERROR(VLOOKUP(H246,VendorResponseLookupTbl[], 2,0), \"\")","v":" The product cannot meet the requirement “Out-of-the-Box”, “With Configuration”, “With Custom Programming” or with a “Future Release”."}]
["6.F.02",{"$f":"B246","v":"Property Intake"},{"$f":"C246","v":"Functional"},"Documenting\nProperty Categories","Must Have","Please list your solution's capability to document multiple property categories (e.g., evidence and in-custody).",null,"Cannot Meet",{"$f":"IFERROR(VLOOKUP(H247,VendorResponseLookupTbl[], 2,0), \"\")","v":" The product cannot meet the requirement “Out-of-the-Box”, “With Configuration”, “With Custom Programming” or with a “Future Release”."}]
["6.F.03",{"$f":"B247","v":"Property Intake"},{"$f":"C247","v":"Functional"},"Documenting\nNIBRS Requirements","Must Have","Please list your solution's ability to document property and evidence consistent with NIBRS reporting requirements.",null,"Cannot Meet",{"$f":"IFERROR(VLOOKUP(H248,VendorResponseLookupTbl[], 2,0), \"\")","v":" The product cannot meet the requirement “Out-of-the-Box”, “With Configuration”, “With Custom Programming” or with a “Future Release”."}]
["6.F.04","Property Intake","Functional","Documenting\nNIBRS Validation","Must Have","Please list your solution's capability for a User to validate compliance with NIBRS reporting requirements at the time of data entry.",null,"Cannot Meet",{"$f":"IFERROR(VLOOKUP(H249,VendorResponseLookupTbl[], 2,0), \"\")","v":" The product cannot meet the requirement “Out-of-the-Box”, “With Configuration”, “With Custom Programming” or with a “Future Release”."}]
["6.F.05","Property Intake","Functional","Creating a Barcode Label","Must Have","Please list your solution's ability to create a bar label from data entered in the report.",null,"Cannot Meet",{"$f":"IFERROR(VLOOKUP(H250,VendorResponseLookupTbl[], 2,0), \"\")","v":" The product cannot meet the requirement “Out-of-the-Box”, “With Configuration”, “With Custom Programming” or with a “Future Release”."}]
["6.F.06","Property Intake","Functional","Generating a Barcode Label","Must Have","Please list your solution's ability to generate and print barcode labels to affix to the property packaging.",null,"Cannot Meet",{"$f":"IFERROR(VLOOKUP(H251,VendorResponseLookupTbl[], 2,0), \"\")","v":" The product cannot meet the requirement “Out-of-the-Box”, “With Configuration”, “With Custom Programming” or with a “Future Release”."}]
["6.F.07","Property Intake","Functional","Printing Barcodes","Must Have","Please list your solution's ability to select and print:\n\na) Single barcode labels\nb) Multiple barcode labels at once",null,"Cannot Meet",{"$f":"IFERROR(VLOOKUP(H252,VendorResponseLookupTbl[], 2,0), \"\")","v":" The product cannot meet the requirement “Out-of-the-Box”, “With Configuration”, “With Custom Programming” or with a “Future Release”."}]
["6.F.08","Property Intake","Functional","Processing\nFlagging Items","Must Have","Please list your solution's ability to flag items for processing.",null,"Cannot Meet",{"$f":"IFERROR(VLOOKUP(H253,VendorResponseLookupTbl[], 2,0), \"\")","v":" The product cannot meet the requirement “Out-of-the-Box”, “With Configuration”, “With Custom Programming” or with a “Future Release”."}]
["6.F.09","Property Intake","Functional","Processing\nSpecify Type","Must Have","Please list your solution's ability to specify type of processing required (drop down menu).",null,"Cannot Meet",{"$f":"IFERROR(VLOOKUP(H254,VendorResponseLookupTbl[], 2,0), \"\")","v":" The product cannot meet the requirement “Out-of-the-Box”, “With Configuration”, “With Custom Programming” or with a “Future Release”."}]
["6.F.10","Property Intake","Functional","Adding Photos","Must Have","Please list your solution's ability to add a photo of a property item to the property item record.",null,"Cannot Meet",{"$f":"IFERROR(VLOOKUP(H255,VendorResponseLookupTbl[], 2,0), \"\")","v":" The product cannot meet the requirement “Out-of-the-Box”, “With Configuration”, “With Custom Programming” or with a “Future Release”."}]
["6.G.00","General Data Quality Controls"]
["6.G.01",{"$f":"B256","v":"General Data Quality Controls"},"Functional","Word Processing","Must Have","Please list your solution's ability to provide word processing capabilities on narrative and comment fields, including, but not limited to: \n\na) Text wrap\nb) Paragraph formatting\nc) Use of bullets and numbering\nd) Spell check\ne) Cut and paste\nf) Grammer check\n\nNOTE:  Thornton is a Microsoft Office house.",null,"Cannot Meet",{"$f":"IFERROR(VLOOKUP(H257,VendorResponseLookupTbl[], 2,0), \"\")","v":" The product cannot meet the requirement “Out-of-the-Box”, “With Configuration”, “With Custom Programming” or with a “Future Release”."}]
["6.G.02",{"$f":"B257","v":"General Data Quality Controls"},{"$f":"C257","v":"Functional"},"Drop-Down Lists","Must Have","Please list your solution's ability to use drop down lists to incorporate NCIC, UCR and NIBRS codes where applicable.",null,"Cannot Meet",{"$f":"IFERROR(VLOOKUP(H258,VendorResponseLookupTbl[], 2,0), \"\")","v":" The product cannot meet the requirement “Out-of-the-Box”, “With Configuration”, “With Custom Programming” or with a “Future Release”."}]
["6.G.03",{"$f":"B258","v":"General Data Quality Controls"},{"$f":"C258","v":"Functional"},"Populating Offenses","Must Have","Please list your solution's ability to select an offense to populate applicable fields with  corresponding NCIC, UCR and NIBRS codes.",null,"Cannot Meet",{"$f":"IFERROR(VLOOKUP(H259,VendorResponseLookupTbl[], 2,0), \"\")","v":" The product cannot meet the requirement “Out-of-the-Box”, “With Configuration”, “With Custom Programming” or with a “Future Release”."}]
["6.G.04","General Data Quality Controls","Functional","Mandatory Fields\nDefining ","Must Have","Please list your solution's ability to define mandatory fields in data entry screens.",null,"Cannot Meet",{"$f":"IFERROR(VLOOKUP(H260,VendorResponseLookupTbl[], 2,0), \"\")","v":" The product cannot meet the requirement “Out-of-the-Box”, “With Configuration”, “With Custom Programming” or with a “Future Release”."}]
["6.G.05","General Data Quality Controls","Functional","Mandatory Fields\nIdentifying","Must Have","Please list your solution's ability to identify mandatory fields based on previously entered data (e.g., crime type, vehicle entered).",null,"Cannot Meet",{"$f":"IFERROR(VLOOKUP(H261,VendorResponseLookupTbl[], 2,0), \"\")","v":" The product cannot meet the requirement “Out-of-the-Box”, “With Configuration”, “With Custom Programming” or with a “Future Release”."}]
["6.G.06","General Data Quality Controls","Functional","Mandatory Fields\nDistinguishing","Must Have","Please list your solution's ability to distinguish between mandatory and optional fields.",null,"Cannot Meet",{"$f":"IFERROR(VLOOKUP(H262,VendorResponseLookupTbl[], 2,0), \"\")","v":" The product cannot meet the requirement “Out-of-the-Box”, “With Configuration”, “With Custom Programming” or with a “Future Release”."}]
["6.G.07","General Data Quality Controls","Functional","Mandatory Fields\nPrompting","Must Have","Please list your solution's ability to prompt user to complete any mandatory fields not completed.",null,"Cannot Meet",{"$f":"IFERROR(VLOOKUP(H263,VendorResponseLookupTbl[], 2,0), \"\")","v":" The product cannot meet the requirement “Out-of-the-Box”, “With Configuration”, “With Custom Programming” or with a “Future Release”."}]
["6.G.08","General Data Quality Controls","Functional","Limitation of Data Entry","Must Have","Please list your solution's ability to limit available values in subsequent code tables based on previously entered data (e.g., crime type).",null,"Cannot Meet",{"$f":"IFERROR(VLOOKUP(H264,VendorResponseLookupTbl[], 2,0), \"\")","v":" The product cannot meet the requirement “Out-of-the-Box”, “With Configuration”, “With Custom Programming” or with a “Future Release”."}]
["6.G.09","General Data Quality Controls","Functional","Data Confirmation","Must Have","Please list your solution's ability to require Users to confirm information in auto-populated fields is correct prior to report submission.",null,"Cannot Meet",{"$f":"IFERROR(VLOOKUP(H265,VendorResponseLookupTbl[], 2,0), \"\")","v":" The product cannot meet the requirement “Out-of-the-Box”, “With Configuration”, “With Custom Programming” or with a “Future Release”."}]
["6.H.00","Data Validation"]
["6.H.01",{"$f":"B266","v":"Data Validation"},"Functional","Data Entry","Must Have","Please list your solution's ability to perform data validation at the time of data entry.",null,"Cannot Meet",{"$f":"IFERROR(VLOOKUP(H267,VendorResponseLookupTbl[], 2,0), \"\")","v":" The product cannot meet the requirement “Out-of-the-Box”, “With Configuration”, “With Custom Programming” or with a “Future Release”."}]
["6.H.02",{"$f":"B267","v":"Data Validation"},"Functional","Location Entry","Must Have","Please list your solution's ability to validate location information at time of data entry.",null,"Cannot Meet",{"$f":"IFERROR(VLOOKUP(H268,VendorResponseLookupTbl[], 2,0), \"\")","v":" The product cannot meet the requirement “Out-of-the-Box”, “With Configuration”, “With Custom Programming” or with a “Future Release”."}]
["6.H.03",{"$f":"B268","v":"Data Validation"},"Functional","Data Validation","Must Have","Please list your solution's ability to validate data to ensure that information is entered properly (e.g., 9 digits for a social security number, valid dates, appropriate combination of letters and numbers for a driver's license).",null,"Cannot Meet",{"$f":"IFERROR(VLOOKUP(H269,VendorResponseLookupTbl[], 2,0), \"\")","v":" The product cannot meet the requirement “Out-of-the-Box”, “With Configuration”, “With Custom Programming” or with a “Future Release”."}]
["6.H.04","Data Validation","Functional","Agency Defined","Must Have","Please list your solution's ability for an Agency to designate which fields require data validation.",null,"Cannot Meet",{"$f":"IFERROR(VLOOKUP(H270,VendorResponseLookupTbl[], 2,0), \"\")","v":" The product cannot meet the requirement “Out-of-the-Box”, “With Configuration”, “With Custom Programming” or with a “Future Release”."}]
["6.H.05","Data Validation","Functional","Required Fields","Must Have","Please list your solution's ability to validate data entry to ensure all required fields have been completed.",null,"Cannot Meet",{"$f":"IFERROR(VLOOKUP(H271,VendorResponseLookupTbl[], 2,0), \"\")","v":" The product cannot meet the requirement “Out-of-the-Box”, “With Configuration”, “With Custom Programming” or with a “Future Release”."}]
["6.H.06","Data Validation","Functional","Code Validation","Must Have","Please list your solution's ability to validate data to ensure that only valid codes have been used.",null,"Cannot Meet",{"$f":"IFERROR(VLOOKUP(H272,VendorResponseLookupTbl[], 2,0), \"\")","v":" The product cannot meet the requirement “Out-of-the-Box”, “With Configuration”, “With Custom Programming” or with a “Future Release”."}]
["6.H.07","Data Validation","Functional","Master Index","Must Have","Please list your solution's ability to validate any data field that includes master index data against master indices.",null,"Cannot Meet",{"$f":"IFERROR(VLOOKUP(H273,VendorResponseLookupTbl[], 2,0), \"\")","v":" The product cannot meet the requirement “Out-of-the-Box”, “With Configuration”, “With Custom Programming” or with a “Future Release”."}]
["6.H.08","Data Validation","Functional","Correcting Data","Must Have","Please list your solution's ability for corrected data in a field (e.g., address) to auto populate across related reports.",null,"Cannot Meet",{"$f":"IFERROR(VLOOKUP(H274,VendorResponseLookupTbl[], 2,0), \"\")","v":" The product cannot meet the requirement “Out-of-the-Box”, “With Configuration”, “With Custom Programming” or with a “Future Release”."}]
["6.H.09","Data Validation","Functional","Unvalidated Addresses\nReporting","Must Have","Please list your solution's ability for a User to submit a report with unvalidated addresses.",null,"Cannot Meet",{"$f":"IFERROR(VLOOKUP(H275,VendorResponseLookupTbl[], 2,0), \"\")","v":" The product cannot meet the requirement “Out-of-the-Box”, “With Configuration”, “With Custom Programming” or with a “Future Release”."}]
["6.H.10","Data Validation","Functional","Unvalidated Addresses\nVisual Indicator","Must Have","Please list your solution's ability to provide a visual indicator that an address has not been validated.",null,"Cannot Meet",{"$f":"IFERROR(VLOOKUP(H276,VendorResponseLookupTbl[], 2,0), \"\")","v":" The product cannot meet the requirement “Out-of-the-Box”, “With Configuration”, “With Custom Programming” or with a “Future Release”."}]
["6.I.00","Forms"]
["6.I.01",{"$f":"B277","v":"Forms"},"Functional","Offense Type","Must Have","Please list your solution's ability for the system to identify required forms based on the offense type.",null,"Cannot Meet",{"$f":"IFERROR(VLOOKUP(H278,VendorResponseLookupTbl[], 2,0), \"\")","v":" The product cannot meet the requirement “Out-of-the-Box”, “With Configuration”, “With Custom Programming” or with a “Future Release”."}]
["6.I.02",{"$f":"B278","v":"Forms"},{"$f":"C278","v":"Functional"},"Data Population","Must Have","Please list your solution's ability to populate report forms with data entered in the incident report.",null,"Cannot Meet",{"$f":"IFERROR(VLOOKUP(H279,VendorResponseLookupTbl[], 2,0), \"\")","v":" The product cannot meet the requirement “Out-of-the-Box”, “With Configuration”, “With Custom Programming” or with a “Future Release”."}]
["6.I.03",{"$f":"B279","v":"Forms"},{"$f":"C279","v":"Functional"},"Adding Information","Must Have","Please list your solution's ability to add information to forms.",null,"Cannot Meet",{"$f":"IFERROR(VLOOKUP(H280,VendorResponseLookupTbl[], 2,0), \"\")","v":" The product cannot meet the requirement “Out-of-the-Box”, “With Configuration”, “With Custom Programming” or with a “Future Release”."}]
["6.I.04",{"$f":"B280","v":"Forms"},{"$f":"C280","v":"Functional"},"Cut and Paste","Must Have","Please list your solution's ability to cut and past data between report forms.",null,"Cannot Meet",{"$f":"IFERROR(VLOOKUP(H281,VendorResponseLookupTbl[], 2,0), \"\")","v":" The product cannot meet the requirement “Out-of-the-Box”, “With Configuration”, “With Custom Programming” or with a “Future Release”."}]
["6.J.00","Report Submission"]
["6.J.01",{"$f":"B282","v":"Report Submission"},"Functional","NIBRS Reporting Requirements","Must Have","Please list your solution's ability to ensure that reports are compliant with NIBRS reporting requirements prior to submission for approval.",null,"Cannot Meet",{"$f":"IFERROR(VLOOKUP(H283,VendorResponseLookupTbl[], 2,0), \"\")","v":" The product cannot meet the requirement “Out-of-the-Box”, “With Configuration”, “With Custom Programming” or with a “Future Release”."}]
["6.J.02",{"$f":"B283","v":"Report Submission"},{"$f":"C283","v":"Functional"},"NIBRS Errors","Must Have","Please list your solution's ability to prevent submission of a report with NIBRS errors.",null,"Cannot Meet",{"$f":"IFERROR(VLOOKUP(H284,VendorResponseLookupTbl[], 2,0), \"\")","v":" The product cannot meet the requirement “Out-of-the-Box”, “With Configuration”, “With Custom Programming” or with a “Future Release”."}]
["6.J.03",{"$f":"B284","v":"Report Submission"},{"$f":"C284","v":"Functional"},"Error Message","Must Have","Please list your solution's capability of providing an error message describing corrections that need to be made, if a user is prevented from submitting a report.",null,"Cannot Meet",{"$f":"IFERROR(VLOOKUP(H285,VendorResponseLookupTbl[], 2,0), \"\")","v":" The product cannot meet the requirement “Out-of-the-Box”, “With Configuration”, “With Custom Programming” or with a “Future Release”."}]
["6.J.04","Report Submission","Functional","Officer Prompts","Must Have","Please list your solution's capability of prompting an officer as to which fields require correction.",null,"Cannot Meet",{"$f":"IFERROR(VLOOKUP(H286,VendorResponseLookupTbl[], 2,0), \"\")","v":" The product cannot meet the requirement “Out-of-the-Box”, “With Configuration”, “With Custom Programming” or with a “Future Release”."}]
["6.J.05","Report Submission","Functional","Officer Direction","Must Have","Please list your solution's capability of directing the officer to the field requiring correction.",null,"Cannot Meet",{"$f":"IFERROR(VLOOKUP(H287,VendorResponseLookupTbl[], 2,0), \"\")","v":" The product cannot meet the requirement “Out-of-the-Box”, “With Configuration”, “With Custom Programming” or with a “Future Release”."}]
["6.J.06","Report Submission","Functional","Officer Assistance","Must Have","Please list your solution's ability to provide information to assist the officer with the required correction.",null,"Cannot Meet",{"$f":"IFERROR(VLOOKUP(H288,VendorResponseLookupTbl[], 2,0), \"\")","v":" The product cannot meet the requirement “Out-of-the-Box”, “With Configuration”, “With Custom Programming” or with a “Future Release”."}]
["6.K.00","Report Approval"]
["6.K.01",{"$f":"B289","v":"Report Approval"},"Functional","Approval Workflows\nConfigurations","Must Have","Please list your solution's ability to configure the report approval process to support the agency's desired approval workflow process.",null,"Cannot Meet",{"$f":"IFERROR(VLOOKUP(H290,VendorResponseLookupTbl[], 2,0), \"\")","v":" The product cannot meet the requirement “Out-of-the-Box”, “With Configuration”, “With Custom Programming” or with a “Future Release”."}]
["6.K.02",{"$f":"B290","v":"Report Approval"},{"$f":"C290","v":"Functional"},"Approval Workflows\nSeparate Workflows","Must Have","Please list your solution's ability for the approval workflow process to be different for different types of reports.",null,"Cannot Meet",{"$f":"IFERROR(VLOOKUP(H291,VendorResponseLookupTbl[], 2,0), \"\")","v":" The product cannot meet the requirement “Out-of-the-Box”, “With Configuration”, “With Custom Programming” or with a “Future Release”."}]
["6.K.03",{"$f":"B291","v":"Report Approval"},{"$f":"C291","v":"Functional"},"Required vs. Non-Required Workflows","Must Have","Please list your solution's ability for the agency to determine which type of reports require approval (e.g., arrest/incident vs. field interview).",null,"Cannot Meet",{"$f":"IFERROR(VLOOKUP(H292,VendorResponseLookupTbl[], 2,0), \"\")","v":" The product cannot meet the requirement “Out-of-the-Box”, “With Configuration”, “With Custom Programming” or with a “Future Release”."}]
["6.K.04","Report Approval","Functional","Viewing Data","Must Have","Please list your solution's capability for each agency to determine at what point in the workflow data will be available for other users to view.",null,"Cannot Meet",{"$f":"IFERROR(VLOOKUP(H293,VendorResponseLookupTbl[], 2,0), \"\")","v":" The product cannot meet the requirement “Out-of-the-Box”, “With Configuration”, “With Custom Programming” or with a “Future Release”."}]
["6.K.05","Report Approval","Functional","Group Submittal","Must Have","Please list your solution's capability for officers to submit a report to a supervisor \"group\" rather than an individual supervisor (e.g., in case a supervisor goes off-duty before approving reports).",null,"Cannot Meet",{"$f":"IFERROR(VLOOKUP(H294,VendorResponseLookupTbl[], 2,0), \"\")","v":" The product cannot meet the requirement “Out-of-the-Box”, “With Configuration”, “With Custom Programming” or with a “Future Release”."}]
["6.K.06","Report Approval","Functional","Notification for Review","Must Have","Please list your solution's ability to alert supervisor that a report is ready for review.",null,"Cannot Meet",{"$f":"IFERROR(VLOOKUP(H295,VendorResponseLookupTbl[], 2,0), \"\")","v":" The product cannot meet the requirement “Out-of-the-Box”, “With Configuration”, “With Custom Programming” or with a “Future Release”."}]
["6.K.07","Report Approval","Functional","High Importance Notification\nSupervisors","Must Have","Please list your solution's capability for officers to indicate that a report requires immediate supervisor attention.",null,"Cannot Meet",{"$f":"IFERROR(VLOOKUP(H296,VendorResponseLookupTbl[], 2,0), \"\")","v":" The product cannot meet the requirement “Out-of-the-Box”, “With Configuration”, “With Custom Programming” or with a “Future Release”."}]
["6.K.08","Report Approval","Functional","High Importance Notification\nDetectives","Must Have","Please list your solution's ability for officers to indicate that a report requires immediate attention by investigations.",null,"Cannot Meet",{"$f":"IFERROR(VLOOKUP(H297,VendorResponseLookupTbl[], 2,0), \"\")","v":" The product cannot meet the requirement “Out-of-the-Box”, “With Configuration”, “With Custom Programming” or with a “Future Release”."}]
["6.K.09","Report Approval","Functional","Supervisor Review\nOnline Access","Must Have","Please list your solution's capability for  supervisors to receive, review and approve incident reports online.",null,"Cannot Meet",{"$f":"IFERROR(VLOOKUP(H298,VendorResponseLookupTbl[], 2,0), \"\")","v":" The product cannot meet the requirement “Out-of-the-Box”, “With Configuration”, “With Custom Programming” or with a “Future Release”."}]
["6.K.10","Report Approval","Functional","Locking Reports","Must Have","Please list your solution's capability for the agency to determine at what point in the review process the report should be locked from further edits.",null,"Cannot Meet",{"$f":"IFERROR(VLOOKUP(H299,VendorResponseLookupTbl[], 2,0), \"\")","v":" The product cannot meet the requirement “Out-of-the-Box”, “With Configuration”, “With Custom Programming” or with a “Future Release”."}]
["6.K.11","Report Approval","Functional","Send Back Functionality","Must Have","Please list your solution's ability to provide the supervisor the option of approving the report or returning the report to an officer for corrections.",null,"Cannot Meet",{"$f":"IFERROR(VLOOKUP(H300,VendorResponseLookupTbl[], 2,0), \"\")","v":" The product cannot meet the requirement “Out-of-the-Box”, “With Configuration”, “With Custom Programming” or with a “Future Release”."}]
["6.K.12","Report Approval","Functional","Attaching Supervisor Notes","Must Have","Please list your solution's capability for supervisors to attach electronic notes to a report to indicate to the officer areas that need to be corrected.",null,"Cannot Meet",{"$f":"IFERROR(VLOOKUP(H301,VendorResponseLookupTbl[], 2,0), \"\")","v":" The product cannot meet the requirement “Out-of-the-Box”, “With Configuration”, “With Custom Programming” or with a “Future Release”."}]
["6.K.13","Report Approval","Functional","No Character Limits","Must Have","Please list your solution's ability to provide unlimited space for supervisors to write notes.",null,"Cannot Meet",{"$f":"IFERROR(VLOOKUP(H302,VendorResponseLookupTbl[], 2,0), \"\")","v":" The product cannot meet the requirement “Out-of-the-Box”, “With Configuration”, “With Custom Programming” or with a “Future Release”."}]
["6.K.14","Report Approval","Functional","Deletion of Corrective Messages","Must Have","Please list your solution's ability for system to automatically delete corrective messages after a report has been approved by a supervisor.",null,"Cannot Meet",{"$f":"IFERROR(VLOOKUP(H303,VendorResponseLookupTbl[], 2,0), \"\")","v":" The product cannot meet the requirement “Out-of-the-Box”, “With Configuration”, “With Custom Programming” or with a “Future Release”."}]
["6.K.15","Report Approval","Functional","Report Status Tracking","Must Have","Please list your solution's ability to track the status of reports (e.g., unwritten, incomplete, awaiting approval, approved).",null,"Cannot Meet",{"$f":"IFERROR(VLOOKUP(H304,VendorResponseLookupTbl[], 2,0), \"\")","v":" The product cannot meet the requirement “Out-of-the-Box”, “With Configuration”, “With Custom Programming” or with a “Future Release”."}]
["6.K.16","Report Approval","Functional","Notification for Review\nSupervisors","Must Have","Please list your solution's capability for supervisors to know that they have outstanding reports to review.",null,"Cannot Meet",{"$f":"IFERROR(VLOOKUP(H305,VendorResponseLookupTbl[], 2,0), \"\")","v":" The product cannot meet the requirement “Out-of-the-Box”, “With Configuration”, “With Custom Programming” or with a “Future Release”."}]
["6.K.17","Report Approval","Functional","Recurring Notifications","Must Have","Please list your solution's ability to send recurring notifications to officers regarding reports needing corrections.",null,"Cannot Meet",{"$f":"IFERROR(VLOOKUP(H306,VendorResponseLookupTbl[], 2,0), \"\")","v":" The product cannot meet the requirement “Out-of-the-Box”, “With Configuration”, “With Custom Programming” or with a “Future Release”."}]
["6.K.18","Report Approval","Functional","Incomplete Reports","Must Have","Please list your solution's ability to identify incomplete or missing reports.",null,"Cannot Meet",{"$f":"IFERROR(VLOOKUP(H307,VendorResponseLookupTbl[], 2,0), \"\")","v":" The product cannot meet the requirement “Out-of-the-Box”, “With Configuration”, “With Custom Programming” or with a “Future Release”."}]
["6.K.19","Report Approval","Functional","Notification of Incomplete Reports","Must Have","Please list your solution's to notify supervisors and officers of incomplete reports at an agency-defined time prior to the end of the supervisor or officer work week.",null,"Cannot Meet",{"$f":"IFERROR(VLOOKUP(H308,VendorResponseLookupTbl[], 2,0), \"\")","v":" The product cannot meet the requirement “Out-of-the-Box”, “With Configuration”, “With Custom Programming” or with a “Future Release”."}]
["6.K.20","Report Approval","Functional","NIBRS Accuracy Review","Must Have","Please list your solution's capability for records personnel to complete an accuracy review for NIBRS reporting requirement compliance prior to adding report to the RMS database.",null,"Cannot Meet",{"$f":"IFERROR(VLOOKUP(H309,VendorResponseLookupTbl[], 2,0), \"\")","v":" The product cannot meet the requirement “Out-of-the-Box”, “With Configuration”, “With Custom Programming” or with a “Future Release”."}]
["6.K.21","Report Approval","Functional","Send Back Functionality\nRecords Personnel","Must Have","Please list your solution's capability for records personnel to send reports back to officers if reports do not comply with reporting requirements.",null,"Cannot Meet",{"$f":"IFERROR(VLOOKUP(H310,VendorResponseLookupTbl[], 2,0), \"\")","v":" The product cannot meet the requirement “Out-of-the-Box”, “With Configuration”, “With Custom Programming” or with a “Future Release”."}]
["6.K.22","Report Approval","Functional","Routing Reports\nSpecific Criteria","Must Have","Please list your solution's ability to electronically route reports to specific individuals, roles, people and groups, based on the following, but not limited to:\n\na) Crime type\nb) Checkboxes indicating to where the report is to be distributed\nc) Email addresses\nd) User-defined criteria (e.g., crime type, unit)",null,"Cannot Meet",{"$f":"IFERROR(VLOOKUP(H311,VendorResponseLookupTbl[], 2,0), \"\")","v":" The product cannot meet the requirement “Out-of-the-Box”, “With Configuration”, “With Custom Programming” or with a “Future Release”."}]
["6.L.00","DUI Reporting"]
["6.L.01",{"$f":"B312","v":"DUI Reporting"},"Functional","Provision of DUI Forms","Must Have","Please list your solution's ability to provide DUI forms for completion upon selection of a crime type indicating a DUI incident.",null,"Cannot Meet",{"$f":"IFERROR(VLOOKUP(H313,VendorResponseLookupTbl[], 2,0), \"\")","v":" The product cannot meet the requirement “Out-of-the-Box”, “With Configuration”, “With Custom Programming” or with a “Future Release”."}]
["6.L.02",{"$f":"B313","v":"DUI Reporting"},{"$f":"C313","v":"Functional"},"Field Sobriety Information","Must Have","Please list your solution's ability to capture relevant information from the administration of a field sobriety test.",null,"Cannot Meet",{"$f":"IFERROR(VLOOKUP(H314,VendorResponseLookupTbl[], 2,0), \"\")","v":" The product cannot meet the requirement “Out-of-the-Box”, “With Configuration”, “With Custom Programming” or with a “Future Release”."}]
["6.L.03",{"$f":"B314","v":"DUI Reporting"},{"$f":"C314","v":"Functional"},"Chemical Testing Information","Must Have","Please list your solution's ability to capture relevant information from the administration of chemical tests.",null,"Cannot Meet",{"$f":"IFERROR(VLOOKUP(H315,VendorResponseLookupTbl[], 2,0), \"\")","v":" The product cannot meet the requirement “Out-of-the-Box”, “With Configuration”, “With Custom Programming” or with a “Future Release”."}]
["6.L.04","DUI Reporting","Functional","Propagation of Information","Must Have","Please list your solution's ability to propagate information from one form to another upon entry of data in a field that is shared across forms.",null,"Cannot Meet",{"$f":"IFERROR(VLOOKUP(H316,VendorResponseLookupTbl[], 2,0), \"\")","v":" The product cannot meet the requirement “Out-of-the-Box”, “With Configuration”, “With Custom Programming” or with a “Future Release”."}]
["6.L.05","DUI Reporting","Functional","Elimination of Duplicates","Must Have","Please list your solution's ability to eliminate duplicate data entry by auto-populating incident report with information the DUI forms.",null,"Cannot Meet",{"$f":"IFERROR(VLOOKUP(H317,VendorResponseLookupTbl[], 2,0), \"\")","v":" The product cannot meet the requirement “Out-of-the-Box”, “With Configuration”, “With Custom Programming” or with a “Future Release”."}]
["6.M.00","Crash Reporting"]
["6.M.01",{"$f":"B318","v":"Crash Reporting"},"Functional","Create a Crash Report","Must Have","Please list your solution's ability to write a crash report in your RMS.",null,"Cannot Meet",{"$f":"IFERROR(VLOOKUP(H319,VendorResponseLookupTbl[], 2,0), \"\")","v":" The product cannot meet the requirement “Out-of-the-Box”, “With Configuration”, “With Custom Programming” or with a “Future Release”."}]
["6.M.02",{"$f":"B319","v":"Crash Reporting"},{"$f":"C319","v":"Functional"},"Create a Crash Diagram","Must Have","Please list your solution's ability to create a crash diagram in the RMS.",null,"Cannot Meet",{"$f":"IFERROR(VLOOKUP(H320,VendorResponseLookupTbl[], 2,0), \"\")","v":" The product cannot meet the requirement “Out-of-the-Box”, “With Configuration”, “With Custom Programming” or with a “Future Release”."}]
["6.M.03",{"$f":"B320","v":"Crash Reporting"},{"$f":"C320","v":"Functional"},"Exporting Crash Report","Must Have","Please list your solution's ability to export the following information to the State of Colorado Crash Report:\n\na) Personal information\nb) Vehicle information\nc) Incident date and time\nd) Incident location\ne) Crash diagram",null,"Cannot Meet",{"$f":"IFERROR(VLOOKUP(H321,VendorResponseLookupTbl[], 2,0), \"\")","v":" The product cannot meet the requirement “Out-of-the-Box”, “With Configuration”, “With Custom Programming” or with a “Future Release”."}]
["6.M.04","Crash Reporting","Functional","Unlimited Persons in Report","Must Have","Please list your solution's ability to accommodate an unlimited number of persons of any type (e.g., pedestrian, driver, passenger, witnesses) into the collision report.",null,"Cannot Meet",{"$f":"IFERROR(VLOOKUP(H322,VendorResponseLookupTbl[], 2,0), \"\")","v":" The product cannot meet the requirement “Out-of-the-Box”, “With Configuration”, “With Custom Programming” or with a “Future Release”."}]
["6.M.05","Crash Reporting","Functional","Unlimited Vehicles in Report","Must Have","Please list your solution's ability to enter an unlimited number of vehicles into the crash report.",null,"Cannot Meet",{"$f":"IFERROR(VLOOKUP(H323,VendorResponseLookupTbl[], 2,0), \"\")","v":" The product cannot meet the requirement “Out-of-the-Box”, “With Configuration”, “With Custom Programming” or with a “Future Release”."}]
["6.M.06","Crash Reporting","Functional","Unlimited Statutes in Report","Must Have","Please list your solution's ability to enter an unlimited number of statutes into the crash report.",null,"Cannot Meet",{"$f":"IFERROR(VLOOKUP(H324,VendorResponseLookupTbl[], 2,0), \"\")","v":" The product cannot meet the requirement “Out-of-the-Box”, “With Configuration”, “With Custom Programming” or with a “Future Release”."}]
["6.M.07","Crash Reporting","Functional","Charges Filed","Must Have","Please list your solution's ability to provide dedicated fields to capture charges associated with a crash incident.",null,"Cannot Meet",{"$f":"IFERROR(VLOOKUP(H325,VendorResponseLookupTbl[], 2,0), \"\")","v":" The product cannot meet the requirement “Out-of-the-Box”, “With Configuration”, “With Custom Programming” or with a “Future Release”."}]
["6.M.08","Crash Reporting","Functional","Linking Citations","Must Have","Please list your solution's ability to link citations associated with a collision to the crash report.",null,"Cannot Meet",{"$f":"IFERROR(VLOOKUP(H326,VendorResponseLookupTbl[], 2,0), \"\")","v":" The product cannot meet the requirement “Out-of-the-Box”, “With Configuration”, “With Custom Programming” or with a “Future Release”."}]
["6.M.09","Crash Reporting","Functional","Linking Crash Report","Must Have","Please list your solution's ability to link crash report to call for service record.",null,"Cannot Meet",{"$f":"IFERROR(VLOOKUP(H327,VendorResponseLookupTbl[], 2,0), \"\")","v":" The product cannot meet the requirement “Out-of-the-Box”, “With Configuration”, “With Custom Programming” or with a “Future Release”."}]
["6.M.10","Crash Reporting","Functional","Injury Types","Must Have","Please list your solution's ability to provide dedicated fields to capture injury types.",null,"Cannot Meet",{"$f":"IFERROR(VLOOKUP(H328,VendorResponseLookupTbl[], 2,0), \"\")","v":" The product cannot meet the requirement “Out-of-the-Box”, “With Configuration”, “With Custom Programming” or with a “Future Release”."}]
["6.M.11","Crash Reporting","Functional","Number of Injuries","Must Have","Please list your solution's ability to calculate number of each type of injury from the entry of individual injuries.",null,"Cannot Meet",{"$f":"IFERROR(VLOOKUP(H329,VendorResponseLookupTbl[], 2,0), \"\")","v":" The product cannot meet the requirement “Out-of-the-Box”, “With Configuration”, “With Custom Programming” or with a “Future Release”."}]
["6.M.12","Crash Reporting","Functional","Worst Injury Type","Must Have","Please list your solution's ability to provide a dedicated field to indicate worst injury type.",null,"Cannot Meet",{"$f":"IFERROR(VLOOKUP(H330,VendorResponseLookupTbl[], 2,0), \"\")","v":" The product cannot meet the requirement “Out-of-the-Box”, “With Configuration”, “With Custom Programming” or with a “Future Release”."}]
["6.M.13","Crash Reporting","Functional","Worst Injury Type\nIndividual Injuries","Must Have","Please list your solution's ability to calculate the worst injury type from the entry of individual injuries.",null,"Cannot Meet",{"$f":"IFERROR(VLOOKUP(H331,VendorResponseLookupTbl[], 2,0), \"\")","v":" The product cannot meet the requirement “Out-of-the-Box”, “With Configuration”, “With Custom Programming” or with a “Future Release”."}]
["6.M.14","Crash Reporting","Functional","DUI Related Crash","Must Have","Please list your solution's ability to provide a dedicated field to indicate whether a crash is related to a DUI incident.",null,"Cannot Meet",{"$f":"IFERROR(VLOOKUP(H332,VendorResponseLookupTbl[], 2,0), \"\")","v":" The product cannot meet the requirement “Out-of-the-Box”, “With Configuration”, “With Custom Programming” or with a “Future Release”."}]
["6.M.15","Crash Reporting","Functional","Accident Information Exchange Form","Must Have","Please list your solution's ability to provide fields required to create a PDF Accident Information Exchange Form:\n\na) Driver information\nb) Insurance information\nc) Vehicle impound information",null,"Cannot Meet",{"$f":"IFERROR(VLOOKUP(H333,VendorResponseLookupTbl[], 2,0), \"\")","v":" The product cannot meet the requirement “Out-of-the-Box”, “With Configuration”, “With Custom Programming” or with a “Future Release”."}]
["6.M.16","Crash Reporting","Functional","Drop-Down Menu","Must Have","Please list your solution's ability to  provide drop down menus with pre-populated information for: \n\na) Vehicle make and model\nb) Insurance companies",null,"Cannot Meet",{"$f":"IFERROR(VLOOKUP(H334,VendorResponseLookupTbl[], 2,0), \"\")","v":" The product cannot meet the requirement “Out-of-the-Box”, “With Configuration”, “With Custom Programming” or with a “Future Release”."}]
["6.M.17","Crash Reporting","Functional","Accident Report Attachments","Must Have","Please list your solution's ability to attach files to accident reports.",null,"Cannot Meet",{"$f":"IFERROR(VLOOKUP(H335,VendorResponseLookupTbl[], 2,0), \"\")","v":" The product cannot meet the requirement “Out-of-the-Box”, “With Configuration”, “With Custom Programming” or with a “Future Release”."}]
["6.M.18","Crash Reporting","Functional","Attaching Scene Photos","Must Have","Please list your solution's ability to attach collision scene photos and crash reconstruction drawings to an report.",null,"Cannot Meet",{"$f":"IFERROR(VLOOKUP(H336,VendorResponseLookupTbl[], 2,0), \"\")","v":" The product cannot meet the requirement “Out-of-the-Box”, “With Configuration”, “With Custom Programming” or with a “Future Release”."}]
["6.M.19","Crash Reporting","Functional","Lookups of Individuals","Must Have","Please list your solution's ability to perform lookups against the Master Name file for previously entered individuals.",null,"Cannot Meet",{"$f":"IFERROR(VLOOKUP(H337,VendorResponseLookupTbl[], 2,0), \"\")","v":" The product cannot meet the requirement “Out-of-the-Box”, “With Configuration”, “With Custom Programming” or with a “Future Release”."}]
["6.M.20","Crash Reporting","Functional","Lookups of Vehicles","Must Have","Please list your solution's ability to perform lookups against the Master Vehicle file for previously entered vehicles.",null,"Cannot Meet",{"$f":"IFERROR(VLOOKUP(H338,VendorResponseLookupTbl[], 2,0), \"\")","v":" The product cannot meet the requirement “Out-of-the-Box”, “With Configuration”, “With Custom Programming” or with a “Future Release”."}]
["6.N.00","Towed Vehicle Reporting\n(Vehicle Disposition Report)"]
["6.N.01",{"$f":"B339","v":"Towed Vehicle Reporting\n(Vehicle Disposition Report)"},"Functional","Tow and Case Record Linking","Must Have","Please list your solution's ability to link a tow record to a case report.",null,"Cannot Meet",{"$f":"IFERROR(VLOOKUP(H340,VendorResponseLookupTbl[], 2,0), \"\")","v":" The product cannot meet the requirement “Out-of-the-Box”, “With Configuration”, “With Custom Programming” or with a “Future Release”."}]
["6.N.02",{"$f":"B340","v":"Towed Vehicle Reporting\n(Vehicle Disposition Report)"},{"$f":"C340","v":"Functional"},"Creation of a Towed Vehicle Record","Should Have","Please list your solution's ability to create a towed vehicle record upon entry of a towed vehicle in the reporting application.",null,"Cannot Meet",{"$f":"IFERROR(VLOOKUP(H341,VendorResponseLookupTbl[], 2,0), \"\")","v":" The product cannot meet the requirement “Out-of-the-Box”, “With Configuration”, “With Custom Programming” or with a “Future Release”."}]
["6.N.03",{"$f":"B341","v":"Towed Vehicle Reporting\n(Vehicle Disposition Report)"},{"$f":"C341","v":"Functional"},"Importing Data for Towed Vehicle","Should Have","Please list your solution's ability to import information from Mobile Enforcement to create a towed vehicle record/report.",null,"Cannot Meet",{"$f":"IFERROR(VLOOKUP(H342,VendorResponseLookupTbl[], 2,0), \"\")","v":" The product cannot meet the requirement “Out-of-the-Box”, “With Configuration”, “With Custom Programming” or with a “Future Release”."}]
["6.N.04","Towed Vehicle Reporting\n(Vehicle Disposition Report)","Functional","Printing of Tow Forms","Should Have","Please list your solution's ability to print towed vehicle forms in the mobile environment.",null,"Cannot Meet",{"$f":"IFERROR(VLOOKUP(H343,VendorResponseLookupTbl[], 2,0), \"\")","v":" The product cannot meet the requirement “Out-of-the-Box”, “With Configuration”, “With Custom Programming” or with a “Future Release”."}]
["6.N.05","Towed Vehicle Reporting\n(Vehicle Disposition Report)","Functional","Emailing of Tow Forms","Should Have","Please list your solution's ability to email towed vehicle forms from within the RMS to the appropriate people associated with the incident.",null,"Cannot Meet",{"$f":"IFERROR(VLOOKUP(H344,VendorResponseLookupTbl[], 2,0), \"\")","v":" The product cannot meet the requirement “Out-of-the-Box”, “With Configuration”, “With Custom Programming” or with a “Future Release”."}]
[7,"Field Contacts"]
["7.A.00",{"$f":"B345","v":"Field Contacts"}]
["7.A.01",{"$f":"B346","v":"Field Contacts"},"Functional","Creation of Field Contact Records","Must Have","Please list your solution's ability to create field contact records using a quick entry form:\n\na) On a mobile computer/laptop\nb) On a tablet\nc) On a cell phone",null,"Cannot Meet",{"$f":"IFERROR(VLOOKUP(H347,VendorResponseLookupTbl[], 2,0), \"\")","v":" The product cannot meet the requirement “Out-of-the-Box”, “With Configuration”, “With Custom Programming” or with a “Future Release”."}]
["7.A.02",{"$f":"B347","v":"Field Contacts"},{"$f":"C347","v":"Functional"},"Populating Fields","Must Have","Please list your solution's ability to use scanning technology to populate fields in the field contact records.",null,"Cannot Meet",{"$f":"IFERROR(VLOOKUP(H348,VendorResponseLookupTbl[], 2,0), \"\")","v":" The product cannot meet the requirement “Out-of-the-Box”, “With Configuration”, “With Custom Programming” or with a “Future Release”."}]
["7.A.03",{"$f":"B348","v":"Field Contacts"},{"$f":"C348","v":"Functional"},"Linking Field Contacts","Must Have","Please list your solution's ability to electronically link field contact data to master indices.",null,"Cannot Meet",{"$f":"IFERROR(VLOOKUP(H349,VendorResponseLookupTbl[], 2,0), \"\")","v":" The product cannot meet the requirement “Out-of-the-Box”, “With Configuration”, “With Custom Programming” or with a “Future Release”."}]
["7.A.04","Field Contacts","Functional","Updating Master Indices","Must Have","Please list your solution's ability to automatically update master indices upon creating a new field contact record.",null,"Cannot Meet",{"$f":"IFERROR(VLOOKUP(H350,VendorResponseLookupTbl[], 2,0), \"\")","v":" The product cannot meet the requirement “Out-of-the-Box”, “With Configuration”, “With Custom Programming” or with a “Future Release”."}]
["7.A.05","Field Contacts","Functional","Multiple People/One Record","Must Have","Please list your solution's ability to document multiple people on one field contact record.",null,"Cannot Meet",{"$f":"IFERROR(VLOOKUP(H351,VendorResponseLookupTbl[], 2,0), \"\")","v":" The product cannot meet the requirement “Out-of-the-Box”, “With Configuration”, “With Custom Programming” or with a “Future Release”."}]
["7.A.06","Field Contacts","Functional","Multiple Vehicles/One Record","Must Have","Please list your solution's ability to document multiple vehicles on one field contact record.",null,"Cannot Meet",{"$f":"IFERROR(VLOOKUP(H352,VendorResponseLookupTbl[], 2,0), \"\")","v":" The product cannot meet the requirement “Out-of-the-Box”, “With Configuration”, “With Custom Programming” or with a “Future Release”."}]
["7.A.07","Field Contacts","Functional","Linking CAD Incidents","Must Have","Please list your solution's ability to link a field contact record to the related CAD incident in the Calls for Service module.",null,"Cannot Meet",{"$f":"IFERROR(VLOOKUP(H353,VendorResponseLookupTbl[], 2,0), \"\")","v":" The product cannot meet the requirement “Out-of-the-Box”, “With Configuration”, “With Custom Programming” or with a “Future Release”."}]
["7.A.08","Field Contacts","Functional","Auto populate from CAD Record","Must Have","Please list your solution's ability to auto populate the following field contact fields from a CAD record in the Calls for Service module:\n\na) Incident number\nb) Time of contact\nc) Location",null,"Cannot Meet",{"$f":"IFERROR(VLOOKUP(H354,VendorResponseLookupTbl[], 2,0), \"\")","v":" The product cannot meet the requirement “Out-of-the-Box”, “With Configuration”, “With Custom Programming” or with a “Future Release”."}]
["7.A.09","Field Contacts","Functional","Photo Capture","Must Have","Please list your solution's ability to capture a photo for a field contact (e.g., using the phone).",null,"Cannot Meet",{"$f":"IFERROR(VLOOKUP(H355,VendorResponseLookupTbl[], 2,0), \"\")","v":" The product cannot meet the requirement “Out-of-the-Box”, “With Configuration”, “With Custom Programming” or with a “Future Release”."}]
["7.A.10","Field Contacts","Functional","Geotagging","Must Have","Please list your solution's ability to geotag the location of a field contact upon entry base on GPS location.",null,"Cannot Meet",{"$f":"IFERROR(VLOOKUP(H356,VendorResponseLookupTbl[], 2,0), \"\")","v":" The product cannot meet the requirement “Out-of-the-Box”, “With Configuration”, “With Custom Programming” or with a “Future Release”."}]
["7.A.11","Field Contacts","Functional","Criteria Checkboxes","Must Have","Please list your solution's ability to provide check boxes to capture whether people meet certain criteria (e.g., sex offender, transient).",null,"Cannot Meet",{"$f":"IFERROR(VLOOKUP(H357,VendorResponseLookupTbl[], 2,0), \"\")","v":" The product cannot meet the requirement “Out-of-the-Box”, “With Configuration”, “With Custom Programming” or with a “Future Release”."}]
["7.A.12","Field Contacts","Functional","File Attachment","Must Have","Please list your solution's ability to attach files (e.g., photos, videos) to a field contact.",null,"Cannot Meet",{"$f":"IFERROR(VLOOKUP(H358,VendorResponseLookupTbl[], 2,0), \"\")","v":" The product cannot meet the requirement “Out-of-the-Box”, “With Configuration”, “With Custom Programming” or with a “Future Release”."}]
["7.A.13","Field Contacts","Functional","Routing Field Contact Records","Must Have","Please list your solution's ability to route field contact records per agency-defined business rules.",null,"Cannot Meet",{"$f":"IFERROR(VLOOKUP(H359,VendorResponseLookupTbl[], 2,0), \"\")","v":" The product cannot meet the requirement “Out-of-the-Box”, “With Configuration”, “With Custom Programming” or with a “Future Release”."}]
["7.A.14","Field Contacts","Functional","Purging Field Contact Records","Must Have","Please list your solution's ability to automatically purge field contact information, including any related information in a master index record, based on retention requirements.",null,"Cannot Meet",{"$f":"IFERROR(VLOOKUP(H360,VendorResponseLookupTbl[], 2,0), \"\")","v":" The product cannot meet the requirement “Out-of-the-Box”, “With Configuration”, “With Custom Programming” or with a “Future Release”."}]
["7.A.15","Field Contacts","Functional","Agency Defined Workflow","Must Have","Please list your solution's ability for agencies to define a review workflow for field contacts.",null,"Cannot Meet",{"$f":"IFERROR(VLOOKUP(H361,VendorResponseLookupTbl[], 2,0), \"\")","v":" The product cannot meet the requirement “Out-of-the-Box”, “With Configuration”, “With Custom Programming” or with a “Future Release”."}]
[8,"Arrest and Booking"]
["8.A.00",{"$f":"B362","v":"Arrest and Booking"}]
["8.A.01",{"$f":"B363","v":"Arrest and Booking"},"Functional","Documenting an Arrest","Must Have","Please list your solution's ability to document an arrest as part of an incident report, including but not limited to:\n\na) Case number\nb) Arrestee\nc) Arrest type\nd) Arrest date and time\ne) Arresting Officer\nf) Charges listed",null,"Cannot Meet",{"$f":"IFERROR(VLOOKUP(H364,VendorResponseLookupTbl[], 2,0), \"\")","v":" The product cannot meet the requirement “Out-of-the-Box”, “With Configuration”, “With Custom Programming” or with a “Future Release”."}]
["8.A.02",{"$f":"B364","v":"Arrest and Booking"},{"$f":"C364","v":"Functional"},"Mandatory Fields","Must Have","Please list your solution's ability to designate mandatory fields in the arrest report.",null,"Cannot Meet",{"$f":"IFERROR(VLOOKUP(H365,VendorResponseLookupTbl[], 2,0), \"\")","v":" The product cannot meet the requirement “Out-of-the-Box”, “With Configuration”, “With Custom Programming” or with a “Future Release”."}]
["8.A.03",{"$f":"B365","v":"Arrest and Booking"},{"$f":"C365","v":"Functional"},"Linking Charges","Must Have","Please list your solution's ability to link charges to multiple cases if the arrest is tied to multiple cases.",null,"Cannot Meet",{"$f":"IFERROR(VLOOKUP(H366,VendorResponseLookupTbl[], 2,0), \"\")","v":" The product cannot meet the requirement “Out-of-the-Box”, “With Configuration”, “With Custom Programming” or with a “Future Release”."}]
["8.A.04","Arrest and Booking","Functional","Collection of Arrest Information","Must Have","Please list your solution's ability to collect arrest information compliant with NIBRS reporting requirements.",null,"Cannot Meet",{"$f":"IFERROR(VLOOKUP(H367,VendorResponseLookupTbl[], 2,0), \"\")","v":" The product cannot meet the requirement “Out-of-the-Box”, “With Configuration”, “With Custom Programming” or with a “Future Release”."}]
["8.A.05","Arrest and Booking","Functional","Printing of Custody Reports","Must Have","Please list your solution's ability to print a custody report to accompany a subject during transport to the jail.",null,"Cannot Meet",{"$f":"IFERROR(VLOOKUP(H368,VendorResponseLookupTbl[], 2,0), \"\")","v":" The product cannot meet the requirement “Out-of-the-Box”, “With Configuration”, “With Custom Programming” or with a “Future Release”."}]
["8.A.06","Arrest and Booking","Functional","Booking Sheet Information","Must Have","Please list your solution's ability to collect information required to generate a booking sheet, including but not limited to:\n\na) Subject's name\nb) Known aliases\nc) Physical descriptors\nd) Address\ne) Contact information\nf) Identification numbers\ng) Charges",null,"Cannot Meet",{"$f":"IFERROR(VLOOKUP(H369,VendorResponseLookupTbl[], 2,0), \"\")","v":" The product cannot meet the requirement “Out-of-the-Box”, “With Configuration”, “With Custom Programming” or with a “Future Release”."}]
["8.A.07","Arrest and Booking","Functional","CALEA Compliance","Must Have","Please list your solution's ability to provide a booking checklist to ensure compliance with CALEA requirements during the booking process.",null,"Cannot Meet",{"$f":"IFERROR(VLOOKUP(H370,VendorResponseLookupTbl[], 2,0), \"\")","v":" The product cannot meet the requirement “Out-of-the-Box”, “With Configuration”, “With Custom Programming” or with a “Future Release”."}]
["8.A.08","Arrest and Booking","Functional","Submission of Booking Sheet","Must Have","Please list your solution's ability to print out a booking sheet for submission to Adams County jail.",null,"Cannot Meet",{"$f":"IFERROR(VLOOKUP(H371,VendorResponseLookupTbl[], 2,0), \"\")","v":" The product cannot meet the requirement “Out-of-the-Box”, “With Configuration”, “With Custom Programming” or with a “Future Release”."}]
["8.A.09","Arrest and Booking","Functional","Populating Fields\nBooking Data","Must Have","Please list your solution's ability to populate arrest fields with booking data if booking is documented before documenting the arrest.",null,"Cannot Meet",{"$f":"IFERROR(VLOOKUP(H372,VendorResponseLookupTbl[], 2,0), \"\")","v":" The product cannot meet the requirement “Out-of-the-Box”, “With Configuration”, “With Custom Programming” or with a “Future Release”."}]
["8.A.10","Arrest and Booking","Functional","Populating Fields\nArrest Data","Must Have","Please list your solution's ability to populate booking fields with arrest data is arrest is documented before the subject is booked.",null,"Cannot Meet",{"$f":"IFERROR(VLOOKUP(H373,VendorResponseLookupTbl[], 2,0), \"\")","v":" The product cannot meet the requirement “Out-of-the-Box”, “With Configuration”, “With Custom Programming” or with a “Future Release”."}]
["8.A.11","Arrest and Booking","Functional","Inventorying Property","Must Have","Please list your solution's ability to document an inventory of subject's property.",null,"Cannot Meet",{"$f":"IFERROR(VLOOKUP(H374,VendorResponseLookupTbl[], 2,0), \"\")","v":" The product cannot meet the requirement “Out-of-the-Box”, “With Configuration”, “With Custom Programming” or with a “Future Release”."}]
["8.A.12","Arrest and Booking","Functional","Electronic Signatures","Must Have","Please list your solution's ability to capture an electronic signature for subject to confirm:\n\na) The list of property\nb) The release of property",null,"Cannot Meet",{"$f":"IFERROR(VLOOKUP(H375,VendorResponseLookupTbl[], 2,0), \"\")","v":" The product cannot meet the requirement “Out-of-the-Box”, “With Configuration”, “With Custom Programming” or with a “Future Release”."}]
["8.A.13","Arrest and Booking","Functional","Documenting Property Location","Must Have","Please list your solution's ability to document property location.",null,"Cannot Meet",{"$f":"IFERROR(VLOOKUP(H376,VendorResponseLookupTbl[], 2,0), \"\")","v":" The product cannot meet the requirement “Out-of-the-Box”, “With Configuration”, “With Custom Programming” or with a “Future Release”."}]
["8.A.14","Arrest and Booking","Functional","Release of Property","Must Have","Please list your solution's ability to document whether property was released or transferred to the County jail.",null,"Cannot Meet",{"$f":"IFERROR(VLOOKUP(H377,VendorResponseLookupTbl[], 2,0), \"\")","v":" The product cannot meet the requirement “Out-of-the-Box”, “With Configuration”, “With Custom Programming” or with a “Future Release”."}]
["8.A.15","Arrest and Booking","Functional","Populating Incident Reports\nArrest Reports","Must Have","Please list your solution's ability to populate incident report with information in the arrest report.",null,"Cannot Meet",{"$f":"IFERROR(VLOOKUP(H378,VendorResponseLookupTbl[], 2,0), \"\")","v":" The product cannot meet the requirement “Out-of-the-Box”, “With Configuration”, “With Custom Programming” or with a “Future Release”."}]
["8.A.16","Arrest and Booking","Functional","Populating Incident Reports\nArrest/Booking Documents","Must Have","Please list your solution's ability to populate incident report with information in the arrest and booking documents.",null,"Cannot Meet",{"$f":"IFERROR(VLOOKUP(H379,VendorResponseLookupTbl[], 2,0), \"\")","v":" The product cannot meet the requirement “Out-of-the-Box”, “With Configuration”, “With Custom Programming” or with a “Future Release”."}]
["8.A.17","Arrest and Booking","Functional","Intake Questions","Must Have","Please list your solution's ability to document subject responses to intake questions.",null,"Cannot Meet",{"$f":"IFERROR(VLOOKUP(H380,VendorResponseLookupTbl[], 2,0), \"\")","v":" The product cannot meet the requirement “Out-of-the-Box”, “With Configuration”, “With Custom Programming” or with a “Future Release”."}]
["8.A.18","Arrest and Booking","Functional","Holding Cells","Must Have","Please list your solution's ability to assign subject to a holding cell.",null,"Cannot Meet",{"$f":"IFERROR(VLOOKUP(H381,VendorResponseLookupTbl[], 2,0), \"\")","v":" The product cannot meet the requirement “Out-of-the-Box”, “With Configuration”, “With Custom Programming” or with a “Future Release”."}]
["8.A.19","Arrest and Booking","Functional","Timestamp and Documentation\nMust Have","Must Have","Please list your solution's ability to document and timestamp all activity that occurs while the subject is detained including interviews.",null,"Cannot Meet",{"$f":"IFERROR(VLOOKUP(H382,VendorResponseLookupTbl[], 2,0), \"\")","v":" The product cannot meet the requirement “Out-of-the-Box”, “With Configuration”, “With Custom Programming” or with a “Future Release”."}]
["8.A.20","Arrest and Booking","Functional","Timestamp and Documentation\nShould Have","Should Have","Please list your solution's ability to document and timestamp all activity that occurs while the subject is detained including:\n\na) Attorney meetings\nb) Cell Checks",null,"Cannot Meet",{"$f":"IFERROR(VLOOKUP(H383,VendorResponseLookupTbl[], 2,0), \"\")","v":" The product cannot meet the requirement “Out-of-the-Box”, “With Configuration”, “With Custom Programming” or with a “Future Release”."}]
["8.A.21","Arrest and Booking","Functional","Officer Documentation","Should Have","Please list your solution's ability to document the officer who undertakes any activity that occurs while the subject is detained, including:\n\na) Interviews\nb) Cell checks",null,"Cannot Meet",{"$f":"IFERROR(VLOOKUP(H384,VendorResponseLookupTbl[], 2,0), \"\")","v":" The product cannot meet the requirement “Out-of-the-Box”, “With Configuration”, “With Custom Programming” or with a “Future Release”."}]
["8.A.22","Arrest and Booking","Functional","Release of Subject\nMust Have","Must Have","Please list your solution's ability to document subject releases from custody, including the release or transfer to County jail.",null,"Cannot Meet",{"$f":"IFERROR(VLOOKUP(H385,VendorResponseLookupTbl[], 2,0), \"\")","v":" The product cannot meet the requirement “Out-of-the-Box”, “With Configuration”, “With Custom Programming” or with a “Future Release”."}]
["8.A.23","Arrest and Booking","Functional","Release of Subject\nShould Have","Should Have","Please list your solution's ability to document subject releases from custody, including:\n\na) Type of release (e.g., transfer to County jail, personal recognizance without a bond, personal recognizance with a bond);\nb) Conditions of release\nc) Bond information and amount, if the subject is released on a bond",null,"Cannot Meet",{"$f":"IFERROR(VLOOKUP(H386,VendorResponseLookupTbl[], 2,0), \"\")","v":" The product cannot meet the requirement “Out-of-the-Box”, “With Configuration”, “With Custom Programming” or with a “Future Release”."}]
[9,"Citations"]
["9.A.00",{"$f":"B387","v":"Citations"}]
["9.A.01",{"$f":"B387","v":"Citations"},"Functional","Citation Module","Must Have","Please list your solution's ability to provide a citation module.",null,"Cannot Meet",{"$f":"IFERROR(VLOOKUP(H389,VendorResponseLookupTbl[], 2,0), \"\")","v":" The product cannot meet the requirement “Out-of-the-Box”, “With Configuration”, “With Custom Programming” or with a “Future Release”."}]
["9.A.02",{"$f":"B389","v":"Citations"},{"$f":"C389","v":"Functional"},"Required Data by LEA","Must Have","Please list your solution's ability to provide dedicated fields to capture citation data as required by: \n\na) The State of Colorado\nb) The City of Thornton",null,"Cannot Meet",{"$f":"IFERROR(VLOOKUP(H390,VendorResponseLookupTbl[], 2,0), \"\")","v":" The product cannot meet the requirement “Out-of-the-Box”, “With Configuration”, “With Custom Programming” or with a “Future Release”."}]
["9.A.03",{"$f":"B390","v":"Citations"},{"$f":"C390","v":"Functional"},"Importing Data  \nElectronic Application","Must Have","Please list your solution's ability to  import citation data from an electronic citation application.",null,"Cannot Meet",{"$f":"IFERROR(VLOOKUP(H391,VendorResponseLookupTbl[], 2,0), \"\")","v":" The product cannot meet the requirement “Out-of-the-Box”, “With Configuration”, “With Custom Programming” or with a “Future Release”."}]
["9.A.04","Citations","Functional","Importing Data  \nArrest Module","Must Have","Please list your solution's ability to import arrest citation data into the arrest module.",null,"Cannot Meet",{"$f":"IFERROR(VLOOKUP(H392,VendorResponseLookupTbl[], 2,0), \"\")","v":" The product cannot meet the requirement “Out-of-the-Box”, “With Configuration”, “With Custom Programming” or with a “Future Release”."}]
["9.A.05","Citations","Functional","Incident & Arrest Location","Must Have","Please list your solution's ability to capture both incident location and arrest location when entering an arrest citation.",null,"Cannot Meet",{"$f":"IFERROR(VLOOKUP(H393,VendorResponseLookupTbl[], 2,0), \"\")","v":" The product cannot meet the requirement “Out-of-the-Box”, “With Configuration”, “With Custom Programming” or with a “Future Release”."}]
["9.A.06","Citations","Functional","Linking Citation Records\nMust Have","Must Have","Please list your solution's ability to link citation record to corresponding reports, including:\n\na) Incident report\nb) Collision report\nc) Arrest Report",null,"Cannot Meet",{"$f":"IFERROR(VLOOKUP(H394,VendorResponseLookupTbl[], 2,0), \"\")","v":" The product cannot meet the requirement “Out-of-the-Box”, “With Configuration”, “With Custom Programming” or with a “Future Release”."}]
["9.A.07","Citations","Functional","Linking Citation Records\nCould Have","Could Have","Please list your solution's ability to link citation record to corresponding reports, including a tow report.",null,"Cannot Meet",{"$f":"IFERROR(VLOOKUP(H395,VendorResponseLookupTbl[], 2,0), \"\")","v":" The product cannot meet the requirement “Out-of-the-Box”, “With Configuration”, “With Custom Programming” or with a “Future Release”."}]
["9.A.08","Citations","Functional","File Attachment","Must Have","Please list your solution's ability to attach files to the citation record that includes:\n\na) Driver's license photo\nb) Driving record\nc) Vehicle registration record",null,"Cannot Meet",{"$f":"IFERROR(VLOOKUP(H396,VendorResponseLookupTbl[], 2,0), \"\")","v":" The product cannot meet the requirement “Out-of-the-Box”, “With Configuration”, “With Custom Programming” or with a “Future Release”."}]
["9.A.09","Citations","Functional","Linking Citation Records to Master Indices","Must Have","Please list your solution's ability to  link a citation record to the master indices:\n\na) Master Name Index\nb) Master Vehicle Index",null,"Cannot Meet",{"$f":"IFERROR(VLOOKUP(H397,VendorResponseLookupTbl[], 2,0), \"\")","v":" The product cannot meet the requirement “Out-of-the-Box”, “With Configuration”, “With Custom Programming” or with a “Future Release”."}]
["9.A.10","Citations","Functional","Summary of Citations","Must Have","Please list your solution's ability to produce a summary of citations by:\n\na) Location\nb) Offense code\nc) Offense type (criminal or civil)\nd) Date\ne) Officer\nf) Demographic data",null,"Cannot Meet",{"$f":"IFERROR(VLOOKUP(H398,VendorResponseLookupTbl[], 2,0), \"\")","v":" The product cannot meet the requirement “Out-of-the-Box”, “With Configuration”, “With Custom Programming” or with a “Future Release”."}]
[10,"Case Management"]
["10.A.00","Application Administration"]
["10.A.01",{"$f":"B400","v":"Application Administration"},"Functional","Business Rules","Must Have","Please list your solution's ability to configure business rules to support case routing.",null,"Cannot Meet",{"$f":"IFERROR(VLOOKUP(H401,VendorResponseLookupTbl[], 2,0), \"\")","v":" The product cannot meet the requirement “Out-of-the-Box”, “With Configuration”, “With Custom Programming” or with a “Future Release”."}]
["10.A.02",{"$f":"B401","v":"Application Administration"},{"$f":"C401","v":"Functional"},"Case Solvability ","Must Have","Please list your solution's ability to determine case solvability factors and weights.",null,"Cannot Meet",{"$f":"IFERROR(VLOOKUP(H402,VendorResponseLookupTbl[], 2,0), \"\")","v":" The product cannot meet the requirement “Out-of-the-Box”, “With Configuration”, “With Custom Programming” or with a “Future Release”."}]
["10.A.03",{"$f":"B402","v":"Application Administration"},{"$f":"C402","v":"Functional"},"Workload Complexity ","Must Have","Please list your solution's ability to determine workload complexity factors and weights.",null,"Cannot Meet",{"$f":"IFERROR(VLOOKUP(H403,VendorResponseLookupTbl[], 2,0), \"\")","v":" The product cannot meet the requirement “Out-of-the-Box”, “With Configuration”, “With Custom Programming” or with a “Future Release”."}]
["10.A.04","Application Administration","Functional","Internal Case Statutes","Must Have","Please list your solution's ability to define internal case statuses.",null,"Cannot Meet",{"$f":"IFERROR(VLOOKUP(H404,VendorResponseLookupTbl[], 2,0), \"\")","v":" The product cannot meet the requirement “Out-of-the-Box”, “With Configuration”, “With Custom Programming” or with a “Future Release”."}]
["10.A.05","Application Administration","Functional","Case Dispositions","Must Have","Please list your solution's ability to define internal case dispositions.",null,"Cannot Meet",{"$f":"IFERROR(VLOOKUP(H405,VendorResponseLookupTbl[], 2,0), \"\")","v":" The product cannot meet the requirement “Out-of-the-Box”, “With Configuration”, “With Custom Programming” or with a “Future Release”."}]
["10.A.06","Application Administration","Functional","Investigation Activities","Must Have","Please list your solution's ability to define types of investigation activities.",null,"Cannot Meet",{"$f":"IFERROR(VLOOKUP(H406,VendorResponseLookupTbl[], 2,0), \"\")","v":" The product cannot meet the requirement “Out-of-the-Box”, “With Configuration”, “With Custom Programming” or with a “Future Release”."}]
["10.A.07","Application Administration","Functional","Time Tracking","Must Have","Please list your solution's ability to define activities for which time is tracked.",null,"Cannot Meet",{"$f":"IFERROR(VLOOKUP(H407,VendorResponseLookupTbl[], 2,0), \"\")","v":" The product cannot meet the requirement “Out-of-the-Box”, “With Configuration”, “With Custom Programming” or with a “Future Release”."}]
["10.A.08","Application Administration","Functional","Hourly Rates","Must Have","Please list your solution's ability to define the hourly rate for time-tracked activities.",null,"Cannot Meet",{"$f":"IFERROR(VLOOKUP(H408,VendorResponseLookupTbl[], 2,0), \"\")","v":" The product cannot meet the requirement “Out-of-the-Box”, “With Configuration”, “With Custom Programming” or with a “Future Release”."}]
["10.B.00","Case Security"]
["10.B.01",{"$f":"B409","v":"Case Security"},"Functional","Limiting Access","Must Have","Please list your solution's ability to limit access to case information by security profile.",null,"Cannot Meet",{"$f":"IFERROR(VLOOKUP(H410,VendorResponseLookupTbl[], 2,0), \"\")","v":" The product cannot meet the requirement “Out-of-the-Box”, “With Configuration”, “With Custom Programming” or with a “Future Release”."}]
["10.B.02",{"$f":"B410","v":"Case Security"},{"$f":"C410","v":"Functional"},"Access Restriction\nPermanent","Must Have","Please list your solution's ability to permanently restrict a selected user or user group from viewing, including but not limited to:\n\na) Case\nb) Documents within a case\nc) Fields within a case",null,"Cannot Meet",{"$f":"IFERROR(VLOOKUP(H411,VendorResponseLookupTbl[], 2,0), \"\")","v":" The product cannot meet the requirement “Out-of-the-Box”, “With Configuration”, “With Custom Programming” or with a “Future Release”."}]
["10.B.03",{"$f":"B411","v":"Case Security"},{"$f":"C411","v":"Functional"},"Access Restriction\nTemporary","Must Have","Please list your solution's ability to temporarily restrict a selected user or user group from viewing, including but not limited to:\n\na) Case\nb) Documents within a case\nc) Fields within a case",null,"Cannot Meet",{"$f":"IFERROR(VLOOKUP(H412,VendorResponseLookupTbl[], 2,0), \"\")","v":" The product cannot meet the requirement “Out-of-the-Box”, “With Configuration”, “With Custom Programming” or with a “Future Release”."}]
["10.B.04","Case Security","Functional","Locking a Case","Must Have","Please list your solution's ability to lock down a case.",null,"Cannot Meet",{"$f":"IFERROR(VLOOKUP(H413,VendorResponseLookupTbl[], 2,0), \"\")","v":" The product cannot meet the requirement “Out-of-the-Box”, “With Configuration”, “With Custom Programming” or with a “Future Release”."}]
["10.B.05","Case Security","Functional","Locking a Case\nSupervisor Approval","Must Have","Please list your solution's ability to require supervisor approval to lock down a case.",null,"Cannot Meet",{"$f":"IFERROR(VLOOKUP(H414,VendorResponseLookupTbl[], 2,0), \"\")","v":" The product cannot meet the requirement “Out-of-the-Box”, “With Configuration”, “With Custom Programming” or with a “Future Release”."}]
["10.C.00","Case Routing"]
["10.C.01",{"$f":"B415","v":"Case Routing"},"Functional","Automatic Dissemination","Must Have","Please list your solution's ability for incident reports to be automatically sent to a designated unit or individual based on built-in business logic (e.g., crime type).",null,"Cannot Meet",{"$f":"IFERROR(VLOOKUP(H416,VendorResponseLookupTbl[], 2,0), \"\")","v":" The product cannot meet the requirement “Out-of-the-Box”, “With Configuration”, “With Custom Programming” or with a “Future Release”."}]
["10.C.02",{"$f":"B416","v":"Case Routing"},{"$f":"C416","v":"Functional"},"Ad Hoc Dissemination","Must Have","Please list your solution's ability to indicate additional units to send the report to (for informational purposes).",null,"Cannot Meet",{"$f":"IFERROR(VLOOKUP(H417,VendorResponseLookupTbl[], 2,0), \"\")","v":" The product cannot meet the requirement “Out-of-the-Box”, “With Configuration”, “With Custom Programming” or with a “Future Release”."}]
["10.D.00","Case Assignment"]
["10.D.01",{"$f":"B418","v":"Case Assignment"},"Functional","Supervisor\nViewing Unassigned Reports","Must Have","Please list your solution's ability for a supervisor to view unassigned reports on a task management screen",null,"Cannot Meet",{"$f":"IFERROR(VLOOKUP(H419,VendorResponseLookupTbl[], 2,0), \"\")","v":" The product cannot meet the requirement “Out-of-the-Box”, “With Configuration”, “With Custom Programming” or with a “Future Release”."}]
["10.D.02",{"$f":"B419","v":"Case Assignment"},{"$f":"C419","v":"Functional"},"Calculating Solvability ","Must Have","Please list your solution's ability for the system to calculate case solvability.",null,"Cannot Meet",{"$f":"IFERROR(VLOOKUP(H420,VendorResponseLookupTbl[], 2,0), \"\")","v":" The product cannot meet the requirement “Out-of-the-Box”, “With Configuration”, “With Custom Programming” or with a “Future Release”."}]
["10.D.03",{"$f":"B420","v":"Case Assignment"},{"$f":"C420","v":"Functional"},"Calculating Workload Complexity","Must Have","Please list your solution's ability for the system to calculate workload complexity.",null,"Cannot Meet",{"$f":"IFERROR(VLOOKUP(H421,VendorResponseLookupTbl[], 2,0), \"\")","v":" The product cannot meet the requirement “Out-of-the-Box”, “With Configuration”, “With Custom Programming” or with a “Future Release”."}]
["10.D.04","Case Assignment","Functional","Supervisor\nSummary of Workloads","Must Have","Please list your solution's ability for the supervisor to view a summary of all investigator workloads at time of assignment:\n\na) Number of cases\nb) Pending activity within cases\nc) Complexity of cases",null,"Cannot Meet",{"$f":"IFERROR(VLOOKUP(H422,VendorResponseLookupTbl[], 2,0), \"\")","v":" The product cannot meet the requirement “Out-of-the-Box”, “With Configuration”, “With Custom Programming” or with a “Future Release”."}]
["10.D.05","Case Assignment","Functional","Supervisor \nCase Assignment","Must Have","Please list your solution's ability for supervisors to electronically assign case responsibility to:\n\na) An individual officer or investigator\nb) A workgroup",null,"Cannot Meet",{"$f":"IFERROR(VLOOKUP(H423,VendorResponseLookupTbl[], 2,0), \"\")","v":" The product cannot meet the requirement “Out-of-the-Box”, “With Configuration”, “With Custom Programming” or with a “Future Release”."}]
["10.D.06","Case Assignment","Functional","Assigning to Multiple Investigators","Must Have","Please list your solution's ability to assign cases to multiple investigators (e.g. if the case is assigned to an investigative team).",null,"Cannot Meet",{"$f":"IFERROR(VLOOKUP(H424,VendorResponseLookupTbl[], 2,0), \"\")","v":" The product cannot meet the requirement “Out-of-the-Box”, “With Configuration”, “With Custom Programming” or with a “Future Release”."}]
["10.D.07","Case Assignment","Functional","Supervisor\nCase Reassignment","Must Have","Please list your solution's ability for supervisors to reassign cases to different investigators.",null,"Cannot Meet",{"$f":"IFERROR(VLOOKUP(H425,VendorResponseLookupTbl[], 2,0), \"\")","v":" The product cannot meet the requirement “Out-of-the-Box”, “With Configuration”, “With Custom Programming” or with a “Future Release”."}]
["10.D.08","Case Assignment","Functional","Audit Trail of Assignments","Must Have","Please list your solution's ability to track history of assignments (e.g., identify everyone who has worked on a case and for what time period).",null,"Cannot Meet",{"$f":"IFERROR(VLOOKUP(H426,VendorResponseLookupTbl[], 2,0), \"\")","v":" The product cannot meet the requirement “Out-of-the-Box”, “With Configuration”, “With Custom Programming” or with a “Future Release”."}]
["10.D.09","Case Assignment","Functional","Notification of Assignments","Must Have","Please list your solution's ability for investigators to receive notifications of case assignments.",null,"Cannot Meet",{"$f":"IFERROR(VLOOKUP(H427,VendorResponseLookupTbl[], 2,0), \"\")","v":" The product cannot meet the requirement “Out-of-the-Box”, “With Configuration”, “With Custom Programming” or with a “Future Release”."}]
["10.D.10","Case Assignment","Functional","Case Status","Must Have","Please list your solution's ability to assign a case a status as \"not assigned,\" or the equivalent.",null,"Cannot Meet",{"$f":"IFERROR(VLOOKUP(H428,VendorResponseLookupTbl[], 2,0), \"\")","v":" The product cannot meet the requirement “Out-of-the-Box”, “With Configuration”, “With Custom Programming” or with a “Future Release”."}]
["10.D.11","Case Assignment","Functional","Changing Case Status","Must Have","Please list your solution's ability to change a case status from \"not assigned\" to open.",null,"Cannot Meet",{"$f":"IFERROR(VLOOKUP(H429,VendorResponseLookupTbl[], 2,0), \"\")","v":" The product cannot meet the requirement “Out-of-the-Box”, “With Configuration”, “With Custom Programming” or with a “Future Release”."}]
["10.D.12","Case Assignment","Functional","Data in Unassigned Cases","Must Have","Please list your solution's ability for data in a \"not assigned\" case to be in the master indicines and available for searching.",null,"Cannot Meet",{"$f":"IFERROR(VLOOKUP(H430,VendorResponseLookupTbl[], 2,0), \"\")","v":" The product cannot meet the requirement “Out-of-the-Box”, “With Configuration”, “With Custom Programming” or with a “Future Release”."}]
["10.D.13","Case Assignment","Functional","Supervisor \nNotification in Inactive Case","Must Have","Please list your solution's ability for a supervisor to be notified of activity involving an entity in an inactive case.",null,"Cannot Meet",{"$f":"IFERROR(VLOOKUP(H431,VendorResponseLookupTbl[], 2,0), \"\")","v":" The product cannot meet the requirement “Out-of-the-Box”, “With Configuration”, “With Custom Programming” or with a “Future Release”."}]
["10.D.14","Case Assignment","Functional","Assigned Case Dashboard","Must Have","Please list your solution's ability to provide a dashboard displaying assigned cases upon employee logon.",null,"Cannot Meet",{"$f":"IFERROR(VLOOKUP(H432,VendorResponseLookupTbl[], 2,0), \"\")","v":" The product cannot meet the requirement “Out-of-the-Box”, “With Configuration”, “With Custom Programming” or with a “Future Release”."}]
["10.E.00","Case Monitoring"]
["10.E.01",{"$f":"B433","v":"Case Monitoring"},"Functional","Monitoring Workload","Must Have","Please list your solution's ability for supervisors to monitor investigators' workloads.",null,"Cannot Meet",{"$f":"IFERROR(VLOOKUP(H434,VendorResponseLookupTbl[], 2,0), \"\")","v":" The product cannot meet the requirement “Out-of-the-Box”, “With Configuration”, “With Custom Programming” or with a “Future Release”."}]
["10.E.02",{"$f":"B434","v":"Case Monitoring"},{"$f":"C434","v":"Functional"},"Monitoring Case Activity","Must Have","Please list your solution's ability for supervisors to monitor case activity including, but not limited to:\n\na) Case status\nb) Responsible investigator\nc) Pending activities\nd) Overdue activities",null,"Cannot Meet",{"$f":"IFERROR(VLOOKUP(H435,VendorResponseLookupTbl[], 2,0), \"\")","v":" The product cannot meet the requirement “Out-of-the-Box”, “With Configuration”, “With Custom Programming” or with a “Future Release”."}]
["10.E.03",{"$f":"B435","v":"Case Monitoring"},{"$f":"C435","v":"Functional"},"Dashboards","Must Have","Please list your solution's ability to provide dashboards for supervisors to monitor cases.",null,"Cannot Meet",{"$f":"IFERROR(VLOOKUP(H436,VendorResponseLookupTbl[], 2,0), \"\")","v":" The product cannot meet the requirement “Out-of-the-Box”, “With Configuration”, “With Custom Programming” or with a “Future Release”."}]
["10.E.04","Case Monitoring","Functional","Push Notifications\nSupervisor","Must Have","Please list your solution's ability to generate alerts to supervisors to remind them of:\n\na) Pending activities\nb) Overdue activities",null,"Cannot Meet",{"$f":"IFERROR(VLOOKUP(H437,VendorResponseLookupTbl[], 2,0), \"\")","v":" The product cannot meet the requirement “Out-of-the-Box”, “With Configuration”, “With Custom Programming” or with a “Future Release”."}]
["10.E.05","Case Monitoring","Functional","Push Notifications\nInvestigator","Must Have","Please list your solution's ability to generate alerts to Investigators to remind them of:\n\na) Pending activities\nb) Overdue activities",null,"Cannot Meet",{"$f":"IFERROR(VLOOKUP(H438,VendorResponseLookupTbl[], 2,0), \"\")","v":" The product cannot meet the requirement “Out-of-the-Box”, “With Configuration”, “With Custom Programming” or with a “Future Release”."}]
["10.F.00","Investigation Management"]
["10.F.01",{"$f":"B439","v":"Investigation Management"},"Functional","Documenting Activity","Must Have","Please list your solution's ability for investigators to document investigative activity, including:\n\na) Developing and tracking leads\nb) Interviews and interrogations\nc) Evidence collection\nd) Arrests\ne) Obtaining and executing search warrants\nf) Obtaining and executing arrest warrants\ng) Supplemental case reports\nh) Initiating criminal charges\ni) Prosecution request for investigative follow-up\nj) Agency case disposition\nk) Court case disposition",null,"Cannot Meet",{"$f":"IFERROR(VLOOKUP(H440,VendorResponseLookupTbl[], 2,0), \"\")","v":" The product cannot meet the requirement “Out-of-the-Box”, “With Configuration”, “With Custom Programming” or with a “Future Release”."}]
["10.F.02",{"$f":"B440","v":"Investigation Management"},{"$f":"C440","v":"Functional"},"Assigning Tasks","Must Have","Please list your solution's ability for investigators to assign tasks:\n\na) To themselves\nb) to other individuals",null,"Cannot Meet",{"$f":"IFERROR(VLOOKUP(H441,VendorResponseLookupTbl[], 2,0), \"\")","v":" The product cannot meet the requirement “Out-of-the-Box”, “With Configuration”, “With Custom Programming” or with a “Future Release”."}]
["10.F.03",{"$f":"B441","v":"Investigation Management"},{"$f":"C441","v":"Functional"},"Assigning Due Dates","Must Have","Please list your solution's ability to assign a due date when assigning tasks.",null,"Cannot Meet",{"$f":"IFERROR(VLOOKUP(H442,VendorResponseLookupTbl[], 2,0), \"\")","v":" The product cannot meet the requirement “Out-of-the-Box”, “With Configuration”, “With Custom Programming” or with a “Future Release”."}]
["10.F.04","Investigation Management","Functional","Reassignment of Due Dates","Must Have","Please list your solution's ability to reassign due dates.",null,"Cannot Meet",{"$f":"IFERROR(VLOOKUP(H443,VendorResponseLookupTbl[], 2,0), \"\")","v":" The product cannot meet the requirement “Out-of-the-Box”, “With Configuration”, “With Custom Programming” or with a “Future Release”."}]
["10.F.05","Investigation Management","Functional","Updating Task Status","Must Have","Please list your solution's ability for assigned individual to update task status.",null,"Cannot Meet",{"$f":"IFERROR(VLOOKUP(H444,VendorResponseLookupTbl[], 2,0), \"\")","v":" The product cannot meet the requirement “Out-of-the-Box”, “With Configuration”, “With Custom Programming” or with a “Future Release”."}]
["10.F.06","Investigation Management","Functional","Pending and Overdue Tasks","Must Have","Please list your solution's ability to see pending and overdue tasks.",null,"Cannot Meet",{"$f":"IFERROR(VLOOKUP(H445,VendorResponseLookupTbl[], 2,0), \"\")","v":" The product cannot meet the requirement “Out-of-the-Box”, “With Configuration”, “With Custom Programming” or with a “Future Release”."}]
["10.F.07","Investigation Management","Functional","Evidence Processing","Must Have","Please list your solution's ability to request evidence processing from within the case management module.",null,"Cannot Meet",{"$f":"IFERROR(VLOOKUP(H446,VendorResponseLookupTbl[], 2,0), \"\")","v":" The product cannot meet the requirement “Out-of-the-Box”, “With Configuration”, “With Custom Programming” or with a “Future Release”."}]
["10.F.08","Investigation Management","Functional","Document Attachment\nCases","Must Have","Please list your solution's ability to attach documents (e.g., warrants, photos, forms) to a case.",null,"Cannot Meet",{"$f":"IFERROR(VLOOKUP(H447,VendorResponseLookupTbl[], 2,0), \"\")","v":" The product cannot meet the requirement “Out-of-the-Box”, “With Configuration”, “With Custom Programming” or with a “Future Release”."}]
["10.F.09","Investigation Management","Functional","Attached to Supplement","Must Have","Please list your solution's ability for any document \"attached\" to a supplement to be attached to the case rather than just the supplement.",null,"Cannot Meet",{"$f":"IFERROR(VLOOKUP(H448,VendorResponseLookupTbl[], 2,0), \"\")","v":" The product cannot meet the requirement “Out-of-the-Box”, “With Configuration”, “With Custom Programming” or with a “Future Release”."}]
["10.F.10","Investigation Management","Functional","Document Naming","Must Have","Please list your solution's ability to create court documents that include attachments with titling \"Attachment XXXX\"",null,"Cannot Meet",{"$f":"IFERROR(VLOOKUP(H449,VendorResponseLookupTbl[], 2,0), \"\")","v":" The product cannot meet the requirement “Out-of-the-Box”, “With Configuration”, “With Custom Programming” or with a “Future Release”."}]
["10.F.11","Investigation Management","Functional","Time Tracking","Must Have","Please list your solution's ability for the agency to track the time personnel spend on time-tracked activities.",null,"Cannot Meet",{"$f":"IFERROR(VLOOKUP(H450,VendorResponseLookupTbl[], 2,0), \"\")","v":" The product cannot meet the requirement “Out-of-the-Box”, “With Configuration”, “With Custom Programming” or with a “Future Release”."}]
["10.F.12","Investigation Management","Functional","Linking Cases","Must Have","Please list your solution's ability to link cases (e.g., similar MO, common suspect).",null,"Cannot Meet",{"$f":"IFERROR(VLOOKUP(H451,VendorResponseLookupTbl[], 2,0), \"\")","v":" The product cannot meet the requirement “Out-of-the-Box”, “With Configuration”, “With Custom Programming” or with a “Future Release”."}]
["10.F.13","Investigation Management","Functional","Snapshot Viewing","Must Have","Please list your solution's ability to view a snapshot of a case, including:\n\na) Involved persons, vehicles and locations\nb) A reference to the location in the report where involved persons, vehicles or locations are mentioned\nc) A list of supplemental reports and attachments\nd) Completed and outstanding tasks\ne) Case status",null,"Cannot Meet",{"$f":"IFERROR(VLOOKUP(H452,VendorResponseLookupTbl[], 2,0), \"\")","v":" The product cannot meet the requirement “Out-of-the-Box”, “With Configuration”, “With Custom Programming” or with a “Future Release”."}]
["10.F.14","Investigation Management","Functional","Evidence Records and Case Management Module","Should Have","Please list your solution's ability to view evidence records from within the case management module.",null,"Cannot Meet",{"$f":"IFERROR(VLOOKUP(H453,VendorResponseLookupTbl[], 2,0), \"\")","v":" The product cannot meet the requirement “Out-of-the-Box”, “With Configuration”, “With Custom Programming” or with a “Future Release”."}]
["10.F.15","Investigation Management","Functional","Axon's Evidence.com Interface","Could Have","Please list your solution's ability to view digital evidence from within the case management module (assuming interface with Axon).",null,"Cannot Meet",{"$f":"IFERROR(VLOOKUP(H454,VendorResponseLookupTbl[], 2,0), \"\")","v":" The product cannot meet the requirement “Out-of-the-Box”, “With Configuration”, “With Custom Programming” or with a “Future Release”."}]
["10.G.00","Flags and Notifications"]
["10.G.01",{"$f":"B455","v":"Flags and Notifications"},"Functional","Case Assignment","Must Have","Please list your solution's ability for an investigator to receive a notification when activity occurs on an assigned case (e.g., supplement added).",null,"Cannot Meet",{"$f":"IFERROR(VLOOKUP(H456,VendorResponseLookupTbl[], 2,0), \"\")","v":" The product cannot meet the requirement “Out-of-the-Box”, “With Configuration”, “With Custom Programming” or with a “Future Release”."}]
["10.G.02",{"$f":"B456","v":"Flags and Notifications"},{"$f":"C456","v":"Functional"},"Entity Incident","Must Have","Please list your solution's ability for an investigator to receive an alert when an incident involving an entity associated with a case occurs.",null,"Cannot Meet",{"$f":"IFERROR(VLOOKUP(H457,VendorResponseLookupTbl[], 2,0), \"\")","v":" The product cannot meet the requirement “Out-of-the-Box”, “With Configuration”, “With Custom Programming” or with a “Future Release”."}]
["10.G.03",{"$f":"B457","v":"Flags and Notifications"},{"$f":"C457","v":"Functional"},"Alert Creation\nContact Known","Must Have","Please list your solution's ability for an investigator to create an alert to identify an action to be taken when someone makes contact with an entity in the case (person, vehicle, property, location or organization).",null,"Cannot Meet",{"$f":"IFERROR(VLOOKUP(H458,VendorResponseLookupTbl[], 2,0), \"\")","v":" The product cannot meet the requirement “Out-of-the-Box”, “With Configuration”, “With Custom Programming” or with a “Future Release”."}]
["10.G.04","Flags and Notifications","Functional","Alert Creation\nContact Unknown","Must Have","Please list your solution's ability to set an alert on an entity in the case (person, property, vehicle or organization) such that the investigator is notified when someone in TPD has contact with that entity but the person making the contact is unaware of the notification.",null,"Cannot Meet",{"$f":"IFERROR(VLOOKUP(H459,VendorResponseLookupTbl[], 2,0), \"\")","v":" The product cannot meet the requirement “Out-of-the-Box”, “With Configuration”, “With Custom Programming” or with a “Future Release”."}]
["10.G.05","Flags and Notifications","Functional","Flagging the Item","Must Have","Please list your solution's ability to flag a property item such that the assigned investigator is notified when suspects makes inquiries on their property.",null,"Cannot Meet",{"$f":"IFERROR(VLOOKUP(H460,VendorResponseLookupTbl[], 2,0), \"\")","v":" The product cannot meet the requirement “Out-of-the-Box”, “With Configuration”, “With Custom Programming” or with a “Future Release”."}]
["10.H.00","Case Status"]
["10.H.01",{"$f":"B461","v":"Case Status"},"Functional","Case Tracking","Must Have","Please list your solution's ability to track a case's status.",null,"Cannot Meet",{"$f":"IFERROR(VLOOKUP(H462,VendorResponseLookupTbl[], 2,0), \"\")","v":" The product cannot meet the requirement “Out-of-the-Box”, “With Configuration”, “With Custom Programming” or with a “Future Release”."}]
["10.H.02",{"$f":"B462","v":"Case Status"},{"$f":"C462","v":"Functional"},"Separate Tracking","Must Have","Please list your solution's ability to track agency-defined case statuses separately from NIBRS-required case statuses.",null,"Cannot Meet",{"$f":"IFERROR(VLOOKUP(H463,VendorResponseLookupTbl[], 2,0), \"\")","v":" The product cannot meet the requirement “Out-of-the-Box”, “With Configuration”, “With Custom Programming” or with a “Future Release”."}]
["10.H.03",{"$f":"B463","v":"Case Status"},{"$f":"C463","v":"Functional"},"Changing Case Status","Must Have","Please list your solution's ability to change a case status from within the case management module.",null,"Cannot Meet",{"$f":"IFERROR(VLOOKUP(H464,VendorResponseLookupTbl[], 2,0), \"\")","v":" The product cannot meet the requirement “Out-of-the-Box”, “With Configuration”, “With Custom Programming” or with a “Future Release”."}]
["10.H.04","Case Status","Functional","NIBRS Status Updates","Must Have","Please list your solution's ability for a  NIBRS status to be updated when a case status is updated, as appropriate.",null,"Cannot Meet",{"$f":"IFERROR(VLOOKUP(H465,VendorResponseLookupTbl[], 2,0), \"\")","v":" The product cannot meet the requirement “Out-of-the-Box”, “With Configuration”, “With Custom Programming” or with a “Future Release”."}]
["10.H.05","Case Status","Functional","Notifying the Supervisor\nStatus Change","Must Have","Please list your solution's ability for supervisors to be notified of case status changes.",null,"Cannot Meet",{"$f":"IFERROR(VLOOKUP(H466,VendorResponseLookupTbl[], 2,0), \"\")","v":" The product cannot meet the requirement “Out-of-the-Box”, “With Configuration”, “With Custom Programming” or with a “Future Release”."}]
["10.H.06","Case Status","Functional","Closing a Case","Must Have","Please list your solution's ability to close a case without assigning the case.",null,"Cannot Meet",{"$f":"IFERROR(VLOOKUP(H467,VendorResponseLookupTbl[], 2,0), \"\")","v":" The product cannot meet the requirement “Out-of-the-Box”, “With Configuration”, “With Custom Programming” or with a “Future Release”."}]
["10.H.07","Case Status","Functional","Reopening a Case\nGeneral","Must Have","Please list your solution's ability to reopen a closed case.",null,"Cannot Meet",{"$f":"IFERROR(VLOOKUP(H468,VendorResponseLookupTbl[], 2,0), \"\")","v":" The product cannot meet the requirement “Out-of-the-Box”, “With Configuration”, “With Custom Programming” or with a “Future Release”."}]
["10.H.08","Case Status","Functional","Notifying the Supervisor\nReopening","Must Have","Please list your solution's ability to notify a commanding officer that a case is being reopened.",null,"Cannot Meet",{"$f":"IFERROR(VLOOKUP(H469,VendorResponseLookupTbl[], 2,0), \"\")","v":" The product cannot meet the requirement “Out-of-the-Box”, “With Configuration”, “With Custom Programming” or with a “Future Release”."}]
["10.H.09","Case Status","Functional","Reopening a Case\nCommanding Officer","Must Have","Please list your solution's ability for a commanding officer to reassign a reopened case.",null,"Cannot Meet",{"$f":"IFERROR(VLOOKUP(H470,VendorResponseLookupTbl[], 2,0), \"\")","v":" The product cannot meet the requirement “Out-of-the-Box”, “With Configuration”, “With Custom Programming” or with a “Future Release”."}]
["10.H.10","Case Status","Functional","Disposition of Property","Must Have","Please list your solution's ability to require a disposition for property corresponding to a case before the case can be permanently closed.",null,"Cannot Meet",{"$f":"IFERROR(VLOOKUP(H471,VendorResponseLookupTbl[], 2,0), \"\")","v":" The product cannot meet the requirement “Out-of-the-Box”, “With Configuration”, “With Custom Programming” or with a “Future Release”."}]
["10.H.11","Case Status","Functional","Summary View\nSupervisor","Must Have","Please list your solution's ability for a supervisor to view a summary of cases, including the following elements:\n\na) Case number\nb) Case name\nc) Assigned officer or investigator\nd) Case status\ne) Number of suspects\nf) Recent activity\ng) Pending activity",null,"Cannot Meet",{"$f":"IFERROR(VLOOKUP(H472,VendorResponseLookupTbl[], 2,0), \"\")","v":" The product cannot meet the requirement “Out-of-the-Box”, “With Configuration”, “With Custom Programming” or with a “Future Release”."}]
["10.H.12","Case Status","Functional","Summary View\nOfficer","Must Have","Please list your solution's ability for officers and investigators to view a summary of their assigned cases, including the following elements:\n\na) Case number\nb) Case name\nc) Case status\nd) Recent activity\ne) Pending activity",null,"Cannot Meet",{"$f":"IFERROR(VLOOKUP(H473,VendorResponseLookupTbl[], 2,0), \"\")","v":" The product cannot meet the requirement “Out-of-the-Box”, “With Configuration”, “With Custom Programming” or with a “Future Release”."}]
["10.I.00","Case Charging"]
["10.I.01",{"$f":"B474","v":"Case Charging"},"Functional","Document Access","Must Have","Please list your solution's ability to access all documents related to a case from one place within the RMS.",null,"Cannot Meet",{"$f":"IFERROR(VLOOKUP(H475,VendorResponseLookupTbl[], 2,0), \"\")","v":" The product cannot meet the requirement “Out-of-the-Box”, “With Configuration”, “With Custom Programming” or with a “Future Release”."}]
["10.I.02",{"$f":"B475","v":"Case Charging"},{"$f":"C475","v":"Functional"},"Selection of Documents","Must Have","Please list your solution's ability to select documents to include in a case packet for electronic delivery to the prosecuting attorney's office.",null,"Cannot Meet",{"$f":"IFERROR(VLOOKUP(H476,VendorResponseLookupTbl[], 2,0), \"\")","v":" The product cannot meet the requirement “Out-of-the-Box”, “With Configuration”, “With Custom Programming” or with a “Future Release”."}]
["10.I.03",{"$f":"B476","v":"Case Charging"},{"$f":"C476","v":"Functional"},"Table of Contents","Must Have","Please list your solution's ability to include a table of contents within the case packet.",null,"Cannot Meet",{"$f":"IFERROR(VLOOKUP(H477,VendorResponseLookupTbl[], 2,0), \"\")","v":" The product cannot meet the requirement “Out-of-the-Box”, “With Configuration”, “With Custom Programming” or with a “Future Release”."}]
["10.I.04","Case Charging","Functional","Electronic Document Delivery","Must Have","Please list your solution's ability to email a PDF of the case packet to the prosecuting attorney's office.",null,"Cannot Meet",{"$f":"IFERROR(VLOOKUP(H478,VendorResponseLookupTbl[], 2,0), \"\")","v":" The product cannot meet the requirement “Out-of-the-Box”, “With Configuration”, “With Custom Programming” or with a “Future Release”."}]
["10.I.05","Case Charging","Functional","Supplemental Documents","Must Have","Please list your solution's ability to email supplemental documents to the prosecuting attorney's office after the initial filing (only the supplemental documents are sent, along with a table of contents).",null,"Cannot Meet",{"$f":"IFERROR(VLOOKUP(H479,VendorResponseLookupTbl[], 2,0), \"\")","v":" The product cannot meet the requirement “Out-of-the-Box”, “With Configuration”, “With Custom Programming” or with a “Future Release”."}]
["10.I.06","Case Charging","Functional","Additional Documents Available","Must Have","Please list your solution's ability to notify the prosecuting attorney's office that additional documents are available.",null,"Cannot Meet",{"$f":"IFERROR(VLOOKUP(H480,VendorResponseLookupTbl[], 2,0), \"\")","v":" The product cannot meet the requirement “Out-of-the-Box”, “With Configuration”, “With Custom Programming” or with a “Future Release”."}]
["10.J.00","Case Disposition"]
["10.J.01",{"$f":"B481","v":"Case Disposition"},"Functional","User-Defined Options","Must Have","Please list your solution's ability to create user-defined case disposition options.",null,"Cannot Meet",{"$f":"IFERROR(VLOOKUP(H482,VendorResponseLookupTbl[], 2,0), \"\")","v":" The product cannot meet the requirement “Out-of-the-Box”, “With Configuration”, “With Custom Programming” or with a “Future Release”."}]
["10.J.02",{"$f":"B482","v":"Case Disposition"},{"$f":"C482","v":"Functional"},"Documenting Disposition","Must Have","Please list your solution's ability to document court disposition for:\n\na) Specific charges in a case\nb) Specific people in a case\nc) Specific charges for specific people in a case\nd) An entire case",null,"Cannot Meet",{"$f":"IFERROR(VLOOKUP(H483,VendorResponseLookupTbl[], 2,0), \"\")","v":" The product cannot meet the requirement “Out-of-the-Box”, “With Configuration”, “With Custom Programming” or with a “Future Release”."}]
["10.J.03",{"$f":"B483","v":"Case Disposition"},{"$f":"C483","v":"Functional"},"Documenting Acceptance/Rejection","Must Have","Please list your solution's ability to document whether a case was accepted or declined for prosecution.",null,"Cannot Meet",{"$f":"IFERROR(VLOOKUP(H484,VendorResponseLookupTbl[], 2,0), \"\")","v":" The product cannot meet the requirement “Out-of-the-Box”, “With Configuration”, “With Custom Programming” or with a “Future Release”."}]
["10.J.04","Case Disposition","Functional","Notification  ","Must Have","Please list your solution's ability to send a notification of entry of a disposition to:\n\na) Investigator assigned to a case\nb) Investigator's supervisor\nc) Property and Evidence Unit",null,"Cannot Meet",{"$f":"IFERROR(VLOOKUP(H485,VendorResponseLookupTbl[], 2,0), \"\")","v":" The product cannot meet the requirement “Out-of-the-Box”, “With Configuration”, “With Custom Programming” or with a “Future Release”."}]
[11,"Warrants Module"]
["11.A.00",{"$f":"B486","v":"Warrants Module"}]
["11.A.01",{"$f":"B487","v":"Warrants Module"},"Functional","Warrant Tracking","Could Have","Please list your solution's ability to include a module that tracks warrants:\n\na) Entered by the TPD\nb) Transferred from the Municipal Court (assuming an interface)",null,"Cannot Meet",{"$f":"IFERROR(VLOOKUP(H488,VendorResponseLookupTbl[], 2,0), \"\")","v":" The product cannot meet the requirement “Out-of-the-Box”, “With Configuration”, “With Custom Programming” or with a “Future Release”."}]
["11.A.02",{"$f":"B488","v":"Warrants Module"},{"$f":"C488","v":"Functional"},"Uploading Warrants","Could Have","Please list your solution's ability to upload warrants entered by TPD to CCIC/NCIC.",null,"Cannot Meet",{"$f":"IFERROR(VLOOKUP(H489,VendorResponseLookupTbl[], 2,0), \"\")","v":" The product cannot meet the requirement “Out-of-the-Box”, “With Configuration”, “With Custom Programming” or with a “Future Release”."}]
["11.A.03",{"$f":"B489","v":"Warrants Module"},{"$f":"C489","v":"Functional"},"Flagging Warrants","Could Have","Please list your solution's ability for entering of a warrant to flag the subject in the MNI.",null,"Cannot Meet",{"$f":"IFERROR(VLOOKUP(H490,VendorResponseLookupTbl[], 2,0), \"\")","v":" The product cannot meet the requirement “Out-of-the-Box”, “With Configuration”, “With Custom Programming” or with a “Future Release”."}]
["11.A.04","Warrants Module","Functional","Clearing a Warrant","Could Have","Please list your solution's ability for the clearance of a warrant to remove the flag in the MNI.",null,"Cannot Meet",{"$f":"IFERROR(VLOOKUP(H491,VendorResponseLookupTbl[], 2,0), \"\")","v":" The product cannot meet the requirement “Out-of-the-Box”, “With Configuration”, “With Custom Programming” or with a “Future Release”."}]
[12,"Intelligence Module"]
["12.A.00","Security"]
["12.A.01",{"$f":"B493","v":"Security"},"Functional","Access Restriction","Must Have","Please list your solution's ability to restrict access to intelligence records to:\n\na) Investigators who are assigned to the case\nb) Designated personnel\nc) Designated roles (e.g., Internal Affairs, Crime Lab, Evidence)",null,"Cannot Meet",{"$f":"IFERROR(VLOOKUP(H494,VendorResponseLookupTbl[], 2,0), \"\")","v":" The product cannot meet the requirement “Out-of-the-Box”, “With Configuration”, “With Custom Programming” or with a “Future Release”."}]
["12.B.00","Undercover Activity Documentation"]
["12.B.01",{"$f":"B495","v":"Undercover Activity Documentation"},"Functional","Case Initiation","Should Have","Please list your solution's ability to initiate a case based on an investigative lead (as opposed to a call for service).",null,"Cannot Meet",{"$f":"IFERROR(VLOOKUP(H496,VendorResponseLookupTbl[], 2,0), \"\")","v":" The product cannot meet the requirement “Out-of-the-Box”, “With Configuration”, “With Custom Programming” or with a “Future Release”."}]
["12.B.02",{"$f":"B496","v":"Undercover Activity Documentation"},{"$f":"C496","v":"Functional"},"Assigning a Case Number","Should Have","Please list your solution's ability to assign to undercover cases a case number from a numbering sequence separate from the incident numbering sequence. ",null,"Cannot Meet",{"$f":"IFERROR(VLOOKUP(H497,VendorResponseLookupTbl[], 2,0), \"\")","v":" The product cannot meet the requirement “Out-of-the-Box”, “With Configuration”, “With Custom Programming” or with a “Future Release”."}]
["12.B.03",{"$f":"B497","v":"Undercover Activity Documentation"},{"$f":"C497","v":"Functional"},"Dedicated Data Entry","Should Have","Please list your solution's ability to provide dedicated fields to capture high-level administrative information regarding the case:\n\na) Date initiated\nb) Target address or location\nc) Lead investigator\nd) Operation supervisor\ne) Approvals",null,"Cannot Meet",{"$f":"IFERROR(VLOOKUP(H498,VendorResponseLookupTbl[], 2,0), \"\")","v":" The product cannot meet the requirement “Out-of-the-Box”, “With Configuration”, “With Custom Programming” or with a “Future Release”."}]
["12.B.04","Undercover Activity Documentation","Functional","Supplemental Reports","Should Have","Please list your solution's ability to create supplemental reports to the initial case report.",null,"Cannot Meet",{"$f":"IFERROR(VLOOKUP(H499,VendorResponseLookupTbl[], 2,0), \"\")","v":" The product cannot meet the requirement “Out-of-the-Box”, “With Configuration”, “With Custom Programming” or with a “Future Release”."}]
["12.B.05","Undercover Activity Documentation","Functional","Entering Evidence","Should Have","Please list your solution's ability to enter evidence gathered during an undercover investigation.",null,"Cannot Meet",{"$f":"IFERROR(VLOOKUP(H500,VendorResponseLookupTbl[], 2,0), \"\")","v":" The product cannot meet the requirement “Out-of-the-Box”, “With Configuration”, “With Custom Programming” or with a “Future Release”."}]
["12.B.06","Undercover Activity Documentation","Functional","Agency-Defined Case Number","Should Have","Please list your solution's ability to use agency-initiated case number when entering evidence gathered during an undercover investigation",null,"Cannot Meet",{"$f":"IFERROR(VLOOKUP(H501,VendorResponseLookupTbl[], 2,0), \"\")","v":" The product cannot meet the requirement “Out-of-the-Box”, “With Configuration”, “With Custom Programming” or with a “Future Release”."}]
["12.B.07","Undercover Activity Documentation","Functional","Transfer to Investigations","Should Have","Please list your solution's ability to transfer an agency-initiated case into an investigative case:\n\na) Generate a supplemental report from information documented in agency-initiated case \nb) Incident number assigned\nc) Evidence case number is updated with incident number\nd) Master records are updated",null,"Cannot Meet",{"$f":"IFERROR(VLOOKUP(H502,VendorResponseLookupTbl[], 2,0), \"\")","v":" The product cannot meet the requirement “Out-of-the-Box”, “With Configuration”, “With Custom Programming” or with a “Future Release”."}]
["12.B.08","Undercover Activity Documentation","Functional","Generating a Notification","Should Have","Please list your solution's ability for cases with agency-defined matching characteristics to generate a notification to all involved investigators.",null,"Cannot Meet",{"$f":"IFERROR(VLOOKUP(H503,VendorResponseLookupTbl[], 2,0), \"\")","v":" The product cannot meet the requirement “Out-of-the-Box”, “With Configuration”, “With Custom Programming” or with a “Future Release”."}]
["12.B.09","Undercover Activity Documentation","Functional","Confidential Informant","Should Have","Please list your solution's ability to record and track the following items:\n\na) Confidential informants (\"CI's\")\nb) CI's current status\nc) CI's reliability\nd) CI's activity related to investigation\ne) Pending charges that could stem from an investigation\nf) Buys within an investigation\ng) Monies used in buys\nh) Laboratory results tied to agency-defined buys\ni) Monies paid to CI's\nj) Department specified funds and transactions",null,"Cannot Meet",{"$f":"IFERROR(VLOOKUP(H504,VendorResponseLookupTbl[], 2,0), \"\")","v":" The product cannot meet the requirement “Out-of-the-Box”, “With Configuration”, “With Custom Programming” or with a “Future Release”."}]
["12.B.10","Undercover Activity Documentation","Functional","Unlimited Character Text","Should Have","Please list your solution's ability to add unlimited narrative text to confidential informant records.",null,"Cannot Meet",{"$f":"IFERROR(VLOOKUP(H505,VendorResponseLookupTbl[], 2,0), \"\")","v":" The product cannot meet the requirement “Out-of-the-Box”, “With Configuration”, “With Custom Programming” or with a “Future Release”."}]
["12.B.11","Undercover Activity Documentation","Functional","Limited CI Access","Should Have","Please list your solution's ability for each agency to have its own confidential informant files not accessible by individuals from other agencies.",null,"Cannot Meet",{"$f":"IFERROR(VLOOKUP(H506,VendorResponseLookupTbl[], 2,0), \"\")","v":" The product cannot meet the requirement “Out-of-the-Box”, “With Configuration”, “With Custom Programming” or with a “Future Release”."}]
["12.B.12","Undercover Activity Documentation","Functional","CI Tracking Numbers","Should Have","Please list your solution's ability to assign agency-defined tracking numbers to confidential informants.",null,"Cannot Meet",{"$f":"IFERROR(VLOOKUP(H507,VendorResponseLookupTbl[], 2,0), \"\")","v":" The product cannot meet the requirement “Out-of-the-Box”, “With Configuration”, “With Custom Programming” or with a “Future Release”."}]
["12.B.13","Undercover Activity Documentation","Functional","Monetary Audits","Should Have","Please list your solution's ability to provide a complete audit trail of monetary transactions pertaining to intelligence/CI activity.",null,"Cannot Meet",{"$f":"IFERROR(VLOOKUP(H508,VendorResponseLookupTbl[], 2,0), \"\")","v":" The product cannot meet the requirement “Out-of-the-Box”, “With Configuration”, “With Custom Programming” or with a “Future Release”."}]
["12.B.14","Undercover Activity Documentation","Functional","Ad Hoc Reporting","Should Have","Please list your solution's ability to generate ad hoc reports on any intelligence-related operational data field.",null,"Cannot Meet",{"$f":"IFERROR(VLOOKUP(H509,VendorResponseLookupTbl[], 2,0), \"\")","v":" The product cannot meet the requirement “Out-of-the-Box”, “With Configuration”, “With Custom Programming” or with a “Future Release”."}]
["12.B.15","Undercover Activity Documentation","Functional","CI File Purges","Should Have","Please list your solution's ability to purge a CI's file(s).",null,"Cannot Meet",{"$f":"IFERROR(VLOOKUP(H510,VendorResponseLookupTbl[], 2,0), \"\")","v":" The product cannot meet the requirement “Out-of-the-Box”, “With Configuration”, “With Custom Programming” or with a “Future Release”."}]
["12.B.16","Undercover Activity Documentation","Functional","Statute Compliance","Should Have","Please list your solution's ability to comply with 28 CFR Part 23, including: \n\na) Fields provided to document justification for collecting and maintaining intelligence information.\nb) Appropriate security and access controls for compliance\nc) Alerts to appropriate individuals when records are approaching their review or purge date.",null,"Cannot Meet",{"$f":"IFERROR(VLOOKUP(H511,VendorResponseLookupTbl[], 2,0), \"\")","v":" The product cannot meet the requirement “Out-of-the-Box”, “With Configuration”, “With Custom Programming” or with a “Future Release”."}]
[13,"Property and Evidence"]
["13.A.00","General Requirements"]
["13.A.01",{"$f":"B513","v":"General Requirements"},"Functional","Tracking","Must Have","Please list your solution's ability to track:\n\na) Property collected as evidence\nb) Found property\nc) Property held for safe keeping\nd) In custody property",null,"Cannot Meet",{"$f":"IFERROR(VLOOKUP(H514,VendorResponseLookupTbl[], 2,0), \"\")","v":" The product cannot meet the requirement “Out-of-the-Box”, “With Configuration”, “With Custom Programming” or with a “Future Release”."}]
["13.A.02",{"$f":"B514","v":"General Requirements"},{"$f":"C514","v":"Functional"},"Property Types","Must Have","Please list your solution's ability for an Agency to define property types.",null,"Cannot Meet",{"$f":"IFERROR(VLOOKUP(H515,VendorResponseLookupTbl[], 2,0), \"\")","v":" The product cannot meet the requirement “Out-of-the-Box”, “With Configuration”, “With Custom Programming” or with a “Future Release”."}]
["13.A.03",{"$f":"B515","v":"General Requirements"},{"$f":"C515","v":"Functional"},"Linking Property Records","Must Have","Please list your solution's ability to link a property record to the report describing the circumstances under which the property was received by the agency.",null,"Cannot Meet",{"$f":"IFERROR(VLOOKUP(H516,VendorResponseLookupTbl[], 2,0), \"\")","v":" The product cannot meet the requirement “Out-of-the-Box”, “With Configuration”, “With Custom Programming” or with a “Future Release”."}]
["13.A.04","General Requirements","Functional","Distinguishing Property","Must Have","Please list your solution's ability to distinguish between evidentiary and non-evidentiary property.",null,"Cannot Meet",{"$f":"IFERROR(VLOOKUP(H517,VendorResponseLookupTbl[], 2,0), \"\")","v":" The product cannot meet the requirement “Out-of-the-Box”, “With Configuration”, “With Custom Programming” or with a “Future Release”."}]
["13.A.05","General Requirements","Functional","Distinguishing Custody","Must Have","Please list your solution's ability to distinguish between in-custody and not in-custody property.",null,"Cannot Meet",{"$f":"IFERROR(VLOOKUP(H518,VendorResponseLookupTbl[], 2,0), \"\")","v":" The product cannot meet the requirement “Out-of-the-Box”, “With Configuration”, “With Custom Programming” or with a “Future Release”."}]
["13.A.06","General Requirements","Functional","Assigning Control Numbers","Must Have","Please list your solution's ability assign a unique sequential control number to each property item, regardless of property type.",null,"Cannot Meet",{"$f":"IFERROR(VLOOKUP(H519,VendorResponseLookupTbl[], 2,0), \"\")","v":" The product cannot meet the requirement “Out-of-the-Box”, “With Configuration”, “With Custom Programming” or with a “Future Release”."}]
["13.A.07","General Requirements","Functional","Configurable Numbering","Must Have","Please list your solution's ability for an Agency to configure the format of the item numbering sequence.",null,"Cannot Meet",{"$f":"IFERROR(VLOOKUP(H520,VendorResponseLookupTbl[], 2,0), \"\")","v":" The product cannot meet the requirement “Out-of-the-Box”, “With Configuration”, “With Custom Programming” or with a “Future Release”."}]
["13.A.08","General Requirements","Functional","Storage Locations","Must Have","Please list your solution's ability for an Agency to define storage locations:\n\na) Storage types (shelf, refrigerator, etc.)\nb) Storage location identifiers (e.g., shelf, bin, bag)",null,"Cannot Meet",{"$f":"IFERROR(VLOOKUP(H521,VendorResponseLookupTbl[], 2,0), \"\")","v":" The product cannot meet the requirement “Out-of-the-Box”, “With Configuration”, “With Custom Programming” or with a “Future Release”."}]
["13.A.09","General Requirements","Functional","Property Recording","Must Have","Please list your solution's ability to conduct all of the following activities from one module:\n\na) Property intake\nb) Property records update\nc) Property queries",null,"Cannot Meet",{"$f":"IFERROR(VLOOKUP(H522,VendorResponseLookupTbl[], 2,0), \"\")","v":" The product cannot meet the requirement “Out-of-the-Box”, “With Configuration”, “With Custom Programming” or with a “Future Release”."}]
["13.B.00","Bar Coding"]
["13.B.01",{"$f":"B523","v":"Bar Coding"},"Functional","Wireless Bar Code System","Must Have","Please list your solution's ability to provide a wireless bar code scanning system.",null,"Cannot Meet",{"$f":"IFERROR(VLOOKUP(H524,VendorResponseLookupTbl[], 2,0), \"\")","v":" The product cannot meet the requirement “Out-of-the-Box”, “With Configuration”, “With Custom Programming” or with a “Future Release”."}]
["13.B.02",{"$f":"B524","v":"Bar Coding"},{"$f":"C524","v":"Functional"},"Using Barcodes","Must Have","Please list your solution's ability to use Barcodes for:\n\na) Evidence entry\nb) Transactions\nc) Chain of custody changes\nd) Inventories\ne) Audits\nf) Mass data updates",null,"Cannot Meet",{"$f":"IFERROR(VLOOKUP(H525,VendorResponseLookupTbl[], 2,0), \"\")","v":" The product cannot meet the requirement “Out-of-the-Box”, “With Configuration”, “With Custom Programming” or with a “Future Release”."}]
["13.B.03",{"$f":"B525","v":"Bar Coding"},{"$f":"C525","v":"Functional"},"Configurable Labels","Must Have","Please list your solution's ability for an Agency to configure which data fields are printed on bar code labels.",null,"Cannot Meet",{"$f":"IFERROR(VLOOKUP(H526,VendorResponseLookupTbl[], 2,0), \"\")","v":" The product cannot meet the requirement “Out-of-the-Box”, “With Configuration”, “With Custom Programming” or with a “Future Release”."}]
["13.B.04","Bar Coding","Functional","Timestamping","Must Have","Please list your solution's ability to capture a date and time stamp with any bar code activity.",null,"Cannot Meet",{"$f":"IFERROR(VLOOKUP(H527,VendorResponseLookupTbl[], 2,0), \"\")","v":" The product cannot meet the requirement “Out-of-the-Box”, “With Configuration”, “With Custom Programming” or with a “Future Release”."}]
["13.B.05","Bar Coding","Functional","Printing a Single Bar Code","Must Have","Please list your solution's ability to select and print a single bar code label.",null,"Cannot Meet",{"$f":"IFERROR(VLOOKUP(H528,VendorResponseLookupTbl[], 2,0), \"\")","v":" The product cannot meet the requirement “Out-of-the-Box”, “With Configuration”, “With Custom Programming” or with a “Future Release”."}]
["13.B.06","Bar Coding","Functional","Printing Multiple Barcodes","Must Have","Please list your solution's ability to print multiple bar code labels at one time.",null,"Cannot Meet",{"$f":"IFERROR(VLOOKUP(H529,VendorResponseLookupTbl[], 2,0), \"\")","v":" The product cannot meet the requirement “Out-of-the-Box”, “With Configuration”, “With Custom Programming” or with a “Future Release”."}]
["13.B.07","Bar Coding","Functional","Selecting Multiple Barcodes","Must Have","Please list your solution's ability to select and print multiple bar code labels.",null,"Cannot Meet",{"$f":"IFERROR(VLOOKUP(H530,VendorResponseLookupTbl[], 2,0), \"\")","v":" The product cannot meet the requirement “Out-of-the-Box”, “With Configuration”, “With Custom Programming” or with a “Future Release”."}]
["13.B.08","Bar Coding","Functional","Auto-generated by RMS","Must Have","Please list your solution's ability for Barcodes to be automatically generated from the RMS.",null,"Cannot Meet",{"$f":"IFERROR(VLOOKUP(H531,VendorResponseLookupTbl[], 2,0), \"\")","v":" The product cannot meet the requirement “Out-of-the-Box”, “With Configuration”, “With Custom Programming” or with a “Future Release”."}]
["13.B.09","Bar Coding","Functional","Bar Code Uses","Must Have","Please list your solution's ability to print bar code labels for:\n\na) Storage location identifiers (e.g., shelf, bin, bag)\nb) Property check-out scans (e.g., sent to BCA, checked out for court)",null,"Cannot Meet",{"$f":"IFERROR(VLOOKUP(H532,VendorResponseLookupTbl[], 2,0), \"\")","v":" The product cannot meet the requirement “Out-of-the-Box”, “With Configuration”, “With Custom Programming” or with a “Future Release”."}]
["13.C.00","Field Collection"]
["13.C.01",{"$f":"B533","v":"Field Collection"},"Functional","Multi-date Collection","Must Have","Please list your solution's ability to support multiple dates of evidence collection per case.",null,"Cannot Meet",{"$f":"IFERROR(VLOOKUP(H534,VendorResponseLookupTbl[], 2,0), \"\")","v":" The product cannot meet the requirement “Out-of-the-Box”, “With Configuration”, “With Custom Programming” or with a “Future Release”."}]
["13.C.02",{"$f":"B534","v":"Field Collection"},{"$f":"C534","v":"Functional"},"Receipt Generation\nMust Have","Must Have","Please list your solution's ability to generate a receipt for items taken into property and evidence in the Property Room.",null,"Cannot Meet",{"$f":"IFERROR(VLOOKUP(H535,VendorResponseLookupTbl[], 2,0), \"\")","v":" The product cannot meet the requirement “Out-of-the-Box”, “With Configuration”, “With Custom Programming” or with a “Future Release”."}]
["13.C.03",{"$f":"B535","v":"Field Collection"},{"$f":"C535","v":"Functional"},"Receipt Generation\nShould Have","Should Have","Please list your solution's ability to generate a receipt for items taken into property and evidence in the field.",null,"Cannot Meet",{"$f":"IFERROR(VLOOKUP(H536,VendorResponseLookupTbl[], 2,0), \"\")","v":" The product cannot meet the requirement “Out-of-the-Box”, “With Configuration”, “With Custom Programming” or with a “Future Release”."}]
["13.C.04","Field Collection","Functional","Mobile Bar Code Printing","Should Have","Please list your solution's ability to print a bar code label in the field (e.g., on a mobile printer).",null,"Cannot Meet",{"$f":"IFERROR(VLOOKUP(H537,VendorResponseLookupTbl[], 2,0), \"\")","v":" The product cannot meet the requirement “Out-of-the-Box”, “With Configuration”, “With Custom Programming” or with a “Future Release”."}]
["13.C.05","Field Collection","Functional","Bar Code Property Information","Must Have","Please list your solution's ability to generate a bar code label with property information:\n\na) Item number\nb) Property type (e.g., safekeeping, evidence)\nc) Property number\nd) Case number\ne) Property description\nf) Owner name\ng) Property Room location\nh) Agency name",null,"Cannot Meet",{"$f":"IFERROR(VLOOKUP(H538,VendorResponseLookupTbl[], 2,0), \"\")","v":" The product cannot meet the requirement “Out-of-the-Box”, “With Configuration”, “With Custom Programming” or with a “Future Release”."}]
["13.C.06","Field Collection","Functional","Property Tag Generation","Must Have","Please list your solution's ability for seizing officer to generate a property tag with the following information:\n\na) Officer name and ID\nb) Agency name\nc) Witnessing officer name and ID\nd) Case number\ne) Item number\nf) Drop-off location (e.g., locker, refrigerator, vehicle bay)\ng) Bar code number\nh) Property category (e.g.,  found, stolen, evidence, missing, safekeeping, returned to owner)",null,"Cannot Meet",{"$f":"IFERROR(VLOOKUP(H539,VendorResponseLookupTbl[], 2,0), \"\")","v":" The product cannot meet the requirement “Out-of-the-Box”, “With Configuration”, “With Custom Programming” or with a “Future Release”."}]
["13.C.07","Field Collection","Functional","Property Descriptors","Must Have","Please list your solution's ability to include property descriptors that include:\n\na) Category (firearm, narcotics, currency, etc.)\nb) NIBRS property code\nc) Make and model\nd) Brand\ne) Description\nf) Property condition\ng) Distinguishing characteristics\nh) Serial number\ni) Owner applied number",null,"Cannot Meet",{"$f":"IFERROR(VLOOKUP(H540,VendorResponseLookupTbl[], 2,0), \"\")","v":" The product cannot meet the requirement “Out-of-the-Box”, “With Configuration”, “With Custom Programming” or with a “Future Release”."}]
["13.C.08","Field Collection","Functional","Persons Involved","Must Have","Please list your solution's ability to include the involved person's information, including:\n\na) Involvement type (Owner, victim, suspect)\nb) Name\nc) Physical address\nd) Phone number",null,"Cannot Meet",{"$f":"IFERROR(VLOOKUP(H541,VendorResponseLookupTbl[], 2,0), \"\")","v":" The product cannot meet the requirement “Out-of-the-Box”, “With Configuration”, “With Custom Programming” or with a “Future Release”."}]
["13.C.09","Field Collection","Functional","Crime Information","Must Have","Please list your solution's ability to include the crime information, including:\n\na) NIBRS crime code\nb) Crime statute\nc) Crime class - felony, misdemeanor, infraction, other\nd) Description of crime\ne) Location collected\nf) Date/time item was submitted",null,"Cannot Meet",{"$f":"IFERROR(VLOOKUP(H542,VendorResponseLookupTbl[], 2,0), \"\")","v":" The product cannot meet the requirement “Out-of-the-Box”, “With Configuration”, “With Custom Programming” or with a “Future Release”."}]
["13.C.10","Field Collection","Functional","Release Information","Must Have","Please list your solution's ability to include the release information, including:\n\na) Name\nb) Physical address\nc) Phone number\nd) Temporary storage location\ne) Analysis required\nf) Type of analysis required\ng) Disposition date",null,"Cannot Meet",{"$f":"IFERROR(VLOOKUP(H543,VendorResponseLookupTbl[], 2,0), \"\")","v":" The product cannot meet the requirement “Out-of-the-Box”, “With Configuration”, “With Custom Programming” or with a “Future Release”."}]
["13.C.11","Field Collection","Functional","Limited Field Displayed","Must Have","Please list your solution's ability to limit fields displayed for data collection to only those fields necessary based on property type.",null,"Cannot Meet",{"$f":"IFERROR(VLOOKUP(H544,VendorResponseLookupTbl[], 2,0), \"\")","v":" The product cannot meet the requirement “Out-of-the-Box”, “With Configuration”, “With Custom Programming” or with a “Future Release”."}]
["13.C.12","Field Collection","Functional","Flagging Items","Must Have","Please list your solution's ability to flag items for processing.",null,"Cannot Meet",{"$f":"IFERROR(VLOOKUP(H545,VendorResponseLookupTbl[], 2,0), \"\")","v":" The product cannot meet the requirement “Out-of-the-Box”, “With Configuration”, “With Custom Programming” or with a “Future Release”."}]
["13.C.13","Field Collection","Functional","Specifying Processing","Must Have","Please list your solution's ability to specify type of processing required (drop down menu).",null,"Cannot Meet",{"$f":"IFERROR(VLOOKUP(H546,VendorResponseLookupTbl[], 2,0), \"\")","v":" The product cannot meet the requirement “Out-of-the-Box”, “With Configuration”, “With Custom Programming” or with a “Future Release”."}]
["13.C.14","Field Collection","Functional","Attaching a Photo","Must Have","Please list your solution's ability to add a photo of a property item to the property item record.",null,"Cannot Meet",{"$f":"IFERROR(VLOOKUP(H547,VendorResponseLookupTbl[], 2,0), \"\")","v":" The product cannot meet the requirement “Out-of-the-Box”, “With Configuration”, “With Custom Programming” or with a “Future Release”."}]
["13.D.00","Intake"]
["13.D.01",{"$f":"B548","v":"Intake"},"Functional","Importing Information","Must Have","Please list your solution's ability import property information from the incident report into the property record.",null,"Cannot Meet",{"$f":"IFERROR(VLOOKUP(H549,VendorResponseLookupTbl[], 2,0), \"\")","v":" The product cannot meet the requirement “Out-of-the-Box”, “With Configuration”, “With Custom Programming” or with a “Future Release”."}]
["13.D.02",{"$f":"B549","v":"Intake"},{"$f":"C549","v":"Functional"},"Dashboards","Must Have","Please list your solution's ability for a property and evidence intake screen to include a dashboard showing property documented in reports but not yet checked into the property room.",null,"Cannot Meet",{"$f":"IFERROR(VLOOKUP(H550,VendorResponseLookupTbl[], 2,0), \"\")","v":" The product cannot meet the requirement “Out-of-the-Box”, “With Configuration”, “With Custom Programming” or with a “Future Release”."}]
["13.D.03",{"$f":"B550","v":"Intake"},{"$f":"C550","v":"Functional"},"Adding Record Information","Must Have","Please list your solution's ability for a property and evidence intake technician to add information to the property record, including but not limited to:\n\na) Date and time evidence collected\nb) Evidence technician picking up item name and ID\nc) Date and time picked up\nd) Date and time checked into property room\ne) Location in property room\nf) Comments box",null,"Cannot Meet",{"$f":"IFERROR(VLOOKUP(H551,VendorResponseLookupTbl[], 2,0), \"\")","v":" The product cannot meet the requirement “Out-of-the-Box”, “With Configuration”, “With Custom Programming” or with a “Future Release”."}]
["13.D.04","Intake","Functional","Adding Investigator\nManually","Must Have","Please list your solution's ability to manually add an investigator responsible for a case to the property record upon case assignment to the investigator.",null,"Cannot Meet",{"$f":"IFERROR(VLOOKUP(H552,VendorResponseLookupTbl[], 2,0), \"\")","v":" The product cannot meet the requirement “Out-of-the-Box”, “With Configuration”, “With Custom Programming” or with a “Future Release”."}]
["13.D.05","Intake","Functional","Adding Investigator\nAutomatically","Must Have","Please list your solution's ability to automatically upon assignment add an investigator responsible for a case to the property record upon case assignment to the investigator.",null,"Cannot Meet",{"$f":"IFERROR(VLOOKUP(H553,VendorResponseLookupTbl[], 2,0), \"\")","v":" The product cannot meet the requirement “Out-of-the-Box”, “With Configuration”, “With Custom Programming” or with a “Future Release”."}]
["13.D.06","Intake","Functional","Property Matches","Must Have","Please list your solution's ability to run checks for property matches upon checking property into evidence:\n\na) RMS\nb) CCIC/NCIC",null,"Cannot Meet",{"$f":"IFERROR(VLOOKUP(H554,VendorResponseLookupTbl[], 2,0), \"\")","v":" The product cannot meet the requirement “Out-of-the-Box”, “With Configuration”, “With Custom Programming” or with a “Future Release”."}]
["13.D.07","Intake","Functional","Unclaimed Property","Must Have","Please list your solution's ability to flag unclaimed found property.",null,"Cannot Meet",{"$f":"IFERROR(VLOOKUP(H555,VendorResponseLookupTbl[], 2,0), \"\")","v":" The product cannot meet the requirement “Out-of-the-Box”, “With Configuration”, “With Custom Programming” or with a “Future Release”."}]
["13.D.08","Intake","Functional","Auto-assigned Storage Location","Must Have","Please list your solution's ability for the system to automatically assign storage locations based on:\n\na) Available locations\nb) Property status (e.g., evidence, found, safekeeping)\nc) Property type",null,"Cannot Meet",{"$f":"IFERROR(VLOOKUP(H556,VendorResponseLookupTbl[], 2,0), \"\")","v":" The product cannot meet the requirement “Out-of-the-Box”, “With Configuration”, “With Custom Programming” or with a “Future Release”."}]
["13.D.09","Intake","Functional","Owner Notifications","Must Have","Please list your solution's ability to generate owner notification letters and envelopes for owners of found, recovered and safekeeping items upon intake of such property.",null,"Cannot Meet",{"$f":"IFERROR(VLOOKUP(H557,VendorResponseLookupTbl[], 2,0), \"\")","v":" The product cannot meet the requirement “Out-of-the-Box”, “With Configuration”, “With Custom Programming” or with a “Future Release”."}]
["13.D.10","Intake","Functional","Values and Weights","Must Have","Please list your solution's ability to automatically calculate total values and weights of multiple like items that are listed in one property record.",null,"Cannot Meet",{"$f":"IFERROR(VLOOKUP(H558,VendorResponseLookupTbl[], 2,0), \"\")","v":" The product cannot meet the requirement “Out-of-the-Box”, “With Configuration”, “With Custom Programming” or with a “Future Release”."}]
["13.D.11","Intake","Functional","CCIC/NCIC Entry","Should Have","Please list your solution's ability to enter property into CCIC/NCIC from within the property and evidence module upon checking in property:\n\na) Stolen articles\nb) Guns",null,"Cannot Meet",{"$f":"IFERROR(VLOOKUP(H559,VendorResponseLookupTbl[], 2,0), \"\")","v":" The product cannot meet the requirement “Out-of-the-Box”, “With Configuration”, “With Custom Programming” or with a “Future Release”."}]
["13.E.00","Currency"]
["13.E.01",{"$f":"B560","v":"Currency"},"Functional","Witness Documentation","Must Have","Please list your solution's ability to provide a dedicated field to document witnesses of counting currency taken into property and evidence.",null,"Cannot Meet",{"$f":"IFERROR(VLOOKUP(H561,VendorResponseLookupTbl[], 2,0), \"\")","v":" The product cannot meet the requirement “Out-of-the-Box”, “With Configuration”, “With Custom Programming” or with a “Future Release”."}]
["13.E.02",{"$f":"B561","v":"Currency"},{"$f":"C561","v":"Functional"},"Attaching a Photo","Must Have","Please list your solution's ability to attach photographs of currency to a property record containing currency.",null,"Cannot Meet",{"$f":"IFERROR(VLOOKUP(H562,VendorResponseLookupTbl[], 2,0), \"\")","v":" The product cannot meet the requirement “Out-of-the-Box”, “With Configuration”, “With Custom Programming” or with a “Future Release”."}]
["13.E.03",{"$f":"B562","v":"Currency"},{"$f":"C562","v":"Functional"},"Currency Balances","Must Have","Please list your solution's ability to keep a balance of currency held in property and evidence.",null,"Cannot Meet",{"$f":"IFERROR(VLOOKUP(H563,VendorResponseLookupTbl[], 2,0), \"\")","v":" The product cannot meet the requirement “Out-of-the-Box”, “With Configuration”, “With Custom Programming” or with a “Future Release”."}]
["13.E.04","Currency","Functional","Disposition of Property","Must Have","Please list your solution's ability to track the disposition of currency (e.g., forfeit, return).",null,"Cannot Meet",{"$f":"IFERROR(VLOOKUP(H564,VendorResponseLookupTbl[], 2,0), \"\")","v":" The product cannot meet the requirement “Out-of-the-Box”, “With Configuration”, “With Custom Programming” or with a “Future Release”."}]
["13.E.05","Currency","Functional","Track Forfeitures","Must Have","Please list your solution's ability to track forfeited currency.",null,"Cannot Meet",{"$f":"IFERROR(VLOOKUP(H565,VendorResponseLookupTbl[], 2,0), \"\")","v":" The product cannot meet the requirement “Out-of-the-Box”, “With Configuration”, “With Custom Programming” or with a “Future Release”."}]
["13.E.06","Currency","Functional","Receipt Generation","Must Have","Please list your solution's ability to generate a receipt for currency taken into property and evidence.",null,"Cannot Meet",{"$f":"IFERROR(VLOOKUP(H566,VendorResponseLookupTbl[], 2,0), \"\")","v":" The product cannot meet the requirement “Out-of-the-Box”, “With Configuration”, “With Custom Programming” or with a “Future Release”."}]
["13.F.00","Rejected Items"]
["13.F.01",{"$f":"B567","v":"Rejected Items"},"Functional","Reject Submissions","Must Have","Please list your solution's ability to reject submitted evidence.",null,"Cannot Meet",{"$f":"IFERROR(VLOOKUP(H568,VendorResponseLookupTbl[], 2,0), \"\")","v":" The product cannot meet the requirement “Out-of-the-Box”, “With Configuration”, “With Custom Programming” or with a “Future Release”."}]
["13.F.02",{"$f":"B568","v":"Rejected Items"},{"$f":"C568","v":"Functional"},"Rejection Reasons","Must Have","Please list your solution's ability to indicate reason for rejection (e.g., improperly packaged or documented).",null,"Cannot Meet",{"$f":"IFERROR(VLOOKUP(H569,VendorResponseLookupTbl[], 2,0), \"\")","v":" The product cannot meet the requirement “Out-of-the-Box”, “With Configuration”, “With Custom Programming” or with a “Future Release”."}]
["13.F.03",{"$f":"B569","v":"Rejected Items"},{"$f":"C569","v":"Functional"},"Rejection Tracking","Must Have","Please list your solution's ability to track rejected evidence.",null,"Cannot Meet",{"$f":"IFERROR(VLOOKUP(H570,VendorResponseLookupTbl[], 2,0), \"\")","v":" The product cannot meet the requirement “Out-of-the-Box”, “With Configuration”, “With Custom Programming” or with a “Future Release”."}]
["13.F.04","Rejected Items","Functional","Notification\nTo Officer","Must Have","Please list your solution's ability to notify submitting officer of rejected evidence.",null,"Cannot Meet",{"$f":"IFERROR(VLOOKUP(H571,VendorResponseLookupTbl[], 2,0), \"\")","v":" The product cannot meet the requirement “Out-of-the-Box”, “With Configuration”, “With Custom Programming” or with a “Future Release”."}]
["13.F.05","Rejected Items","Functional","Notification\nTo Supervisor","Must Have","Please list your solution's ability to notify submitting officer's supervisor(s) of rejected evidence.",null,"Cannot Meet",{"$f":"IFERROR(VLOOKUP(H572,VendorResponseLookupTbl[], 2,0), \"\")","v":" The product cannot meet the requirement “Out-of-the-Box”, “With Configuration”, “With Custom Programming” or with a “Future Release”."}]
["13.F.06","Rejected Items","Functional","Rejection Reporting","Must Have","Please list your solution's ability to generate a report showing number of rejected pieces of evidence by officer.",null,"Cannot Meet",{"$f":"IFERROR(VLOOKUP(H573,VendorResponseLookupTbl[], 2,0), \"\")","v":" The product cannot meet the requirement “Out-of-the-Box”, “With Configuration”, “With Custom Programming” or with a “Future Release”."}]
["13.F.07","Rejected Items","Functional","Overdue for Returns","Must Have","Please list your solution's ability to notify submitting officer and supervisor that rejected property is overdue for return.",null,"Cannot Meet",{"$f":"IFERROR(VLOOKUP(H574,VendorResponseLookupTbl[], 2,0), \"\")","v":" The product cannot meet the requirement “Out-of-the-Box”, “With Configuration”, “With Custom Programming” or with a “Future Release”."}]
["13.G.00","Vehicle Impound"]
["13.G.01",{"$f":"B575","v":"Vehicle Impound"},"Functional","Collection of Impound Data\nMust Have","Must Have","Please list your solution's ability to collect and track vehicle impound information, including:\n\na) Vehicle information\nb) Owner information\nc) Driver information\nd) Reason for impound (e.g., safekeeping, forfeiture, evidence)\ne) Case number\nf) Vehicle damage\ng) Tow company information\nh) Impound location",null,"Cannot Meet",{"$f":"IFERROR(VLOOKUP(H576,VendorResponseLookupTbl[], 2,0), \"\")","v":" The product cannot meet the requirement “Out-of-the-Box”, “With Configuration”, “With Custom Programming” or with a “Future Release”."}]
["13.G.02",{"$f":"B576","v":"Vehicle Impound"},{"$f":"C576","v":"Functional"},"Collection of Impound Data\nShould Have","Should Have","Please list your solution's ability to collect and track vehicle impound information, including:\n\na) Lien holder information\nb) Inventory of vehicle contents\nc) Inventory of property removed and checked into evidence",null,"Cannot Meet",{"$f":"IFERROR(VLOOKUP(H577,VendorResponseLookupTbl[], 2,0), \"\")","v":" The product cannot meet the requirement “Out-of-the-Box”, “With Configuration”, “With Custom Programming” or with a “Future Release”."}]
["13.G.03",{"$f":"B577","v":"Vehicle Impound"},{"$f":"C577","v":"Functional"},"Release of Information","Should Have","Please list your solution's ability for release of information that includes:\n\na) Who the release goes to\nb) Date and time of release",null,"Cannot Meet",{"$f":"IFERROR(VLOOKUP(H578,VendorResponseLookupTbl[], 2,0), \"\")","v":" The product cannot meet the requirement “Out-of-the-Box”, “With Configuration”, “With Custom Programming” or with a “Future Release”."}]
["13.G.04","Vehicle Impound","Functional","Sealing of Information","Must Have","Please list your solution's ability for sealed information that includes:\n\na) Sealed (Yes/No)\nb) Sealed by (if vehicle is sealed)",null,"Cannot Meet",{"$f":"IFERROR(VLOOKUP(H579,VendorResponseLookupTbl[], 2,0), \"\")","v":" The product cannot meet the requirement “Out-of-the-Box”, “With Configuration”, “With Custom Programming” or with a “Future Release”."}]
["13.G.05","Vehicle Impound","Functional","Towing Code Table","Must Have","Please list your solution's ability to provide a code table of tow companies, including:\n\na) Tow company name\nb) Tow driver name (first and last name)\nc) Tow company address\nd) Storage yard address",null,"Cannot Meet",{"$f":"IFERROR(VLOOKUP(H580,VendorResponseLookupTbl[], 2,0), \"\")","v":" The product cannot meet the requirement “Out-of-the-Box”, “With Configuration”, “With Custom Programming” or with a “Future Release”."}]
["13.G.06","Vehicle Impound","Functional","Chain of Custody","Should Have","Please list your solution's ability to track chain of custody for impounded vehicles moved to multiple locations without creating a vehicle tow sheet every time the vehicle is moved.",null,"Cannot Meet",{"$f":"IFERROR(VLOOKUP(H581,VendorResponseLookupTbl[], 2,0), \"\")","v":" The product cannot meet the requirement “Out-of-the-Box”, “With Configuration”, “With Custom Programming” or with a “Future Release”."}]
["13.G.07","Vehicle Impound","Functional","Linking MNI","Should Have","Please list your solution's ability to link to the MNI to verify the person to whom the vehicle is released.",null,"Cannot Meet",{"$f":"IFERROR(VLOOKUP(H582,VendorResponseLookupTbl[], 2,0), \"\")","v":" The product cannot meet the requirement “Out-of-the-Box”, “With Configuration”, “With Custom Programming” or with a “Future Release”."}]
["13.G.08","Vehicle Impound","Functional","Auto-populate Tow Company","Should Have","Please list your solution's ability to auto populate tow company information upon selection of a tow company name from a drop down box.",null,"Cannot Meet",{"$f":"IFERROR(VLOOKUP(H583,VendorResponseLookupTbl[], 2,0), \"\")","v":" The product cannot meet the requirement “Out-of-the-Box”, “With Configuration”, “With Custom Programming” or with a “Future Release”."}]
["13.G.09","Vehicle Impound","Functional","Generating Owner Information","Should Have","Please list your solution's ability to generate owner notification letters and envelopes for owners of impounded vehicles.",null,"Cannot Meet",{"$f":"IFERROR(VLOOKUP(H584,VendorResponseLookupTbl[], 2,0), \"\")","v":" The product cannot meet the requirement “Out-of-the-Box”, “With Configuration”, “With Custom Programming” or with a “Future Release”."}]
["13.G.10","Vehicle Impound","Functional","Designated Role","Should Have","Please list your solution's ability to notify a designated role upon entry of a forfeiture.",null,"Cannot Meet",{"$f":"IFERROR(VLOOKUP(H585,VendorResponseLookupTbl[], 2,0), \"\")","v":" The product cannot meet the requirement “Out-of-the-Box”, “With Configuration”, “With Custom Programming” or with a “Future Release”."}]
["13.G.11","Vehicle Impound","Functional","CCIC/NCIC Entry","Could Have","Please list your solution's ability to run vehicle checks upon entry of vehicle data:\n\na) RMS\nb) CCIC/NCIC",null,"Cannot Meet",{"$f":"IFERROR(VLOOKUP(H586,VendorResponseLookupTbl[], 2,0), \"\")","v":" The product cannot meet the requirement “Out-of-the-Box”, “With Configuration”, “With Custom Programming” or with a “Future Release”."}]
["13.H.00","Chain of Custody"]
["13.H.01",{"$f":"B587","v":"Chain of Custody"},"Functional","Initial Property Collection","Must Have","Please list your solution's ability to track chain of custody data for any piece of property entered into the system as evidence, including initial property collection information:\n\na) Seizing officer name and ID number\nb) Agency name\nc) Witnessing officer name and ID number (e.g., for drugs, guns and money)\nd) Location collected\ne) Date/time item was submitted\nf) Temporary storage location\ng) Officer picking up item name and badge number/serial number\nh) Date and time picked up\ni) Date and time checked into property room\nj) Location in evidence warehouse",null,"Cannot Meet",{"$f":"IFERROR(VLOOKUP(H588,VendorResponseLookupTbl[], 2,0), \"\")","v":" The product cannot meet the requirement “Out-of-the-Box”, “With Configuration”, “With Custom Programming” or with a “Future Release”."}]
["13.H.02",{"$f":"B588","v":"Chain of Custody"},{"$f":"C588","v":"Functional"},"Property Check-in/Check-out","Must Have","Please list your solution's ability to track chain of custody data for any piece of property entered into the system as evidence, including check-in/check-out information:\n\na) Transferred by evidence personnel (name and badge number/serial number)\nb) Transferred to (name, badge number/serial number, agency)\nc) Date and time of check-out\nd) Reason for check-out (comment box)\ne) Destination\nf) Received by evidence personnel (name and badge/serial number)\ng) Received from (name and badge/serial number, agency)\nh) Time and date of check-in\ni) Location returned to",null,"Cannot Meet",{"$f":"IFERROR(VLOOKUP(H589,VendorResponseLookupTbl[], 2,0), \"\")","v":" The product cannot meet the requirement “Out-of-the-Box”, “With Configuration”, “With Custom Programming” or with a “Future Release”."}]
["13.H.03",{"$f":"B589","v":"Chain of Custody"},{"$f":"C589","v":"Functional"},"Electronic Signatures","Must Have","Please list your solution's ability to capture electronic signatures.",null,"Cannot Meet",{"$f":"IFERROR(VLOOKUP(H590,VendorResponseLookupTbl[], 2,0), \"\")","v":" The product cannot meet the requirement “Out-of-the-Box”, “With Configuration”, “With Custom Programming” or with a “Future Release”."}]
["13.H.04","Chain of Custody","Functional","Tracking Viewing","Must Have","Please list your solution's ability to track viewing of a property item, including:\n\na) Start and end time of viewing\nb) Evidence viewed\nc) Location of viewing\nd) Persons present during viewing (multiple)\ne) Reason for viewing",null,"Cannot Meet",{"$f":"IFERROR(VLOOKUP(H591,VendorResponseLookupTbl[], 2,0), \"\")","v":" The product cannot meet the requirement “Out-of-the-Box”, “With Configuration”, “With Custom Programming” or with a “Future Release”."}]
["13.H.05","Chain of Custody","Functional","Return Due Dates","Must Have","Please list your solution's ability to include due dates for items to be returned.",null,"Cannot Meet",{"$f":"IFERROR(VLOOKUP(H592,VendorResponseLookupTbl[], 2,0), \"\")","v":" The product cannot meet the requirement “Out-of-the-Box”, “With Configuration”, “With Custom Programming” or with a “Future Release”."}]
["13.H.06","Chain of Custody","Functional","Automatic Notifications","Must Have","Please list your solution's ability to provide automatic reminders, at agency-defined intervals, that checked-out items are overdue.",null,"Cannot Meet",{"$f":"IFERROR(VLOOKUP(H593,VendorResponseLookupTbl[], 2,0), \"\")","v":" The product cannot meet the requirement “Out-of-the-Box”, “With Configuration”, “With Custom Programming” or with a “Future Release”."}]
["13.H.07","Chain of Custody","Functional","Bar Code Scanning","Must Have","Please list your solution's ability to scan bar code during check-out and check-in to update chain of custody (e.g., time and date information are populated and the user only adds information not in the system).",null,"Cannot Meet",{"$f":"IFERROR(VLOOKUP(H594,VendorResponseLookupTbl[], 2,0), \"\")","v":" The product cannot meet the requirement “Out-of-the-Box”, “With Configuration”, “With Custom Programming” or with a “Future Release”."}]
["13.H.08","Chain of Custody","Functional","Chain of Custody Report","Must Have","Please list your solution's ability to generate a chain of custody report for a property item entered into the system as evidence.",null,"Cannot Meet",{"$f":"IFERROR(VLOOKUP(H595,VendorResponseLookupTbl[], 2,0), \"\")","v":" The product cannot meet the requirement “Out-of-the-Box”, “With Configuration”, “With Custom Programming” or with a “Future Release”."}]
["13.H.09","Chain of Custody","Functional","Property Location Information","Must Have","Please list your solution's ability to query a property item and identify its location from the chain of custody information.",null,"Cannot Meet",{"$f":"IFERROR(VLOOKUP(H596,VendorResponseLookupTbl[], 2,0), \"\")","v":" The product cannot meet the requirement “Out-of-the-Box”, “With Configuration”, “With Custom Programming” or with a “Future Release”."}]
["13.H.10","Chain of Custody","Functional","Mass Check-out","Must Have","Please list your solution's ability to mass check out evidence.",null,"Cannot Meet",{"$f":"IFERROR(VLOOKUP(H597,VendorResponseLookupTbl[], 2,0), \"\")","v":" The product cannot meet the requirement “Out-of-the-Box”, “With Configuration”, “With Custom Programming” or with a “Future Release”."}]
["13.H.11","Chain of Custody","Functional","Electronic Check-outs","Must Have","Please list your solution's ability for an authorized user to use the system to request to check out or view evidence.",null,"Cannot Meet",{"$f":"IFERROR(VLOOKUP(H598,VendorResponseLookupTbl[], 2,0), \"\")","v":" The product cannot meet the requirement “Out-of-the-Box”, “With Configuration”, “With Custom Programming” or with a “Future Release”."}]
["13.I.00","Inventory and Audits"]
["13.I.01",{"$f":"B599","v":"Inventory and Audits"},"Functional","Audit Trail","Must Have","Please list your solution's ability to document person conducting an audit.",null,"Cannot Meet",{"$f":"IFERROR(VLOOKUP(H600,VendorResponseLookupTbl[], 2,0), \"\")","v":" The product cannot meet the requirement “Out-of-the-Box”, “With Configuration”, “With Custom Programming” or with a “Future Release”."}]
["13.I.02",{"$f":"B600","v":"Inventory and Audits"},{"$f":"C600","v":"Functional"},"Audit Trail\nRelated Reports","Must Have","Please list your solution's ability to display person conducting an audit on all related audit reports.",null,"Cannot Meet",{"$f":"IFERROR(VLOOKUP(H601,VendorResponseLookupTbl[], 2,0), \"\")","v":" The product cannot meet the requirement “Out-of-the-Box”, “With Configuration”, “With Custom Programming” or with a “Future Release”."}]
["13.I.03",{"$f":"B601","v":"Inventory and Audits"},{"$f":"C601","v":"Functional"},"Property Recorded Item","Must Have","Please list your solution's ability to document on a property record that the item was included in an inventory or audit, including:\n\na) Indicator that property was inventoried/audited\nb) Date and time stamp of inventory/audit\nc) Result of inventory/audit (e.g.,  found in correct location, not found, found in wrong location)",null,"Cannot Meet",{"$f":"IFERROR(VLOOKUP(H602,VendorResponseLookupTbl[], 2,0), \"\")","v":" The product cannot meet the requirement “Out-of-the-Box”, “With Configuration”, “With Custom Programming” or with a “Future Release”."}]
["13.I.04","Inventory and Audits","Functional","Items Within a Location","Must Have","Please list your solution's ability to generate a list of all property located in a given:\n\na) Property room area\nb) Shelf\nc) Bin\nd) Any Agency-defined location",null,"Cannot Meet",{"$f":"IFERROR(VLOOKUP(H603,VendorResponseLookupTbl[], 2,0), \"\")","v":" The product cannot meet the requirement “Out-of-the-Box”, “With Configuration”, “With Custom Programming” or with a “Future Release”."}]
["13.I.05","Inventory and Audits","Functional","Bar Code Scanning","Must Have","Please list your solution's ability to scan via a bar code all items in a given location to check that items on a list of property are in the proper location.",null,"Cannot Meet",{"$f":"IFERROR(VLOOKUP(H604,VendorResponseLookupTbl[], 2,0), \"\")","v":" The product cannot meet the requirement “Out-of-the-Box”, “With Configuration”, “With Custom Programming” or with a “Future Release”."}]
["13.I.06","Inventory and Audits","Functional","Entire Inventory","Must Have","Please list your solution's ability to inventory an unlimited number of items at one time.",null,"Cannot Meet",{"$f":"IFERROR(VLOOKUP(H605,VendorResponseLookupTbl[], 2,0), \"\")","v":" The product cannot meet the requirement “Out-of-the-Box”, “With Configuration”, “With Custom Programming” or with a “Future Release”."}]
["13.I.07","Inventory and Audits","Functional","Missing Items Report","Must Have","Please list your solution's ability to generate a report of missing property items.",null,"Cannot Meet",{"$f":"IFERROR(VLOOKUP(H606,VendorResponseLookupTbl[], 2,0), \"\")","v":" The product cannot meet the requirement “Out-of-the-Box”, “With Configuration”, “With Custom Programming” or with a “Future Release”."}]
["13.I.08","Inventory and Audits","Functional","Outstanding Items ","Must Have","Please list your solution's ability to generate a list of items in a given location that are not on the generated list of property items that are supposed to be in that location.",null,"Cannot Meet",{"$f":"IFERROR(VLOOKUP(H607,VendorResponseLookupTbl[], 2,0), \"\")","v":" The product cannot meet the requirement “Out-of-the-Box”, “With Configuration”, “With Custom Programming” or with a “Future Release”."}]
["13.I.09","Inventory and Audits","Functional","Inventory Checks","Must Have","Please list your solution's ability to generate a random list of inventory.",null,"Cannot Meet",{"$f":"IFERROR(VLOOKUP(H608,VendorResponseLookupTbl[], 2,0), \"\")","v":" The product cannot meet the requirement “Out-of-the-Box”, “With Configuration”, “With Custom Programming” or with a “Future Release”."}]
["13.I.10","Inventory and Audits","Functional","Location Checks","Must Have","Please list your solution's ability to document whether items on a random inventory list are in the proper location.",null,"Cannot Meet",{"$f":"IFERROR(VLOOKUP(H609,VendorResponseLookupTbl[], 2,0), \"\")","v":" The product cannot meet the requirement “Out-of-the-Box”, “With Configuration”, “With Custom Programming” or with a “Future Release”."}]
["13.I.11","Inventory and Audits","Functional","Active Case Items","Must Have","Please list your solution's ability to randomly select an active case and document whether the associated property items are in the proper location.",null,"Cannot Meet",{"$f":"IFERROR(VLOOKUP(H610,VendorResponseLookupTbl[], 2,0), \"\")","v":" The product cannot meet the requirement “Out-of-the-Box”, “With Configuration”, “With Custom Programming” or with a “Future Release”."}]
["13.I.12","Inventory and Audits","Functional","Inactive Case Items","Must Have","Please list your solution's ability to randomly select an inactive case and document whether the associated property items were disposed of appropriately.",null,"Cannot Meet",{"$f":"IFERROR(VLOOKUP(H611,VendorResponseLookupTbl[], 2,0), \"\")","v":" The product cannot meet the requirement “Out-of-the-Box”, “With Configuration”, “With Custom Programming” or with a “Future Release”."}]
["13.I.13","Inventory and Audits","Functional","Full Inventory Count","Must Have","Please list your solution's ability to conduct a full inventory of property by:\n\na) Date entered\nb) Year entered\nc) Location\nd) Case number\ne) Involved parties (Owner, seized from, etc.)\nf) Personnel ID\ng) Type of property",null,"Cannot Meet",{"$f":"IFERROR(VLOOKUP(H612,VendorResponseLookupTbl[], 2,0), \"\")","v":" The product cannot meet the requirement “Out-of-the-Box”, “With Configuration”, “With Custom Programming” or with a “Future Release”."}]
["13.I.14","Inventory and Audits","Functional","Case Number Entry","Must Have","Please list your solution's ability to enter in a case number display:\n\na) A list of associated evidence\nb) The location of associated evidence",null,"Cannot Meet",{"$f":"IFERROR(VLOOKUP(H613,VendorResponseLookupTbl[], 2,0), \"\")","v":" The product cannot meet the requirement “Out-of-the-Box”, “With Configuration”, “With Custom Programming” or with a “Future Release”."}]
["13.I.15","Inventory and Audits","Functional","Custody Reports","Must Have","Please list your solution's ability to print a report of:\n\na) All money in custody\nb) All guns in custody\nc) All items of a designated type",null,"Cannot Meet",{"$f":"IFERROR(VLOOKUP(H614,VendorResponseLookupTbl[], 2,0), \"\")","v":" The product cannot meet the requirement “Out-of-the-Box”, “With Configuration”, “With Custom Programming” or with a “Future Release”."}]
["13.J.00","Disposition"]
["13.J.01",{"$f":"B615","v":"Disposition"},"Functional","Property Classification","Must Have","Please list your solution's ability to classify property for disposal through:\n\na) Return to owner\nb) Destruction\nc) Conversion to law enforcement usage\nd) Auction",null,"Cannot Meet",{"$f":"IFERROR(VLOOKUP(H616,VendorResponseLookupTbl[], 2,0), \"\")","v":" The product cannot meet the requirement “Out-of-the-Box”, “With Configuration”, “With Custom Programming” or with a “Future Release”."}]
["13.J.02",{"$f":"B616","v":"Disposition"},{"$f":"C616","v":"Functional"},"Property Subclassification","Must Have","Please list your solution's ability to subclassify property for disposal by disposal location.",null,"Cannot Meet",{"$f":"IFERROR(VLOOKUP(H617,VendorResponseLookupTbl[], 2,0), \"\")","v":" The product cannot meet the requirement “Out-of-the-Box”, “With Configuration”, “With Custom Programming” or with a “Future Release”."}]
["13.J.03",{"$f":"B617","v":"Disposition"},{"$f":"C617","v":"Functional"},"Review Dates","Must Have","Please list your solution's ability for agency to identify review dates for different types of property.",null,"Cannot Meet",{"$f":"IFERROR(VLOOKUP(H618,VendorResponseLookupTbl[], 2,0), \"\")","v":" The product cannot meet the requirement “Out-of-the-Box”, “With Configuration”, “With Custom Programming” or with a “Future Release”."}]
["13.J.04","Disposition","Functional","Agency-Defined Disposition Types","Must Have","Please list your solution's ability for agency to configure disposition types.",null,"Cannot Meet",{"$f":"IFERROR(VLOOKUP(H619,VendorResponseLookupTbl[], 2,0), \"\")","v":" The product cannot meet the requirement “Out-of-the-Box”, “With Configuration”, “With Custom Programming” or with a “Future Release”."}]
["13.J.05","Disposition","Functional","Retention Policies","Must Have","Please list your solution's ability to set property and evidence retention time frames based on:\n\na) Evidence/property type\nb) Disposal status\nc) Offense type",null,"Cannot Meet",{"$f":"IFERROR(VLOOKUP(H620,VendorResponseLookupTbl[], 2,0), \"\")","v":" The product cannot meet the requirement “Out-of-the-Box”, “With Configuration”, “With Custom Programming” or with a “Future Release”."}]
["13.J.06","Disposition","Functional","Post-Disposal Records","Must Have","Please list your solution's ability to maintain property records after property disposal.",null,"Cannot Meet",{"$f":"IFERROR(VLOOKUP(H621,VendorResponseLookupTbl[], 2,0), \"\")","v":" The product cannot meet the requirement “Out-of-the-Box”, “With Configuration”, “With Custom Programming” or with a “Future Release”."}]
["13.J.07","Disposition","Functional","Review Report","Must Have","Please list your solution's ability to generate a report of items that are up for review.",null,"Cannot Meet",{"$f":"IFERROR(VLOOKUP(H622,VendorResponseLookupTbl[], 2,0), \"\")","v":" The product cannot meet the requirement “Out-of-the-Box”, “With Configuration”, “With Custom Programming” or with a “Future Release”."}]
["13.J.08","Disposition","Functional","Review Notification","Must Have","Please list your solution's ability to notify investigators of items that require review:\n\na) Manually\nb) Automatically (based on Agency-defined business logic)\nc) Based on expiration of the statute of limitations date",null,"Cannot Meet",{"$f":"IFERROR(VLOOKUP(H623,VendorResponseLookupTbl[], 2,0), \"\")","v":" The product cannot meet the requirement “Out-of-the-Box”, “With Configuration”, “With Custom Programming” or with a “Future Release”."}]
["13.J.09","Disposition","Functional","Review Notification\nRepeated Notification","Must Have","Please list your solution's ability to send repeat notifications to investigators of need to review cases until a response is received.",null,"Cannot Meet",{"$f":"IFERROR(VLOOKUP(H624,VendorResponseLookupTbl[], 2,0), \"\")","v":" The product cannot meet the requirement “Out-of-the-Box”, “With Configuration”, “With Custom Programming” or with a “Future Release”."}]
["13.J.10","Disposition","Functional","Investigator Response","Must Have","Please list your solution's ability to capture an investigator's response regarding what should be done with the property (e.g., keep, dispose).",null,"Cannot Meet",{"$f":"IFERROR(VLOOKUP(H625,VendorResponseLookupTbl[], 2,0), \"\")","v":" The product cannot meet the requirement “Out-of-the-Box”, “With Configuration”, “With Custom Programming” or with a “Future Release”."}]
["13.J.11","Disposition","Functional","Retention Alerts","Must Have","Please list your solution's ability to alert property and evidence personnel of items that require review based on retention rates.",null,"Cannot Meet",{"$f":"IFERROR(VLOOKUP(H626,VendorResponseLookupTbl[], 2,0), \"\")","v":" The product cannot meet the requirement “Out-of-the-Box”, “With Configuration”, “With Custom Programming” or with a “Future Release”."}]
["13.J.12","Disposition","Functional","Extending Retention","Must Have","Please list your solution's ability to update extend retention date for all items associated with a case.",null,"Cannot Meet",{"$f":"IFERROR(VLOOKUP(H627,VendorResponseLookupTbl[], 2,0), \"\")","v":" The product cannot meet the requirement “Out-of-the-Box”, “With Configuration”, “With Custom Programming” or with a “Future Release”."}]
["13.J.13","Disposition","Functional","Adding Disposal Information","Must Have","Please list your solution's ability to add disposal information to a property record, including but not limited to:\n\na) Disposal method\nb) Disposal date\nc) Disposal reason",null,"Cannot Meet",{"$f":"IFERROR(VLOOKUP(H628,VendorResponseLookupTbl[], 2,0), \"\")","v":" The product cannot meet the requirement “Out-of-the-Box”, “With Configuration”, “With Custom Programming” or with a “Future Release”."}]
["13.J.14","Disposition","Functional","Information Tracking","Must Have","Please list your solution's ability to track the information associated with property released to an owner, including but not limited to:\n\na) Released to\nb) Driver's license or other government ID of person\nc) Released by\nd) Date of release\ne) Electronic signature",null,"Cannot Meet",{"$f":"IFERROR(VLOOKUP(H629,VendorResponseLookupTbl[], 2,0), \"\")","v":" The product cannot meet the requirement “Out-of-the-Box”, “With Configuration”, “With Custom Programming” or with a “Future Release”."}]
["13.J.15","Disposition","Functional","Receiving Property","Must Have","Please list your solution's ability to document that proper checks were run to ensure that a claimant can receive property.",null,"Cannot Meet",{"$f":"IFERROR(VLOOKUP(H630,VendorResponseLookupTbl[], 2,0), \"\")","v":" The product cannot meet the requirement “Out-of-the-Box”, “With Configuration”, “With Custom Programming” or with a “Future Release”."}]
["13.J.16","Disposition","Functional","Firearm Restrictions","Must Have","Please list your solution's ability to document a check for firearm restrictions upon release of a firearm.",null,"Cannot Meet",{"$f":"IFERROR(VLOOKUP(H631,VendorResponseLookupTbl[], 2,0), \"\")","v":" The product cannot meet the requirement “Out-of-the-Box”, “With Configuration”, “With Custom Programming” or with a “Future Release”."}]
["13.J.17","Disposition","Functional","Property Eligibility","Must Have","Please list your solution's ability to prevent property from becoming eligible for disposal until it is cleared under all cases with which it is associated.",null,"Cannot Meet",{"$f":"IFERROR(VLOOKUP(H632,VendorResponseLookupTbl[], 2,0), \"\")","v":" The product cannot meet the requirement “Out-of-the-Box”, “With Configuration”, “With Custom Programming” or with a “Future Release”."}]
["13.J.18","Disposition","Functional","Workflow Approvals","Must Have","Please list your solution's ability to require multiple levels of approval prior to property becoming eligible for disposal.",null,"Cannot Meet",{"$f":"IFERROR(VLOOKUP(H633,VendorResponseLookupTbl[], 2,0), \"\")","v":" The product cannot meet the requirement “Out-of-the-Box”, “With Configuration”, “With Custom Programming” or with a “Future Release”."}]
["13.J.19","Disposition","Functional","Scheduling Reports","Must Have","Please list your solution's ability to produce scheduled reports showing property eligible for disposal.",null,"Cannot Meet",{"$f":"IFERROR(VLOOKUP(H634,VendorResponseLookupTbl[], 2,0), \"\")","v":" The product cannot meet the requirement “Out-of-the-Box”, “With Configuration”, “With Custom Programming” or with a “Future Release”."}]
["13.J.20","Disposition","Functional","Destruction Report\nActions","Must Have","Please list your solution's ability to view a destruction report and perform the following:\n\na) Accept or reject a piece of property/evidence for destruction\nb) Change property/evidence status of those accepted to \"flagged for destruction\"",null,"Cannot Meet",{"$f":"IFERROR(VLOOKUP(H635,VendorResponseLookupTbl[], 2,0), \"\")","v":" The product cannot meet the requirement “Out-of-the-Box”, “With Configuration”, “With Custom Programming” or with a “Future Release”."}]
["13.J.21","Disposition","Functional","Returned Property Report","Must Have","Please list your solution's ability to generate a report of property eligible for return to owner.",null,"Cannot Meet",{"$f":"IFERROR(VLOOKUP(H636,VendorResponseLookupTbl[], 2,0), \"\")","v":" The product cannot meet the requirement “Out-of-the-Box”, “With Configuration”, “With Custom Programming” or with a “Future Release”."}]
["13.J.22","Disposition","Functional","Returned Property Report\nActions ","Must Have","Please list your solution's ability for user to view a \"return to owner\" report and perform the following:\n\na) Accept or reject a piece of property/evidence for return\nb) Change property/evidence status of those accepted to \"flagged for return to owner\"\nc) Generate a notice to property owners that their property is ready to be retrieved.",null,"Cannot Meet",{"$f":"IFERROR(VLOOKUP(H637,VendorResponseLookupTbl[], 2,0), \"\")","v":" The product cannot meet the requirement “Out-of-the-Box”, “With Configuration”, “With Custom Programming” or with a “Future Release”."}]
["13.J.23","Disposition","Functional","Auction Eligibility","Must Have","Please list your solution's ability to generate a report of items eligible for auction.",null,"Cannot Meet",{"$f":"IFERROR(VLOOKUP(H638,VendorResponseLookupTbl[], 2,0), \"\")","v":" The product cannot meet the requirement “Out-of-the-Box”, “With Configuration”, “With Custom Programming” or with a “Future Release”."}]
["13.J.24","Disposition","Functional","Auction Report\nActions","Must Have","Please list your solution's ability to view an auction report and perform the following:\n\na) Accept or reject a record\nb) Document sale price\nc) Add auction comments\nd) Note auction location\ne) Flag an item for auction\nf) Record the date of auction",null,"Cannot Meet",{"$f":"IFERROR(VLOOKUP(H639,VendorResponseLookupTbl[], 2,0), \"\")","v":" The product cannot meet the requirement “Out-of-the-Box”, “With Configuration”, “With Custom Programming” or with a “Future Release”."}]
["13.J.25","Disposition","Functional","Batch Disposition","Must Have","Please list your solution's ability to assign a batch disposition of all items by the following:\n\na) Date\nb) Bin location",null,"Cannot Meet",{"$f":"IFERROR(VLOOKUP(H640,VendorResponseLookupTbl[], 2,0), \"\")","v":" The product cannot meet the requirement “Out-of-the-Box”, “With Configuration”, “With Custom Programming” or with a “Future Release”."}]
["13.J.26","Disposition","Functional","Case Items Disposition","Must Have","Please list your solution's ability to assign disposition of all items attached to a case at the same time.",null,"Cannot Meet",{"$f":"IFERROR(VLOOKUP(H641,VendorResponseLookupTbl[], 2,0), \"\")","v":" The product cannot meet the requirement “Out-of-the-Box”, “With Configuration”, “With Custom Programming” or with a “Future Release”."}]
["13.J.27","Disposition","Functional","Drug and Weapon Destruction Information","Must Have","Please list your solution's ability to capture the following drug and weapon destruction information on a property record:\n\na) Person approving destruction\nb) Person destroying drugs/weapons\nc) Person reviewing the drugs/weapons to ensure they were not tampered with\nd) Person witnessing destruction\ne) Case number\nf) Drug type and drug weight\ng) Weapon make and model\nh) Destruction date\ni) Serial number\nj) Defendant name",null,"Cannot Meet",{"$f":"IFERROR(VLOOKUP(H642,VendorResponseLookupTbl[], 2,0), \"\")","v":" The product cannot meet the requirement “Out-of-the-Box”, “With Configuration”, “With Custom Programming” or with a “Future Release”."}]
["13.J.28","Disposition","Functional","CCIC/NCIC View","Should Have","Please list your solution's ability to run a person through CCIC/NCIC from within the property record.",null,"Cannot Meet",{"$f":"IFERROR(VLOOKUP(H643,VendorResponseLookupTbl[], 2,0), \"\")","v":" The product cannot meet the requirement “Out-of-the-Box”, “With Configuration”, “With Custom Programming” or with a “Future Release”."}]
["13.J.29","Disposition","Functional","Agency-Defined Checks","Should Have","Please list your solution's ability to agency to configure the checks that should be run prior to a claimant receiving property.",null,"Cannot Meet",{"$f":"IFERROR(VLOOKUP(H644,VendorResponseLookupTbl[], 2,0), \"\")","v":" The product cannot meet the requirement “Out-of-the-Box”, “With Configuration”, “With Custom Programming” or with a “Future Release”."}]
["13.K.00","Module Outputs"]
["13.K.01",{"$f":"B645","v":"Module Outputs"},"Functional","Search Functionality","Must Have","Please list your solution's ability to search by:\n\na) Involved officer number(s) or name(s)\nb) Date range\nc) Any property module field\nd) Case number\ne) Involved persons\nf) Location",null,"Cannot Meet",{"$f":"IFERROR(VLOOKUP(H646,VendorResponseLookupTbl[], 2,0), \"\")","v":" The product cannot meet the requirement “Out-of-the-Box”, “With Configuration”, “With Custom Programming” or with a “Future Release”."}]
["13.K.02",{"$f":"B646","v":"Module Outputs"},{"$f":"C646","v":"Functional"},"Display Information","Must Have","Please list your solution's ability to display the following information upon retrieving a property item in a search result:\n\na) Involved officer number(s) or name(s)\nb) Property type\nc) Serial number\nd) Item description\ne) Case number\nf) Received date/time\ng) Make and model\nh) Storage location\ni) Tag number\nj) Date of collection\nk) Date eligible for disposition\nl) Photo of item",null,"Cannot Meet",{"$f":"IFERROR(VLOOKUP(H647,VendorResponseLookupTbl[], 2,0), \"\")","v":" The product cannot meet the requirement “Out-of-the-Box”, “With Configuration”, “With Custom Programming” or with a “Future Release”."}]
["13.K.03",{"$f":"B647","v":"Module Outputs"},{"$f":"C647","v":"Functional"},"Audit Trails","Must Have","Please list your solution's ability to provide a transaction history for any property item record, including modifying, adding, and deleting.",null,"Cannot Meet",{"$f":"IFERROR(VLOOKUP(H648,VendorResponseLookupTbl[], 2,0), \"\")","v":" The product cannot meet the requirement “Out-of-the-Box”, “With Configuration”, “With Custom Programming” or with a “Future Release”."}]
["13.K.04","Module Outputs","Functional","Audit Trail Information","Must Have","Please list your solution's ability for transaction history to include for each transaction:\n\na) Date and time\nb) Action taken\nc) Evidence Technician",null,"Cannot Meet",{"$f":"IFERROR(VLOOKUP(H649,VendorResponseLookupTbl[], 2,0), \"\")","v":" The product cannot meet the requirement “Out-of-the-Box”, “With Configuration”, “With Custom Programming” or with a “Future Release”."}]
["13.K.05","Module Outputs","Functional","Chain of Custody Report","Must Have","Please list your solution's ability to generate a complete chain of custody report by case number.",null,"Cannot Meet",{"$f":"IFERROR(VLOOKUP(H650,VendorResponseLookupTbl[], 2,0), \"\")","v":" The product cannot meet the requirement “Out-of-the-Box”, “With Configuration”, “With Custom Programming” or with a “Future Release”."}]
["13.K.06","Module Outputs","Functional","Property Receipt","Must Have","Please list your solution's ability to generate a property receipt. ",null,"Cannot Meet",{"$f":"IFERROR(VLOOKUP(H651,VendorResponseLookupTbl[], 2,0), \"\")","v":" The product cannot meet the requirement “Out-of-the-Box”, “With Configuration”, “With Custom Programming” or with a “Future Release”."}]
["13.K.07","Module Outputs","Functional","Checked Out Items Report","Must Have","Please list your solution's ability to generate report of checked out items, sorted by \"checked out to.\"",null,"Cannot Meet",{"$f":"IFERROR(VLOOKUP(H652,VendorResponseLookupTbl[], 2,0), \"\")","v":" The product cannot meet the requirement “Out-of-the-Box”, “With Configuration”, “With Custom Programming” or with a “Future Release”."}]
["13.K.08","Module Outputs","Functional","Evidence Property Report","Must Have","Please list your solution's ability to generate an evidence property report by case report number.",null,"Cannot Meet",{"$f":"IFERROR(VLOOKUP(H653,VendorResponseLookupTbl[], 2,0), \"\")","v":" The product cannot meet the requirement “Out-of-the-Box”, “With Configuration”, “With Custom Programming” or with a “Future Release”."}]
["13.K.09","Module Outputs","Functional","Mass Disposition Report","Must Have","Please list your solution's ability to generate a mass disposition report by date, disposition and property type.",null,"Cannot Meet",{"$f":"IFERROR(VLOOKUP(H654,VendorResponseLookupTbl[], 2,0), \"\")","v":" The product cannot meet the requirement “Out-of-the-Box”, “With Configuration”, “With Custom Programming” or with a “Future Release”."}]
["13.K.10","Module Outputs","Functional","Property Report\nCase Number","Must Have","Please list your solution's ability to generate a property disposition report by case report number.",null,"Cannot Meet",{"$f":"IFERROR(VLOOKUP(H655,VendorResponseLookupTbl[], 2,0), \"\")","v":" The product cannot meet the requirement “Out-of-the-Box”, “With Configuration”, “With Custom Programming” or with a “Future Release”."}]
["13.K.11","Module Outputs","Functional","Property Report\nGiven Date","Must Have","Please list your solution's ability to generate a property disposition report of all items up for disposition by a given date.",null,"Cannot Meet",{"$f":"IFERROR(VLOOKUP(H656,VendorResponseLookupTbl[], 2,0), \"\")","v":" The product cannot meet the requirement “Out-of-the-Box”, “With Configuration”, “With Custom Programming” or with a “Future Release”."}]
["13.K.12","Module Outputs","Functional","Bin Location Report","Must Have","Please list your solution's ability to print a property bin location report by date.",null,"Cannot Meet",{"$f":"IFERROR(VLOOKUP(H657,VendorResponseLookupTbl[], 2,0), \"\")","v":" The product cannot meet the requirement “Out-of-the-Box”, “With Configuration”, “With Custom Programming” or with a “Future Release”."}]
["13.K.13","Module Outputs","Functional","Agency-Defined Notifications","Should Have","Please list your solution's ability to create user-defined custom letters/memos/E-mail notifications for disposal/release/transfer or other actions.",null,"Cannot Meet",{"$f":"IFERROR(VLOOKUP(H658,VendorResponseLookupTbl[], 2,0), \"\")","v":" The product cannot meet the requirement “Out-of-the-Box”, “With Configuration”, “With Custom Programming” or with a “Future Release”."}]
[14,"Sex Offender Registration"]
["14.A.00",{"$f":"B659","v":"Sex Offender Registration"}]
["14.A.01",{"$f":"B660","v":"Sex Offender Registration"},"Functional","Tracking SO's","Must Have","Please list your solution's ability to track registered convicted sex offenders (\"SO's\").",null,"Cannot Meet",{"$f":"IFERROR(VLOOKUP(H661,VendorResponseLookupTbl[], 2,0), \"\")","v":" The product cannot meet the requirement “Out-of-the-Box”, “With Configuration”, “With Custom Programming” or with a “Future Release”."}]
["14.A.02",{"$f":"B661","v":"Sex Offender Registration"},{"$f":"C661","v":"Functional"},"Generating a SO Number","Must Have","Please list your solution's ability to generate a sex offender registration number upon creation of a new sex offender record.",null,"Cannot Meet",{"$f":"IFERROR(VLOOKUP(H662,VendorResponseLookupTbl[], 2,0), \"\")","v":" The product cannot meet the requirement “Out-of-the-Box”, “With Configuration”, “With Custom Programming” or with a “Future Release”."}]
["14.A.03",{"$f":"B662","v":"Sex Offender Registration"},{"$f":"C662","v":"Functional"},"SO Information","Must Have","Please list your solution's ability to include the following information in the sex offender record:\n\na) Single and Multiple Convictions\nb) Conviction date(s)\nc) Police Jurisdiction\nd) Docket number\ne) Class of crime\nf) Date registered\ng) Registered by",null,"Cannot Meet",{"$f":"IFERROR(VLOOKUP(H663,VendorResponseLookupTbl[], 2,0), \"\")","v":" The product cannot meet the requirement “Out-of-the-Box”, “With Configuration”, “With Custom Programming” or with a “Future Release”."}]
["14.A.04","Sex Offender Registration","Functional","SO Relocation Form","Must Have","Please list your solution's ability to create and print a user-defined sex offender relocation form that includes:\n\na) Name\nb) Booking ID number\nc) Date of birth\nd) Case number\ne) Charge details/description\nf) Disposition\ng) Narrative section to allow offender to handwrite relocation address\nh) Jurisdiction moving to (hand-written field)\ni) Law enforcement officer notified (hand-written field)\nj) Releasing officer\nk) Officer ID number\nl) Releasing officer signature line\nm) Sex offender alert information\nn) Sections for advisement statements\no) Date\np) Offender signature line",null,"Cannot Meet",{"$f":"IFERROR(VLOOKUP(H664,VendorResponseLookupTbl[], 2,0), \"\")","v":" The product cannot meet the requirement “Out-of-the-Box”, “With Configuration”, “With Custom Programming” or with a “Future Release”."}]
["14.A.05","Sex Offender Registration","Functional","Agency-Defined SO Types","Must Have","Please list your solution's ability for an Agency to define types of convicted offenders for which registration is required.",null,"Cannot Meet",{"$f":"IFERROR(VLOOKUP(H665,VendorResponseLookupTbl[], 2,0), \"\")","v":" The product cannot meet the requirement “Out-of-the-Box”, “With Configuration”, “With Custom Programming” or with a “Future Release”."}]
["14.A.06","Sex Offender Registration","Functional","Linking Registration Records","Must Have","Please list your solution's ability to link offender registration records to master indices.",null,"Cannot Meet",{"$f":"IFERROR(VLOOKUP(H666,VendorResponseLookupTbl[], 2,0), \"\")","v":" The product cannot meet the requirement “Out-of-the-Box”, “With Configuration”, “With Custom Programming” or with a “Future Release”."}]
["14.A.07","Sex Offender Registration","Functional","Searching and Flagging SO's","Must Have","Please list your solution's ability to flag registered sex offenders when their names are returned on a search.",null,"Cannot Meet",{"$f":"IFERROR(VLOOKUP(H667,VendorResponseLookupTbl[], 2,0), \"\")","v":" The product cannot meet the requirement “Out-of-the-Box”, “With Configuration”, “With Custom Programming” or with a “Future Release”."}]
["14.A.08","Sex Offender Registration","Functional","Attaching a Flag","Must Have","Please list your solution's ability to attach flags to sex offender registrants, including, but not limited to the following:\n\na) Homeless\nb) Predator",null,"Cannot Meet",{"$f":"IFERROR(VLOOKUP(H668,VendorResponseLookupTbl[], 2,0), \"\")","v":" The product cannot meet the requirement “Out-of-the-Box”, “With Configuration”, “With Custom Programming” or with a “Future Release”."}]
["14.A.09","Sex Offender Registration","Functional","History of Addresses","Must Have","Please list your solution's ability to maintain a history of a registrant's addresses.",null,"Cannot Meet",{"$f":"IFERROR(VLOOKUP(H669,VendorResponseLookupTbl[], 2,0), \"\")","v":" The product cannot meet the requirement “Out-of-the-Box”, “With Configuration”, “With Custom Programming” or with a “Future Release”."}]
["14.A.10","Sex Offender Registration","Functional","LEA Visits","Must Have","Please list your solution's ability to track law enforcement visits to/compliance checks for sex offenders.\n\na) Date\nb) Notes",null,"Cannot Meet",{"$f":"IFERROR(VLOOKUP(H670,VendorResponseLookupTbl[], 2,0), \"\")","v":" The product cannot meet the requirement “Out-of-the-Box”, “With Configuration”, “With Custom Programming” or with a “Future Release”."}]
["14.A.11","Sex Offender Registration","Functional","Attach Documents","Must Have","Please list your solution's ability to attach documents to registrant records.",null,"Cannot Meet",{"$f":"IFERROR(VLOOKUP(H671,VendorResponseLookupTbl[], 2,0), \"\")","v":" The product cannot meet the requirement “Out-of-the-Box”, “With Configuration”, “With Custom Programming” or with a “Future Release”."}]
["14.A.12","Sex Offender Registration","Functional","Attaching Photos","Must Have","Please list your solution's ability to attach photos to registrant records.",null,"Cannot Meet",{"$f":"IFERROR(VLOOKUP(H672,VendorResponseLookupTbl[], 2,0), \"\")","v":" The product cannot meet the requirement “Out-of-the-Box”, “With Configuration”, “With Custom Programming” or with a “Future Release”."}]
["14.A.13","Sex Offender Registration","Functional","Date Records","Must Have","Please list your solution's ability to record the date of a registrant photograph.",null,"Cannot Meet",{"$f":"IFERROR(VLOOKUP(H673,VendorResponseLookupTbl[], 2,0), \"\")","v":" The product cannot meet the requirement “Out-of-the-Box”, “With Configuration”, “With Custom Programming” or with a “Future Release”."}]
["14.A.14","Sex Offender Registration","Functional","Historical Photos of SO's","Must Have","Please list your solution's ability to maintain a historical record of registrant photographs (e.g., add new photographs while keeping old photographs).",null,"Cannot Meet",{"$f":"IFERROR(VLOOKUP(H674,VendorResponseLookupTbl[], 2,0), \"\")","v":" The product cannot meet the requirement “Out-of-the-Box”, “With Configuration”, “With Custom Programming” or with a “Future Release”."}]
["14.A.15","Sex Offender Registration","Functional","Change of Address Notification","Must Have","Please list your solution's ability to send alert to notify victims of change of registered offender address.",null,"Cannot Meet",{"$f":"IFERROR(VLOOKUP(H675,VendorResponseLookupTbl[], 2,0), \"\")","v":" The product cannot meet the requirement “Out-of-the-Box”, “With Configuration”, “With Custom Programming” or with a “Future Release”."}]
["14.A.16","Sex Offender Registration","Functional","SO Activity Report","Must Have","Please list your solution's ability to generate and print a report showing activity related to registrants (e.g., number of registrations, number of visits, number of notifications, etc.).",null,"Cannot Meet",{"$f":"IFERROR(VLOOKUP(H676,VendorResponseLookupTbl[], 2,0), \"\")","v":" The product cannot meet the requirement “Out-of-the-Box”, “With Configuration”, “With Custom Programming” or with a “Future Release”."}]
["14.A.17","Sex Offender Registration","Functional","Cross-checking Addresses","Must Have","Please list your solution's ability to perform a cross-check of the current residence of the registrant with the list of restricted addresses (e.g., schools, day care facilities, etc.).",null,"Cannot Meet",{"$f":"IFERROR(VLOOKUP(H677,VendorResponseLookupTbl[], 2,0), \"\")","v":" The product cannot meet the requirement “Out-of-the-Box”, “With Configuration”, “With Custom Programming” or with a “Future Release”."}]
["14.A.18","Sex Offender Registration","Functional","Zip Code Report","Must Have","Please list your solution's ability to generate a report of registrants living in a given zip code.",null,"Cannot Meet",{"$f":"IFERROR(VLOOKUP(H678,VendorResponseLookupTbl[], 2,0), \"\")","v":" The product cannot meet the requirement “Out-of-the-Box”, “With Configuration”, “With Custom Programming” or with a “Future Release”."}]

{"sheet":"Mobile","index":2,"n_rows":267,"n_cols":10,"rows_kept":267,"cut":false,"hidden":false,"merged":[[8,0,8,9],[0,0,0,9],[1,0,1,9],[2,0,2,9],[4,0,4,3],[4,4,4,9],[6,0,6,3],[6,4,6,9]]}
[{"$f":"RMS!A1","v":"RFP # 101-26"}]
[{"$f":"RMS!A2","v":"RMS AND CAD SOFTWARE REPLACEMENT WITH PROFESSIONAL SERVICES FOR IMPLEMENTATION"}]
[{"$f":"RMS!A3","v":"Appendix No. 1 - Requirements Traceability Matrix (RTM)"}]
[]
["Proposing Vendor Name:",null,null,null,{"$f":"RMS!E5","v":"VENDOR NAME"}]
[]
["Proposing Vendor Contact Name:",null,null,null,{"$f":"RMS!E7","v":"VENDOR CONTACT NAME"}]
[]
["Notes to Proposing Vendors:\n1) Column G is an open text field for you to list what product/module of your solution is providing the service to cover the listed requirement.  \n2) Column H is a set of drop down fields for you to select from a set of pre-defined abilities.  Please select your response and do NOT change the formatting.  Column I will change automatically based upon your selection from column H.\n3) Column J is an open text field for your firm to provide a BRIEF explanation to how the proposed product matches your Requirement Compliance response."]
["Req. ID","Requirement Category","Requirement Type","Requirement Description","MoSCoW Value","Request for Information","Vendor Proposed Product/Module","Requirement Compliance","Requirement Definition","Vendor Explanation"]
["1.A","General Mobile Data Computing Features"]
["1.A.00",{"$f":"B11","v":"General Mobile Data Computing Features"}]
["1.A.01",{"$f":"B12","v":"General Mobile Data Computing Features"},"Functional","Automatic Screen Refreshes","Must Have","Please list your solution's ability to support automatic screen refreshes of  information.",null,"Cannot Meet",{"$f":"IFERROR(VLOOKUP(H13,VendorResponseLookupTbl[], 2,0), \"\")","v":" The product cannot meet the requirement “Out-of-the-Box”, “With Configuration”, “With Custom Programming” or with a “Future Release”."}]
["1.A.02",{"$f":"B13","v":"General Mobile Data Computing Features"},{"$f":"C13","v":"Functional"},"Logging Mobile Activities\nMust Haves","Must Have","Please list your solution's ability to log all mobile activities (e.g., chats, queries, uploads/downloads of field reports) with the following information: \n\na) Agency\nb) Date and time of transmission\nc) Mobile terminal ID\nd) User ID\ne) Vehicle ID\nf) GPS location of mobile device",null,"Cannot Meet",{"$f":"IFERROR(VLOOKUP(H14,VendorResponseLookupTbl[], 2,0), \"\")","v":" The product cannot meet the requirement “Out-of-the-Box”, “With Configuration”, “With Custom Programming” or with a “Future Release”."}]
["1.A.03",{"$f":"B14","v":"General Mobile Data Computing Features"},{"$f":"C14","v":"Functional"},"Logging Mobile Activities\nShould Haves","Should Have","Please list your solution's ability to log all mobile activities (e.g., chats, queries, uploads/downloads of field reports) with the following information: \n\na) IP address\nb) Computer name (domain name of the workstation)",null,"Cannot Meet",{"$f":"IFERROR(VLOOKUP(H15,VendorResponseLookupTbl[], 2,0), \"\")","v":" The product cannot meet the requirement “Out-of-the-Box”, “With Configuration”, “With Custom Programming” or with a “Future Release”."}]
["1.A.04",{"$f":"B15","v":"General Mobile Data Computing Features"},{"$f":"C15","v":"Functional"},"Visual Notification","Should Have","Please list your solution's ability to provide a visual alert if mobile is receiving negative response from CAD system (no connection to CAD).",null,"Cannot Meet",{"$f":"IFERROR(VLOOKUP(H16,VendorResponseLookupTbl[], 2,0), \"\")","v":" The product cannot meet the requirement “Out-of-the-Box”, “With Configuration”, “With Custom Programming” or with a “Future Release”."}]
["1.A.05",{"$f":"B16","v":"General Mobile Data Computing Features"},{"$f":"C16","v":"Functional"},"Continuous Reconnection","Must Have","Please list your solution's ability to continuously attempt to reconnect to CAD system or mobile server in the event connectivity is lost.",null,"Cannot Meet",{"$f":"IFERROR(VLOOKUP(H17,VendorResponseLookupTbl[], 2,0), \"\")","v":" The product cannot meet the requirement “Out-of-the-Box”, “With Configuration”, “With Custom Programming” or with a “Future Release”."}]
["1.A.06","General Mobile Data Computing Features","Functional","User-Initiated Downloading","Should Have","Please list your solution's ability to support a user-initiated download of software/files at logon without interfering with operational performance.",null,"Cannot Meet",{"$f":"IFERROR(VLOOKUP(H18,VendorResponseLookupTbl[], 2,0), \"\")","v":" The product cannot meet the requirement “Out-of-the-Box”, “With Configuration”, “With Custom Programming” or with a “Future Release”."}]
["1.A.07","General Mobile Data Computing Features","Functional","Automatic Downloading","Could Have","Please list your solution's ability to support an automatic download of software/files at logon without interfering with operational performance.",null,"Cannot Meet",{"$f":"IFERROR(VLOOKUP(H19,VendorResponseLookupTbl[], 2,0), \"\")","v":" The product cannot meet the requirement “Out-of-the-Box”, “With Configuration”, “With Custom Programming” or with a “Future Release”."}]
["1.A.08","General Mobile Data Computing Features","Functional","CJIS Requirements","Must Have","Please list your solution's ability to meet all CJIS requirements (including data encryption requirements per FIPS 140-2 for the transport and storage of data).",null,"Cannot Meet",{"$f":"IFERROR(VLOOKUP(H20,VendorResponseLookupTbl[], 2,0), \"\")","v":" The product cannot meet the requirement “Out-of-the-Box”, “With Configuration”, “With Custom Programming” or with a “Future Release”."}]
["2.A","Mobile Application User Interface"]
["2.A.00",{"$f":"B21","v":"Mobile Application User Interface"}]
["2.A.01",{"$f":"B22","v":"Mobile Application User Interface"},"Functional","Accepting Inputs\nMust Haves","Must Have","Please list your solution's ability to accept input from:\n\na) Keyboard and touchpad\nb) Touchscreen ",null,"Cannot Meet",{"$f":"IFERROR(VLOOKUP(H23,VendorResponseLookupTbl[], 2,0), \"\")","v":" The product cannot meet the requirement “Out-of-the-Box”, “With Configuration”, “With Custom Programming” or with a “Future Release”."}]
["2.A.02",{"$f":"B23","v":"Mobile Application User Interface"},"Functional","Accepting Inputs\nShould Haves","Should Have","Please list your solution's ability to accept input from:\n\na) Function keys (e.g., F1, F2)\nb) Voice recognition",null,"Cannot Meet",{"$f":"IFERROR(VLOOKUP(H24,VendorResponseLookupTbl[], 2,0), \"\")","v":" The product cannot meet the requirement “Out-of-the-Box”, “With Configuration”, “With Custom Programming” or with a “Future Release”."}]
["2.A.03",{"$f":"B24","v":"Mobile Application User Interface"},"Functional","Accepting Inputs\nCould Haves","Could Have","Please list your solution's ability to accept input from:\n\na) Barcode reader\nb) Card swipe reader\nc) QR code\nd) Command entries on a command line\ne) Point-and-click devices",null,"Cannot Meet",{"$f":"IFERROR(VLOOKUP(H25,VendorResponseLookupTbl[], 2,0), \"\")","v":" The product cannot meet the requirement “Out-of-the-Box”, “With Configuration”, “With Custom Programming” or with a “Future Release”."}]
["2.A.04",{"$f":"B25","v":"Mobile Application User Interface"},"Functional","Mobile User Interfacing","Should Have","Please list your solution's ability to configure the mobile user interface differently for different types of users (e.g., law enforcement, fire suppression, EMS, supervisor).",null,"Cannot Meet",{"$f":"IFERROR(VLOOKUP(H26,VendorResponseLookupTbl[], 2,0), \"\")","v":" The product cannot meet the requirement “Out-of-the-Box”, “With Configuration”, “With Custom Programming” or with a “Future Release”."}]
["2.A.05",{"$f":"B26","v":"Mobile Application User Interface"},{"$f":"C26","v":"Functional"},"Configuring Mobile Displays\nShould Haves","Should Have","Please list your solution's ability for users to configure the following features of their own mobile displays:\n\na) Day/night mode\nb) Audible alerts",null,"Cannot Meet",{"$f":"IFERROR(VLOOKUP(H27,VendorResponseLookupTbl[], 2,0), \"\")","v":" The product cannot meet the requirement “Out-of-the-Box”, “With Configuration”, “With Custom Programming” or with a “Future Release”."}]
["2.A.06","Mobile Application User Interface","Functional","Configuring Mobile Displays\nCould Haves","Could Have","Please list your solution's ability for users to configure the following features of their own mobile displays:\n\na) Font color\nb) Font size\nc) Window size\nd) Window locations\ne) Location of fields on the screen",null,"Cannot Meet",{"$f":"IFERROR(VLOOKUP(H28,VendorResponseLookupTbl[], 2,0), \"\")","v":" The product cannot meet the requirement “Out-of-the-Box”, “With Configuration”, “With Custom Programming” or with a “Future Release”."}]
["2.A.07",{"$f":"B28","v":"Mobile Application User Interface"},{"$f":"C28","v":"Functional"},"Color Blindness","Should Have","Please list your solution's ability to for default colors to be \"color-blind friendly.\"",null,"Cannot Meet",{"$f":"IFERROR(VLOOKUP(H29,VendorResponseLookupTbl[], 2,0), \"\")","v":" The product cannot meet the requirement “Out-of-the-Box”, “With Configuration”, “With Custom Programming” or with a “Future Release”."}]
["2.A.08","Mobile Application User Interface","Functional","Storing a User Profile","Should Have","Please list your solution's ability to  store a user profile for automatic mobile display configuration upon application logon.",null,"Cannot Meet",{"$f":"IFERROR(VLOOKUP(H30,VendorResponseLookupTbl[], 2,0), \"\")","v":" The product cannot meet the requirement “Out-of-the-Box”, “With Configuration”, “With Custom Programming” or with a “Future Release”."}]
["2.A.09","Mobile Application User Interface","Functional","Default Settings","Should Have","Please list your solution's ability to allow users to return to application default settings.",null,"Cannot Meet",{"$f":"IFERROR(VLOOKUP(H31,VendorResponseLookupTbl[], 2,0), \"\")","v":" The product cannot meet the requirement “Out-of-the-Box”, “With Configuration”, “With Custom Programming” or with a “Future Release”."}]
["2.A.10","Mobile Application User Interface","Functional","Real-time Updates","Must Have","Please list your solution's ability  for dispatch data to be updated in real-time without user intervention.",null,"Cannot Meet",{"$f":"IFERROR(VLOOKUP(H32,VendorResponseLookupTbl[], 2,0), \"\")","v":" The product cannot meet the requirement “Out-of-the-Box”, “With Configuration”, “With Custom Programming” or with a “Future Release”."}]
["2.A.11","Mobile Application User Interface","Functional","Opening Events","Should Have","Please list your solution's ability to  determine the type of information that triggers an automatic refresh to open events when new information is available by:\n\na) The change of any field that is defined in the system and visible on the mobile client.\nb) The addition of a comment into the narrative field by another user.",null,"Cannot Meet",{"$f":"IFERROR(VLOOKUP(H33,VendorResponseLookupTbl[], 2,0), \"\")","v":" The product cannot meet the requirement “Out-of-the-Box”, “With Configuration”, “With Custom Programming” or with a “Future Release”."}]
["2.A.12","Mobile Application User Interface","Functional","Configuring Intervals","Should Have","Please list your solution's ability to configure the interval between refreshes.",null,"Cannot Meet",{"$f":"IFERROR(VLOOKUP(H34,VendorResponseLookupTbl[], 2,0), \"\")","v":" The product cannot meet the requirement “Out-of-the-Box”, “With Configuration”, “With Custom Programming” or with a “Future Release”."}]
["2.A.13","Mobile Application User Interface","Functional","Updating Dispatch Information","Must Have","Please list your solution's ability to receive updated dispatch information without interrupting or overlaying the current screen.",null,"Cannot Meet",{"$f":"IFERROR(VLOOKUP(H35,VendorResponseLookupTbl[], 2,0), \"\")","v":" The product cannot meet the requirement “Out-of-the-Box”, “With Configuration”, “With Custom Programming” or with a “Future Release”."}]
["2.A.14","Mobile Application User Interface","Functional","Visual Distinction","Should Have","Please list your solution's ability for new information to be visually distinct from information previously reviewed by mobile user.",null,"Cannot Meet",{"$f":"IFERROR(VLOOKUP(H36,VendorResponseLookupTbl[], 2,0), \"\")","v":" The product cannot meet the requirement “Out-of-the-Box”, “With Configuration”, “With Custom Programming” or with a “Future Release”."}]
["2.A.15","Mobile Application User Interface","Functional","Color Coding","Should Have","Please list your solution's ability to color code information by the source of the information.",null,"Cannot Meet",{"$f":"IFERROR(VLOOKUP(H37,VendorResponseLookupTbl[], 2,0), \"\")","v":" The product cannot meet the requirement “Out-of-the-Box”, “With Configuration”, “With Custom Programming” or with a “Future Release”."}]
["2.A.16","Mobile Application User Interface","Functional","Pinning Events","Should Have","Please list your solution's ability to \"pin\" an incoming event update so that it remains on the screen.\"",null,"Cannot Meet",{"$f":"IFERROR(VLOOKUP(H38,VendorResponseLookupTbl[], 2,0), \"\")","v":" The product cannot meet the requirement “Out-of-the-Box”, “With Configuration”, “With Custom Programming” or with a “Future Release”."}]
["2.A.17","Mobile Application User Interface","Functional","User Configuration\nType of Alerts","Should Have","Please list your solution's ability for users to configure the following types of alerts when new information is available:\n\na) Visual\nb) Audible ",null,"Cannot Meet",{"$f":"IFERROR(VLOOKUP(H39,VendorResponseLookupTbl[], 2,0), \"\")","v":" The product cannot meet the requirement “Out-of-the-Box”, “With Configuration”, “With Custom Programming” or with a “Future Release”."}]
["2.A.18","Mobile Application User Interface","Functional","Alert Enabling/Disabling","Should Have","Please list your solution's ability to designate what audible and/or visual alerts can be enabled or disabled by the user on the mobile client.",null,"Cannot Meet",{"$f":"IFERROR(VLOOKUP(H40,VendorResponseLookupTbl[], 2,0), \"\")","v":" The product cannot meet the requirement “Out-of-the-Box”, “With Configuration”, “With Custom Programming” or with a “Future Release”."}]
["2.A.19","Mobile Application User Interface","Functional","Day/Night Modes","Must Have","Please list your solution's ability to provide a day/night mode for use under different lighting conditions.",null,"Cannot Meet",{"$f":"IFERROR(VLOOKUP(H41,VendorResponseLookupTbl[], 2,0), \"\")","v":" The product cannot meet the requirement “Out-of-the-Box”, “With Configuration”, “With Custom Programming” or with a “Future Release”."}]
["2.A.20","Mobile Application User Interface","Functional","On-Screen Buttons","Must Have","Please list your solution's ability to create on screen buttons for frequently used functions uniquely configurable by discipline (e.g., on scene, clear, AOR).",null,"Cannot Meet",{"$f":"IFERROR(VLOOKUP(H42,VendorResponseLookupTbl[], 2,0), \"\")","v":" The product cannot meet the requirement “Out-of-the-Box”, “With Configuration”, “With Custom Programming” or with a “Future Release”."}]
["2.A.21","Mobile Application User Interface","Functional","Mapping Buttons","Should Have","Please list your solution's ability to map an on screen button to a function key.",null,"Cannot Meet",{"$f":"IFERROR(VLOOKUP(H43,VendorResponseLookupTbl[], 2,0), \"\")","v":" The product cannot meet the requirement “Out-of-the-Box”, “With Configuration”, “With Custom Programming” or with a “Future Release”."}]
["2.A.22","Mobile Application User Interface","Functional","Emergency Button","Must Have","Please list your solution's ability to configure the emergency button so that it requires a double tap to activate.",null,"Cannot Meet",{"$f":"IFERROR(VLOOKUP(H44,VendorResponseLookupTbl[], 2,0), \"\")","v":" The product cannot meet the requirement “Out-of-the-Box”, “With Configuration”, “With Custom Programming” or with a “Future Release”."}]
["2.A.23","Mobile Application User Interface","Functional","Configuration by Discipline","Must Have","Please list your solution's ability to differ the screen configuration by discipline.",null,"Cannot Meet",{"$f":"IFERROR(VLOOKUP(H45,VendorResponseLookupTbl[], 2,0), \"\")","v":" The product cannot meet the requirement “Out-of-the-Box”, “With Configuration”, “With Custom Programming” or with a “Future Release”."}]
["2.A.24",{"$f":"B45","v":"Mobile Application User Interface"},{"$f":"C45","v":"Functional"},"Filtering Calls","Must Have","Please list your solution's ability for users to filter a list of calls for service by:\n\na) Pending/Not Pending\nb) Geographic area\nc) District",null,"Cannot Meet",{"$f":"IFERROR(VLOOKUP(H46,VendorResponseLookupTbl[], 2,0), \"\")","v":" The product cannot meet the requirement “Out-of-the-Box”, “With Configuration”, “With Custom Programming” or with a “Future Release”."}]
["2.A.25","Mobile Application User Interface","Functional","Multiple Form Factors","Must Have","Please list your solution's ability to adapt to multiple form factors:\n\na) Laptops\nb) Tablets (iOS, Android, Windows)\nc) Smartphones (iOS, Android)",null,"Cannot Meet",{"$f":"IFERROR(VLOOKUP(H47,VendorResponseLookupTbl[], 2,0), \"\")","v":" The product cannot meet the requirement “Out-of-the-Box”, “With Configuration”, “With Custom Programming” or with a “Future Release”."}]
["2.A.26","Mobile Application User Interface","Functional","Most Current Event\nConfiguration","Should Have","Please list your solution's ability  for the user to configure the order of the display of most current event history data (e.g., newest-to-oldest, oldest-to-newest). ",null,"Cannot Meet",{"$f":"IFERROR(VLOOKUP(H48,VendorResponseLookupTbl[], 2,0), \"\")","v":" The product cannot meet the requirement “Out-of-the-Box”, “With Configuration”, “With Custom Programming” or with a “Future Release”."}]
["3.A","Mobile Logon/Logoff"]
["3.A.00",{"$f":"B49","v":"Mobile Logon/Logoff"}]
["3.A.01",{"$f":"B50","v":"Mobile Logon/Logoff"},"Functional","SSO","Should Have","Please list your solution's ability to provide a single sign-on for mobile and integrated sub-systems/interfaces.",null,"Cannot Meet",{"$f":"IFERROR(VLOOKUP(H51,VendorResponseLookupTbl[], 2,0), \"\")","v":" The product cannot meet the requirement “Out-of-the-Box”, “With Configuration”, “With Custom Programming” or with a “Future Release”."}]
["3.A.02",{"$f":"B51","v":"Mobile Logon/Logoff"},{"$f":"C51","v":"Functional"},"Active Directory","Should Have","Please list your solution's ability to sign on to mobile using credentials supplied by Microsoft Active Directory.",null,"Cannot Meet",{"$f":"IFERROR(VLOOKUP(H52,VendorResponseLookupTbl[], 2,0), \"\")","v":" The product cannot meet the requirement “Out-of-the-Box”, “With Configuration”, “With Custom Programming” or with a “Future Release”."}]
["3.A.03",{"$f":"B52","v":"Mobile Logon/Logoff"},{"$f":"C52","v":"Functional"},"Single Log-in","Should Have","Please list your solution's ability to sign into CAD/Mobile and the RMS with one logon.",null,"Cannot Meet",{"$f":"IFERROR(VLOOKUP(H53,VendorResponseLookupTbl[], 2,0), \"\")","v":" The product cannot meet the requirement “Out-of-the-Box”, “With Configuration”, “With Custom Programming” or with a “Future Release”."}]
["3.A.04","Mobile Logon/Logoff","Functional","Multiple Device Log-ins","Should Have","Please list your solution's ability to be logged into multiple devices (e.g., tablet and phone) at the same time.",null,"Cannot Meet",{"$f":"IFERROR(VLOOKUP(H54,VendorResponseLookupTbl[], 2,0), \"\")","v":" The product cannot meet the requirement “Out-of-the-Box”, “With Configuration”, “With Custom Programming” or with a “Future Release”."}]
["3.A.05","Mobile Logon/Logoff","Functional","3rd Party IdM","Should Have","Please list your solution's ability to support third-party Identity Management Solutions.",null,"Cannot Meet",{"$f":"IFERROR(VLOOKUP(H55,VendorResponseLookupTbl[], 2,0), \"\")","v":" The product cannot meet the requirement “Out-of-the-Box”, “With Configuration”, “With Custom Programming” or with a “Future Release”."}]
["3.A.06","Mobile Logon/Logoff","Functional","CJIS Requirements","Must Have","Please list your solution's ability to enforce passwords per CJIS requirements.",null,"Cannot Meet",{"$f":"IFERROR(VLOOKUP(H56,VendorResponseLookupTbl[], 2,0), \"\")","v":" The product cannot meet the requirement “Out-of-the-Box”, “With Configuration”, “With Custom Programming” or with a “Future Release”."}]
["3.A.07","Mobile Logon/Logoff","Functional","User ID and Password","Must Have","Please list your solution's ability to  require both user identification and password to logon.",null,"Cannot Meet",{"$f":"IFERROR(VLOOKUP(H57,VendorResponseLookupTbl[], 2,0), \"\")","v":" The product cannot meet the requirement “Out-of-the-Box”, “With Configuration”, “With Custom Programming” or with a “Future Release”."}]
["3.A.08","Mobile Logon/Logoff","Functional","MFA","Must Have","Please list your solution's ability to  support Multi-Factor Authentication.",null,"Cannot Meet",{"$f":"IFERROR(VLOOKUP(H58,VendorResponseLookupTbl[], 2,0), \"\")","v":" The product cannot meet the requirement “Out-of-the-Box”, “With Configuration”, “With Custom Programming” or with a “Future Release”."}]
["3.A.09","Mobile Logon/Logoff","Functional","Logons\nMust Haves","Must Have","Please list your solution's ability to require any combination of the following information to logon to CAD/mobile system:\n\na) Password\nb) Unit ID\nc) User ID\nd) Area assigned to for shift",null,"Cannot Meet",{"$f":"IFERROR(VLOOKUP(H59,VendorResponseLookupTbl[], 2,0), \"\")","v":" The product cannot meet the requirement “Out-of-the-Box”, “With Configuration”, “With Custom Programming” or with a “Future Release”."}]
["3.A.10","Mobile Logon/Logoff","Functional","Logons\nShould Haves","Should Have","Please list your solution's ability to require any combination of the following information to logon to CAD/mobile system:\n\na) Equipment\nb) Radio ID(s)\nc) Status (e.g., in service, out-of-service)\nd)Special skill/capabilities\ne) Department defined criteria",null,"Cannot Meet",{"$f":"IFERROR(VLOOKUP(H60,VendorResponseLookupTbl[], 2,0), \"\")","v":" The product cannot meet the requirement “Out-of-the-Box”, “With Configuration”, “With Custom Programming” or with a “Future Release”."}]
["3.A.11",{"$f":"B60","v":"Mobile Logon/Logoff"},{"$f":"C60","v":"Functional"},"Locking Mobile Devices","Must Have","Please list your solution's ability  to lock mobile device when leaving vehicle.",null,"Cannot Meet",{"$f":"IFERROR(VLOOKUP(H61,VendorResponseLookupTbl[], 2,0), \"\")","v":" The product cannot meet the requirement “Out-of-the-Box”, “With Configuration”, “With Custom Programming” or with a “Future Release”."}]
["3.A.12","Mobile Logon/Logoff","Functional","Switching Assignments","Should Have","Please list your solution's ability to switch assignment area without logging out and relogging in.",null,"Cannot Meet",{"$f":"IFERROR(VLOOKUP(H62,VendorResponseLookupTbl[], 2,0), \"\")","v":" The product cannot meet the requirement “Out-of-the-Box”, “With Configuration”, “With Custom Programming” or with a “Future Release”."}]
["3.A.13",{"$f":"B62","v":"Mobile Logon/Logoff"},{"$f":"C62","v":"Functional"},"Auto-Logging Off","Should Have","Please list your solution's ability to automatically log off users after an agency-defined period of time.",null,"Cannot Meet",{"$f":"IFERROR(VLOOKUP(H63,VendorResponseLookupTbl[], 2,0), \"\")","v":" The product cannot meet the requirement “Out-of-the-Box”, “With Configuration”, “With Custom Programming” or with a “Future Release”."}]
["3.A.14","Mobile Logon/Logoff","Functional","Logon Fields","Must Have","Please list your solution's ability to  define mandatory logon fields for personnel.",null,"Cannot Meet",{"$f":"IFERROR(VLOOKUP(H64,VendorResponseLookupTbl[], 2,0), \"\")","v":" The product cannot meet the requirement “Out-of-the-Box”, “With Configuration”, “With Custom Programming” or with a “Future Release”."}]
["3.A.15","Mobile Logon/Logoff","Functional","Differing Logon Fields","Should Have","Please list your solution's ability for logon fields to differ by discipline.",null,"Cannot Meet",{"$f":"IFERROR(VLOOKUP(H65,VendorResponseLookupTbl[], 2,0), \"\")","v":" The product cannot meet the requirement “Out-of-the-Box”, “With Configuration”, “With Custom Programming” or with a “Future Release”."}]
["3.A.16","Mobile Logon/Logoff","Functional","Logons for Multiple Individuals","Must Have","Please list your solution's ability to  logon multiple individuals per unit.",null,"Cannot Meet",{"$f":"IFERROR(VLOOKUP(H66,VendorResponseLookupTbl[], 2,0), \"\")","v":" The product cannot meet the requirement “Out-of-the-Box”, “With Configuration”, “With Custom Programming” or with a “Future Release”."}]
["3.A.17","Mobile Logon/Logoff","Functional","Non-scheduled Log-ons","Should Have","Please list your solution's ability  for a mobile user to log on without being scheduled to work the current shift. ",null,"Cannot Meet",{"$f":"IFERROR(VLOOKUP(H67,VendorResponseLookupTbl[], 2,0), \"\")","v":" The product cannot meet the requirement “Out-of-the-Box”, “With Configuration”, “With Custom Programming” or with a “Future Release”."}]
["3.A.18","Mobile Logon/Logoff","Functional","Inactivity","Should Have","Please list your solution's ability for to set the time the mobile application can remain inactive before automatically logging out the user.",null,"Cannot Meet",{"$f":"IFERROR(VLOOKUP(H68,VendorResponseLookupTbl[], 2,0), \"\")","v":" The product cannot meet the requirement “Out-of-the-Box”, “With Configuration”, “With Custom Programming” or with a “Future Release”."}]
["3.A.19","Mobile Logon/Logoff","Functional","Never Logged Out","Must Have","Please list your solution's ability to prevent specific mobile units from ever being logged out automatically (e.g., fire apparatus).",null,"Cannot Meet",{"$f":"IFERROR(VLOOKUP(H69,VendorResponseLookupTbl[], 2,0), \"\")","v":" The product cannot meet the requirement “Out-of-the-Box”, “With Configuration”, “With Custom Programming” or with a “Future Release”."}]
["3.A.20","Mobile Logon/Logoff","Functional","Data Clearing","Must Have","Please list your solution's ability to clear all sensitive data from mobile upon user log off. ",null,"Cannot Meet",{"$f":"IFERROR(VLOOKUP(H70,VendorResponseLookupTbl[], 2,0), \"\")","v":" The product cannot meet the requirement “Out-of-the-Box”, “With Configuration”, “With Custom Programming” or with a “Future Release”."}]
["3.A.21","Mobile Logon/Logoff","Functional","Mobile Client\nLog-in","Should Have","Please list your solution's ability to log a user onto a mobile client from the CAD dispatch client.",null,"Cannot Meet",{"$f":"IFERROR(VLOOKUP(H71,VendorResponseLookupTbl[], 2,0), \"\")","v":" The product cannot meet the requirement “Out-of-the-Box”, “With Configuration”, “With Custom Programming” or with a “Future Release”."}]
["3.A.22","Mobile Logon/Logoff","Functional","Mobile Client\nLog-out","Must Have","Please list your solution's ability to log off a mobile client from the CAD dispatch client.",null,"Cannot Meet",{"$f":"IFERROR(VLOOKUP(H72,VendorResponseLookupTbl[], 2,0), \"\")","v":" The product cannot meet the requirement “Out-of-the-Box”, “With Configuration”, “With Custom Programming” or with a “Future Release”."}]
["4.A","Dispatches"]
["4.A.00",{"$f":"B73","v":"Dispatches"}]
["4.A.01",{"$f":"B74","v":"Dispatches"},"Functional","Receiving Dispatches","Must Have","Please list your solution's ability to receive dispatches on the mobile application.",null,"Cannot Meet",{"$f":"IFERROR(VLOOKUP(H75,VendorResponseLookupTbl[], 2,0), \"\")","v":" The product cannot meet the requirement “Out-of-the-Box”, “With Configuration”, “With Custom Programming” or with a “Future Release”."}]
["4.A.02",{"$f":"B75","v":"Dispatches"},{"$f":"C75","v":"Functional"},"Device Functionality","Must Have","Please list your solution's ability for field personnel to receive dispatches and updated dispatch information simultaneously on all mobile telecommunications devices they are logged into, including, but not limited to:\n\na) Mobile computers\nb) Smart phones\nc) Tablets",null,"Cannot Meet",{"$f":"IFERROR(VLOOKUP(H76,VendorResponseLookupTbl[], 2,0), \"\")","v":" The product cannot meet the requirement “Out-of-the-Box”, “With Configuration”, “With Custom Programming” or with a “Future Release”."}]
["4.A.03",{"$f":"B76","v":"Dispatches"},"Functional","Automatic Opening","Must Have","Please list your solution's ability  for dispatches to open automatically on mobile devices.",null,"Cannot Meet",{"$f":"IFERROR(VLOOKUP(H77,VendorResponseLookupTbl[], 2,0), \"\")","v":" The product cannot meet the requirement “Out-of-the-Box”, “With Configuration”, “With Custom Programming” or with a “Future Release”."}]
["4.A.04",{"$f":"B77","v":"Dispatches"},"Functional","New Dispatch Alerts","Must Have","Please list your solution's ability to alert mobile users that a new dispatch has arrived:\n\na) Audible alert\nb) Visual alert",null,"Cannot Meet",{"$f":"IFERROR(VLOOKUP(H78,VendorResponseLookupTbl[], 2,0), \"\")","v":" The product cannot meet the requirement “Out-of-the-Box”, “With Configuration”, “With Custom Programming” or with a “Future Release”."}]
["4.A.05",{"$f":"B78","v":"Dispatches"},"Functional","Distinguishable Alerts","Must Have","Please list your solution's ability to  provide a distinguishable alert for high priority events:\n\na) Audible alert\nb) Visual alert",null,"Cannot Meet",{"$f":"IFERROR(VLOOKUP(H79,VendorResponseLookupTbl[], 2,0), \"\")","v":" The product cannot meet the requirement “Out-of-the-Box”, “With Configuration”, “With Custom Programming” or with a “Future Release”."}]
["4.A.06",{"$f":"B79","v":"Dispatches"},"Functional","Configuring Alerts","Must Have","Please list your solution's ability to configure alerts to be visible or audible, depending on the priority of the event.",null,"Cannot Meet",{"$f":"IFERROR(VLOOKUP(H80,VendorResponseLookupTbl[], 2,0), \"\")","v":" The product cannot meet the requirement “Out-of-the-Box”, “With Configuration”, “With Custom Programming” or with a “Future Release”."}]
["4.A.07",{"$f":"B80","v":"Dispatches"},"Functional","Comment Accessibility","Should Have","Please list your solution's ability to access and read all  comments associated with an event, regardless of assignment.",null,"Cannot Meet",{"$f":"IFERROR(VLOOKUP(H81,VendorResponseLookupTbl[], 2,0), \"\")","v":" The product cannot meet the requirement “Out-of-the-Box”, “With Configuration”, “With Custom Programming” or with a “Future Release”."}]
["4.A.08",{"$f":"B81","v":"Dispatches"},"Functional","Information Display\nMust Haves","Must Have","Please list your solution's ability to display the following information in distinct fields or tabs (as opposed to in the event narrative) upon receipt of dispatch:\n\na) Assisting unit(s)\nb) Case number\nc) Comments/narrative (unlimited)\nd) Date and time event entered\ne) Event location\nf) Event number\ng) Event type\nh) Previous history for dispatched location\ni) Reporting party information\nj) Subject information\nk) Suspect information\nl) Premise information\nm) Recommended route",null,"Cannot Meet",{"$f":"IFERROR(VLOOKUP(H82,VendorResponseLookupTbl[], 2,0), \"\")","v":" The product cannot meet the requirement “Out-of-the-Box”, “With Configuration”, “With Custom Programming” or with a “Future Release”."}]
["4.A.09",{"$f":"B82","v":"Dispatches"},"Functional","Information Display\nShould Haves","Should Have","Please list your solution's ability to display the following information in distinct fields or tabs (as opposed to in the event narrative) upon receipt of dispatch:\n\na) Alternate dispatch location (e.g., staging)\nb) Event priority\nc) Pre-plan information\nd) Event talk groups",null,"Cannot Meet",{"$f":"IFERROR(VLOOKUP(H83,VendorResponseLookupTbl[], 2,0), \"\")","v":" The product cannot meet the requirement “Out-of-the-Box”, “With Configuration”, “With Custom Programming” or with a “Future Release”."}]
["4.A.10",{"$f":"B83","v":"Dispatches"},"Functional","Previous Calls for Service","Must Have","Please list your solution's ability to see call details associated with previous calls for service.",null,"Cannot Meet",{"$f":"IFERROR(VLOOKUP(H84,VendorResponseLookupTbl[], 2,0), \"\")","v":" The product cannot meet the requirement “Out-of-the-Box”, “With Configuration”, “With Custom Programming” or with a “Future Release”."}]
["4.A.11",{"$f":"B84","v":"Dispatches"},"Functional","Location Information","Must Have","Please list your solution's ability to  alert user of availability of information associated with a location (e.g., gate codes, Knox Box, hazards, premise history, pre-plans).",null,"Cannot Meet",{"$f":"IFERROR(VLOOKUP(H85,VendorResponseLookupTbl[], 2,0), \"\")","v":" The product cannot meet the requirement “Out-of-the-Box”, “With Configuration”, “With Custom Programming” or with a “Future Release”."}]
["4.A.12",{"$f":"B85","v":"Dispatches"},"Functional","Event Information","Must Have","Please list your solution's ability to  indicate type of information that is attached to an event (e.g., gate code, hazard) so that user can decide whether or not to retrieve the information.",null,"Cannot Meet",{"$f":"IFERROR(VLOOKUP(H86,VendorResponseLookupTbl[], 2,0), \"\")","v":" The product cannot meet the requirement “Out-of-the-Box”, “With Configuration”, “With Custom Programming” or with a “Future Release”."}]
["4.A.13",{"$f":"B86","v":"Dispatches"},"Functional","Display Options","Should Have","Please list your solution's ability  for field units to have the option of pulling up or not pulling up information attached to the event.",null,"Cannot Meet",{"$f":"IFERROR(VLOOKUP(H87,VendorResponseLookupTbl[], 2,0), \"\")","v":" The product cannot meet the requirement “Out-of-the-Box”, “With Configuration”, “With Custom Programming” or with a “Future Release”."}]
["4.A.14",{"$f":"B87","v":"Dispatches"},"Functional","Drill Downs","Should Have","Please list your solution's ability to drill down in premise history to open links to a complete set of all events, persons, vehicles, etc. associated with the location.",null,"Cannot Meet",{"$f":"IFERROR(VLOOKUP(H88,VendorResponseLookupTbl[], 2,0), \"\")","v":" The product cannot meet the requirement “Out-of-the-Box”, “With Configuration”, “With Custom Programming” or with a “Future Release”."}]
["5.A","Unit Status"]
["5.A.00",{"$f":"B89","v":"Unit Status"}]
["5.A.01",{"$f":"B90","v":"Unit Status"},"Functional","Updating Unit Status","Must Have","Please list your solution's ability to update unit status using function or hot keys.",null,"Cannot Meet",{"$f":"IFERROR(VLOOKUP(H91,VendorResponseLookupTbl[], 2,0), \"\")","v":" The product cannot meet the requirement “Out-of-the-Box”, “With Configuration”, “With Custom Programming” or with a “Future Release”."}]
["5.A.02",{"$f":"B91","v":"Unit Status"},{"$f":"C91","v":"Functional"},"Agency-Defined Status","Must Have","Please list your solution's ability for customer to define unit statuses.",null,"Cannot Meet",{"$f":"IFERROR(VLOOKUP(H92,VendorResponseLookupTbl[], 2,0), \"\")","v":" The product cannot meet the requirement “Out-of-the-Box”, “With Configuration”, “With Custom Programming” or with a “Future Release”."}]
["5.A.03",{"$f":"B92","v":"Unit Status"},{"$f":"C92","v":"Functional"},"Agency-Defined Function Keys","Must Have","Please list your solution's ability for customer to determine which function keys update which unit statuses.",null,"Cannot Meet",{"$f":"IFERROR(VLOOKUP(H93,VendorResponseLookupTbl[], 2,0), \"\")","v":" The product cannot meet the requirement “Out-of-the-Box”, “With Configuration”, “With Custom Programming” or with a “Future Release”."}]
["5.A.04",{"$f":"B93","v":"Unit Status"},{"$f":"C93","v":"Functional"},"Automatic Status Changes","Should Have","Please list your solution's ability to create criteria for automated status changes (on scene, in service, in quarters, etc.) based on AVL.",null,"Cannot Meet",{"$f":"IFERROR(VLOOKUP(H94,VendorResponseLookupTbl[], 2,0), \"\")","v":" The product cannot meet the requirement “Out-of-the-Box”, “With Configuration”, “With Custom Programming” or with a “Future Release”."}]
["5.A.05","Unit Status","Functional","Mask Generation","Should Have","Please list your solution's ability to generate a mask with fields to gather additional information required when using hot keys to update unit statuses requiring more information (e.g., a location update).",null,"Cannot Meet",{"$f":"IFERROR(VLOOKUP(H95,VendorResponseLookupTbl[], 2,0), \"\")","v":" The product cannot meet the requirement “Out-of-the-Box”, “With Configuration”, “With Custom Programming” or with a “Future Release”."}]
["5.A.06","Unit Status","Functional","Units Displayed","Must Have","Please list your solution's ability to retrieve a list of units in a user-indicated geographical area and display:\n\na) Unit ID\nb) Location (last known if no AVL)\nc) Unit status",null,"Cannot Meet",{"$f":"IFERROR(VLOOKUP(H96,VendorResponseLookupTbl[], 2,0), \"\")","v":" The product cannot meet the requirement “Out-of-the-Box”, “With Configuration”, “With Custom Programming” or with a “Future Release”."}]
["5.A.07","Unit Status","Functional","Secondary Units","Should Have","Please list your solution's ability to see secondary unit locations in the mobile environment.",null,"Cannot Meet",{"$f":"IFERROR(VLOOKUP(H97,VendorResponseLookupTbl[], 2,0), \"\")","v":" The product cannot meet the requirement “Out-of-the-Box”, “With Configuration”, “With Custom Programming” or with a “Future Release”."}]
["6.A","Event Management"]
["6.A.00","Event Management"]
["6.A.01",{"$f":"B99","v":"Event Management"},"Functional","Adding Information","Must Have","Please list your solution's ability for a mobile user to add information to an event.",null,"Cannot Meet",{"$f":"IFERROR(VLOOKUP(H100,VendorResponseLookupTbl[], 2,0), \"\")","v":" The product cannot meet the requirement “Out-of-the-Box”, “With Configuration”, “With Custom Programming” or with a “Future Release”."}]
["6.A.02",{"$f":"B100","v":"Event Management"},{"$f":"C100","v":"Functional"},"Adding Comments","Should Have","Please list your solution's ability for authorized user to add comments to an event after the event is closed.",null,"Cannot Meet",{"$f":"IFERROR(VLOOKUP(H101,VendorResponseLookupTbl[], 2,0), \"\")","v":" The product cannot meet the requirement “Out-of-the-Box”, “With Configuration”, “With Custom Programming” or with a “Future Release”."}]
["6.A.03",{"$f":"B101","v":"Event Management"},{"$f":"C101","v":"Functional"},"Identifying Units","Must Have","Please list your solution's ability to identify other units assigned to same event.",null,"Cannot Meet",{"$f":"IFERROR(VLOOKUP(H102,VendorResponseLookupTbl[], 2,0), \"\")","v":" The product cannot meet the requirement “Out-of-the-Box”, “With Configuration”, “With Custom Programming” or with a “Future Release”."}]
["6.A.04","Event Management","Functional","Receiving Notifications\nEn Route","Should Have","Please list your solution's ability for all personnel dispatched to an event to receive notification when other personnel are en route.",null,"Cannot Meet",{"$f":"IFERROR(VLOOKUP(H103,VendorResponseLookupTbl[], 2,0), \"\")","v":" The product cannot meet the requirement “Out-of-the-Box”, “With Configuration”, “With Custom Programming” or with a “Future Release”."}]
["6.A.05","Event Management","Functional","Receiving Notifications\nChanges","Should Have","Please list your solution's ability for all personnel dispatched to an event to receive notification of status and location changes of other personnel dispatched to the event.",null,"Cannot Meet",{"$f":"IFERROR(VLOOKUP(H104,VendorResponseLookupTbl[], 2,0), \"\")","v":" The product cannot meet the requirement “Out-of-the-Box”, “With Configuration”, “With Custom Programming” or with a “Future Release”."}]
["6.A.06",{"$f":"B104","v":"Event Management"},{"$f":"C104","v":"Functional"},"Self-Adding\nMust Haves","Must Have","Please list your solution's ability to enable or disable the ability of mobile users to add themselves to an event by:\n\na) Discipline\nb) Unit type\nc) User ID\nd) Role",null,"Cannot Meet",{"$f":"IFERROR(VLOOKUP(H105,VendorResponseLookupTbl[], 2,0), \"\")","v":" The product cannot meet the requirement “Out-of-the-Box”, “With Configuration”, “With Custom Programming” or with a “Future Release”."}]
["6.A.07","Event Management","Functional","Self-Adding\nShould Haves","Should Have","Please list your solution's ability to enable or disable the ability of mobile users to add themselves to an event by:\n\na) Agency\nb) Unit ID\nc) Mobile client ID\nd) Other customer-defined criteria",null,"Cannot Meet",{"$f":"IFERROR(VLOOKUP(H106,VendorResponseLookupTbl[], 2,0), \"\")","v":" The product cannot meet the requirement “Out-of-the-Box”, “With Configuration”, “With Custom Programming” or with a “Future Release”."}]
["6.A.08","Event Management","Functional","Accessing Previous Event","Must Have","Please list your solution's ability to directly access (e.g., hyperlink, drill down) previous event information related to the address of the event.",null,"Cannot Meet",{"$f":"IFERROR(VLOOKUP(H107,VendorResponseLookupTbl[], 2,0), \"\")","v":" The product cannot meet the requirement “Out-of-the-Box”, “With Configuration”, “With Custom Programming” or with a “Future Release”."}]
["6.A.09","Event Management","Functional","Event List Retrieval","Must Have","Please list your solution's ability to retrieve a list of events identified as:\n\na) Dispatched\nb) Pending",null,"Cannot Meet",{"$f":"IFERROR(VLOOKUP(H108,VendorResponseLookupTbl[], 2,0), \"\")","v":" The product cannot meet the requirement “Out-of-the-Box”, “With Configuration”, “With Custom Programming” or with a “Future Release”."}]
["6.A.10","Event Management","Functional","Displaying Retrieval","Must Have","Please list your solution's ability to retrieve a list of events and display:\n\na) Event number and type\nb) Event location\nc) Event public safety geographical area\nd) Assigned units (if dispatched)",null,"Cannot Meet",{"$f":"IFERROR(VLOOKUP(H109,VendorResponseLookupTbl[], 2,0), \"\")","v":" The product cannot meet the requirement “Out-of-the-Box”, “With Configuration”, “With Custom Programming” or with a “Future Release”."}]
["6.A.11","Event Management","Functional","Uploading Files","Should Have","Please list your solution's ability to upload a file (e.g., photo, video, pdf) from the mobile and have it included in the CAD record.",null,"Cannot Meet",{"$f":"IFERROR(VLOOKUP(H110,VendorResponseLookupTbl[], 2,0), \"\")","v":" The product cannot meet the requirement “Out-of-the-Box”, “With Configuration”, “With Custom Programming” or with a “Future Release”."}]
["6.A.12","Event Management","Functional","Data Transmission\nReal-Time","Must Have","Please list your solution's ability to support a real-time data transmission between the CAD system and mobile device.",null,"Cannot Meet",{"$f":"IFERROR(VLOOKUP(H111,VendorResponseLookupTbl[], 2,0), \"\")","v":" The product cannot meet the requirement “Out-of-the-Box”, “With Configuration”, “With Custom Programming” or with a “Future Release”."}]
["6.A.13",{"$f":"B111","v":"Event Management"},{"$f":"C111","v":"Functional"},"Removal of Event Items","Should Have","Please list your solution's ability  for field personnel to remove names or vehicles mistakenly added to an event.",null,"Cannot Meet",{"$f":"IFERROR(VLOOKUP(H112,VendorResponseLookupTbl[], 2,0), \"\")","v":" The product cannot meet the requirement “Out-of-the-Box”, “With Configuration”, “With Custom Programming” or with a “Future Release”."}]
["6.A.14","Event Management","Functional","Report Number","Should Have","Please list your solution's ability for users to pull a report number for an event to which they are assigned.",null,"Cannot Meet",{"$f":"IFERROR(VLOOKUP(H113,VendorResponseLookupTbl[], 2,0), \"\")","v":" The product cannot meet the requirement “Out-of-the-Box”, “With Configuration”, “With Custom Programming” or with a “Future Release”."}]
["6.A.15","Event Management","Functional","Report Access","Should Have","Please list your solution's ability for agency to limit who has permission to pull report numbers.",null,"Cannot Meet",{"$f":"IFERROR(VLOOKUP(H114,VendorResponseLookupTbl[], 2,0), \"\")","v":" The product cannot meet the requirement “Out-of-the-Box”, “With Configuration”, “With Custom Programming” or with a “Future Release”."}]
["7.A","Field-initiated Events"]
["7.A.00","Field-initiated Events"]
["7.A.01",{"$f":"B116","v":"Field-initiated Events"},"Functional","Event Initiation From Field","Must Have","Please list your solution's ability to initiate an event from the mobile, including:\n\na) Call for service\nb) Traffic stop\nc) Subject stop\nd) Administrative activity (e.g., training, field inspections)",null,"Cannot Meet",{"$f":"IFERROR(VLOOKUP(H117,VendorResponseLookupTbl[], 2,0), \"\")","v":" The product cannot meet the requirement “Out-of-the-Box”, “With Configuration”, “With Custom Programming” or with a “Future Release”."}]
["7.A.02",{"$f":"B117","v":"Field-initiated Events"},"Functional","Agency Defined Initiations","Must Have","Please list your solution's ability for agency to determine whether events can be initiated from the mobile device.",null,"Cannot Meet",{"$f":"IFERROR(VLOOKUP(H118,VendorResponseLookupTbl[], 2,0), \"\")","v":" The product cannot meet the requirement “Out-of-the-Box”, “With Configuration”, “With Custom Programming” or with a “Future Release”."}]
["7.A.03",{"$f":"B118","v":"Field-initiated Events"},"Functional","Role Limitations","Must Have","Please list your solution's ability for agency to limit the roles that can initiate events from the mobile device.",null,"Cannot Meet",{"$f":"IFERROR(VLOOKUP(H119,VendorResponseLookupTbl[], 2,0), \"\")","v":" The product cannot meet the requirement “Out-of-the-Box”, “With Configuration”, “With Custom Programming” or with a “Future Release”."}]
["7.A.04","Field-initiated Events","Functional","Selecting Status","Should Have","Please list your solution's ability to select status when creating an event (en route, on scene).",null,"Cannot Meet",{"$f":"IFERROR(VLOOKUP(H120,VendorResponseLookupTbl[], 2,0), \"\")","v":" The product cannot meet the requirement “Out-of-the-Box”, “With Configuration”, “With Custom Programming” or with a “Future Release”."}]
["7.A.05","Field-initiated Events","Functional","Keystroke Initiation","Must Have","Please list your solution's ability to initiate an event with:\n\na) Function key\nb) Quick touch button",null,"Cannot Meet",{"$f":"IFERROR(VLOOKUP(H121,VendorResponseLookupTbl[], 2,0), \"\")","v":" The product cannot meet the requirement “Out-of-the-Box”, “With Configuration”, “With Custom Programming” or with a “Future Release”."}]
["7.A.06","Field-initiated Events","Functional","Self-Assignment","Must Have","Please list your solution's ability for a unit to assign itself to an existing event.",null,"Cannot Meet",{"$f":"IFERROR(VLOOKUP(H122,VendorResponseLookupTbl[], 2,0), \"\")","v":" The product cannot meet the requirement “Out-of-the-Box”, “With Configuration”, “With Custom Programming” or with a “Future Release”."}]
["7.A.07",{"$f":"B122","v":"Field-initiated Events"},"Functional","Self Attachment","Must Have","Please list your solution's ability to allow users to self-attach to a call, based on role and permissions.",null,"Cannot Meet",{"$f":"IFERROR(VLOOKUP(H123,VendorResponseLookupTbl[], 2,0), \"\")","v":" The product cannot meet the requirement “Out-of-the-Box”, “With Configuration”, “With Custom Programming” or with a “Future Release”."}]
["7.A.08","Field-initiated Events","Functional","Initiation of Event\nMust Haves","Must Have","Please list your solution's ability to enable or disable the initiation of events from a mobile device by any combination of: \n\na) Event type\nb) Role",null,"Cannot Meet",{"$f":"IFERROR(VLOOKUP(H124,VendorResponseLookupTbl[], 2,0), \"\")","v":" The product cannot meet the requirement “Out-of-the-Box”, “With Configuration”, “With Custom Programming” or with a “Future Release”."}]
["7.A.09",{"$f":"B124","v":"Field-initiated Events"},"Functional","Initiation of Event\nShould Have","Should Have","Please list your solution's ability to enable or disable the initiation of events from a mobile device by Agency.",null,"Cannot Meet",{"$f":"IFERROR(VLOOKUP(H125,VendorResponseLookupTbl[], 2,0), \"\")","v":" The product cannot meet the requirement “Out-of-the-Box”, “With Configuration”, “With Custom Programming” or with a “Future Release”."}]
["7.A.10","Field-initiated Events","Functional","Initiation of Event\nCould Have","Could Have","Please list your solution's ability to enable or disable the initiation of events from a mobile device by Time of day.",null,"Cannot Meet",{"$f":"IFERROR(VLOOKUP(H126,VendorResponseLookupTbl[], 2,0), \"\")","v":" The product cannot meet the requirement “Out-of-the-Box”, “With Configuration”, “With Custom Programming” or with a “Future Release”."}]
["7.A.11","Field-initiated Events","Functional","Populating Location Information","Must Have","Please list your solution's ability  for location information to populate the location fields in the event upon creating an on-view event, assuming the mobile device is equipped with GPS.",null,"Cannot Meet",{"$f":"IFERROR(VLOOKUP(H127,VendorResponseLookupTbl[], 2,0), \"\")","v":" The product cannot meet the requirement “Out-of-the-Box”, “With Configuration”, “With Custom Programming” or with a “Future Release”."}]
["7.A.12","Field-initiated Events","Functional","Address Validation","Must Have","Please list your solution's ability to validate addresses in for events initiated in the field.",null,"Cannot Meet",{"$f":"IFERROR(VLOOKUP(H128,VendorResponseLookupTbl[], 2,0), \"\")","v":" The product cannot meet the requirement “Out-of-the-Box”, “With Configuration”, “With Custom Programming” or with a “Future Release”."}]
["7.A.13","Field-initiated Events","Functional","Indicating a Valid Address","Should Have","Please list your solution's ability to indicate that an address entered for an event initiated in the field has been validated.",null,"Cannot Meet",{"$f":"IFERROR(VLOOKUP(H129,VendorResponseLookupTbl[], 2,0), \"\")","v":" The product cannot meet the requirement “Out-of-the-Box”, “With Configuration”, “With Custom Programming” or with a “Future Release”."}]
["7.A.14","Field-initiated Events","Functional","Notification to Dispatch","Must Have","Please list your solution's ability to alert a dispatcher that a mobile user has created a self-initiated event.",null,"Cannot Meet",{"$f":"IFERROR(VLOOKUP(H130,VendorResponseLookupTbl[], 2,0), \"\")","v":" The product cannot meet the requirement “Out-of-the-Box”, “With Configuration”, “With Custom Programming” or with a “Future Release”."}]
["7.A.15","Field-initiated Events","Functional","Updates to Dispatch","Must Have","Please list your solution's ability for the controlling dispatcher to see all updates to the field-initiated event.",null,"Cannot Meet",{"$f":"IFERROR(VLOOKUP(H131,VendorResponseLookupTbl[], 2,0), \"\")","v":" The product cannot meet the requirement “Out-of-the-Box”, “With Configuration”, “With Custom Programming” or with a “Future Release”."}]
["7.A.16","Field-initiated Events","Functional","AVL Support","Must Have","Please list your solution's ability to with appropriate supporting mapping/AVL technology, to indicate unit/event location when initiating an event from the field.",null,"Cannot Meet",{"$f":"IFERROR(VLOOKUP(H132,VendorResponseLookupTbl[], 2,0), \"\")","v":" The product cannot meet the requirement “Out-of-the-Box”, “With Configuration”, “With Custom Programming” or with a “Future Release”."}]
["8.A","Demographic Data Collection"]
["8.A.00",{"$f":"B133","v":"Demographic Data Collection"}]
["8.A.01",{"$f":"B134","v":"Demographic Data Collection"},"Functional","Launching Data Collection","Should Have","Please list your solution's ability to launch a screen or form to collect demographic contact information:\n\na) Prior to clearing a call for service\nb) Upon clearing from a call for service",null,"Cannot Meet",{"$f":"IFERROR(VLOOKUP(H135,VendorResponseLookupTbl[], 2,0), \"\")","v":" The product cannot meet the requirement “Out-of-the-Box”, “With Configuration”, “With Custom Programming” or with a “Future Release”."}]
["8.A.02",{"$f":"B135","v":"Demographic Data Collection"},{"$f":"C135","v":"Functional"},"Populating Data Fields","Should Have","Please list your solution's ability to populate demographic data fields from the technology used to scan driver's licenses.",null,"Cannot Meet",{"$f":"IFERROR(VLOOKUP(H136,VendorResponseLookupTbl[], 2,0), \"\")","v":" The product cannot meet the requirement “Out-of-the-Box”, “With Configuration”, “With Custom Programming” or with a “Future Release”."}]
["8.A.03",{"$f":"B136","v":"Demographic Data Collection"},{"$f":"C136","v":"Functional"},"Auto-Populating Screen","Should Have","Please list your solution's ability for the system to auto-populate the demographic contact screen with the incident number, date, time and primary officer assigned to the call.",null,"Cannot Meet",{"$f":"IFERROR(VLOOKUP(H137,VendorResponseLookupTbl[], 2,0), \"\")","v":" The product cannot meet the requirement “Out-of-the-Box”, “With Configuration”, “With Custom Programming” or with a “Future Release”."}]
["8.A.04","Demographic Data Collection","Functional","Suspending Completion","Should Have","Please list your solution's ability to suspend the screen or form for completion at a later time.",null,"Cannot Meet",{"$f":"IFERROR(VLOOKUP(H138,VendorResponseLookupTbl[], 2,0), \"\")","v":" The product cannot meet the requirement “Out-of-the-Box”, “With Configuration”, “With Custom Programming” or with a “Future Release”."}]
["8.A.05","Demographic Data Collection","Functional","State of Colorado Requirements","Should Have","Please list your solution's ability to provide fields to collect data in compliance with CO state requirements for demographic data collection.",null,"Cannot Meet",{"$f":"IFERROR(VLOOKUP(H139,VendorResponseLookupTbl[], 2,0), \"\")","v":" The product cannot meet the requirement “Out-of-the-Box”, “With Configuration”, “With Custom Programming” or with a “Future Release”."}]
["8.A.06","Demographic Data Collection","Functional","Reporting No Data Collection","Should Have","Please list your solution's ability to run a report to identify incidents for which no contact data was reported.",null,"Cannot Meet",{"$f":"IFERROR(VLOOKUP(H140,VendorResponseLookupTbl[], 2,0), \"\")","v":" The product cannot meet the requirement “Out-of-the-Box”, “With Configuration”, “With Custom Programming” or with a “Future Release”."}]
["8.A.07","Demographic Data Collection","Functional","Submitting Data to the State of Colorado","Should Have","Please list your solution's ability to submit contact data to the State of Colorado Division of Criminal Justice in compliance with the Colorado Law Enforcement Integrity Act.",null,"Cannot Meet",{"$f":"IFERROR(VLOOKUP(H141,VendorResponseLookupTbl[], 2,0), \"\")","v":" The product cannot meet the requirement “Out-of-the-Box”, “With Configuration”, “With Custom Programming” or with a “Future Release”."}]
["9.A","Call Disposition"]
["9.A.00",{"$f":"B142","v":"Call Disposition"}]
["9.A.01",{"$f":"B143","v":"Call Disposition"},"Functional","Entry for an Event","Must Have","Please list your solution's ability for users to enter a disposition for an event to which they are assigned.",null,"Cannot Meet",{"$f":"IFERROR(VLOOKUP(H144,VendorResponseLookupTbl[], 2,0), \"\")","v":" The product cannot meet the requirement “Out-of-the-Box”, “With Configuration”, “With Custom Programming” or with a “Future Release”."}]
["9.A.02",{"$f":"B144","v":"Call Disposition"},{"$f":"C144","v":"Functional"},"Drop-Down Menu","Must Have","Please list your solution's ability to provide a drop down menu for event dispositions.",null,"Cannot Meet",{"$f":"IFERROR(VLOOKUP(H145,VendorResponseLookupTbl[], 2,0), \"\")","v":" The product cannot meet the requirement “Out-of-the-Box”, “With Configuration”, “With Custom Programming” or with a “Future Release”."}]
["9.A.03",{"$f":"B145","v":"Call Disposition"},{"$f":"C145","v":"Functional"},"Adding Comments","Must Have","Please list your solution's ability for users to add comments to an event when they enter a disposition.",null,"Cannot Meet",{"$f":"IFERROR(VLOOKUP(H146,VendorResponseLookupTbl[], 2,0), \"\")","v":" The product cannot meet the requirement “Out-of-the-Box”, “With Configuration”, “With Custom Programming” or with a “Future Release”."}]
["9.A.04","Call Disposition","Functional","Clearing From An Event","Must Have","Please list your solution's ability to field personnel to clear from an event in the mobile application.",null,"Cannot Meet",{"$f":"IFERROR(VLOOKUP(H147,VendorResponseLookupTbl[], 2,0), \"\")","v":" The product cannot meet the requirement “Out-of-the-Box”, “With Configuration”, “With Custom Programming” or with a “Future Release”."}]
["9.A.05","Call Disposition","Functional","Mobile User Entry","Must Have","Please list your solution's ability to require a mobile user to enter a disposition if clearing from an event with no other assigned units.",null,"Cannot Meet",{"$f":"IFERROR(VLOOKUP(H148,VendorResponseLookupTbl[], 2,0), \"\")","v":" The product cannot meet the requirement “Out-of-the-Box”, “With Configuration”, “With Custom Programming” or with a “Future Release”."}]
["9.A.06","Call Disposition","Functional","Notification of Disposition Entry","Must Have","Please list your solution's ability for users and their controlling dispatchers to receive a warning when they add a disposition to an event for which they are the last assigned unit.",null,"Cannot Meet",{"$f":"IFERROR(VLOOKUP(H149,VendorResponseLookupTbl[], 2,0), \"\")","v":" The product cannot meet the requirement “Out-of-the-Box”, “With Configuration”, “With Custom Programming” or with a “Future Release”."}]
["10.A","Mobile CJIS Queries"]
["10.A.00",{"$f":"B150","v":"Mobile CJIS Queries"}]
["10.A.01",{"$f":"B151","v":"Mobile CJIS Queries"},"Functional","Predefined Data Entry","Must Have","Please list your solution's ability to use predefined data entry forms/screens (masks) to minimize data transmitted during queries.",null,"Cannot Meet",{"$f":"IFERROR(VLOOKUP(H152,VendorResponseLookupTbl[], 2,0), \"\")","v":" The product cannot meet the requirement “Out-of-the-Box”, “With Configuration”, “With Custom Programming” or with a “Future Release”."}]
["10.A.02",{"$f":"B152","v":"Mobile CJIS Queries"},"Functional","Scanning Licenses and Registrations","Should Have","Please list your solution's ability to populate query masks by scanning driver's licenses and vehicle registrations.",null,"Cannot Meet",{"$f":"IFERROR(VLOOKUP(H153,VendorResponseLookupTbl[], 2,0), \"\")","v":" The product cannot meet the requirement “Out-of-the-Box”, “With Configuration”, “With Custom Programming” or with a “Future Release”."}]
["10.A.03",{"$f":"B153","v":"Mobile CJIS Queries"},"Functional","Creating Queries","Must Have","Please list your solution's ability to create standard query screen formats (masks).",null,"Cannot Meet",{"$f":"IFERROR(VLOOKUP(H154,VendorResponseLookupTbl[], 2,0), \"\")","v":" The product cannot meet the requirement “Out-of-the-Box”, “With Configuration”, “With Custom Programming” or with a “Future Release”."}]
["10.A.04","Mobile CJIS Queries","Functional","Accessing Forms","Must Have","Please list your solution's ability to access query forms by:\n\na) Command line entry\nb) Drom down menus\nc) Dedicated function keys",null,"Cannot Meet",{"$f":"IFERROR(VLOOKUP(H155,VendorResponseLookupTbl[], 2,0), \"\")","v":" The product cannot meet the requirement “Out-of-the-Box”, “With Configuration”, “With Custom Programming” or with a “Future Release”."}]
["10.A.05","Mobile CJIS Queries","Functional","Multi-Plate Searching","Should Have","Please list your solution's ability for users to conduct multiple license plate searches simultaneously.",null,"Cannot Meet",{"$f":"IFERROR(VLOOKUP(H156,VendorResponseLookupTbl[], 2,0), \"\")","v":" The product cannot meet the requirement “Out-of-the-Box”, “With Configuration”, “With Custom Programming” or with a “Future Release”."}]
["10.A.06","Mobile CJIS Queries","Functional","Auto-Command\nQuery Initiations","Should Have","Please list your solution's ability to automatically set up a command to run a query based on the return received from a previous query (e.g., run a RQ, the system will automatically generate a DNQ using the name and DOB returned for the registered owner in the RQ return).",null,"Cannot Meet",{"$f":"IFERROR(VLOOKUP(H157,VendorResponseLookupTbl[], 2,0), \"\")","v":" The product cannot meet the requirement “Out-of-the-Box”, “With Configuration”, “With Custom Programming” or with a “Future Release”."}]
["10.A.07","Mobile CJIS Queries","Functional","Results Based Generation","Should Have","Please list your solution's ability to generate a query based on the information returned from a previous query (e.g., run a RQ, then click on registered owner name to run DNQ).",null,"Cannot Meet",{"$f":"IFERROR(VLOOKUP(H158,VendorResponseLookupTbl[], 2,0), \"\")","v":" The product cannot meet the requirement “Out-of-the-Box”, “With Configuration”, “With Custom Programming” or with a “Future Release”."}]
["10.A.08","Mobile CJIS Queries","Functional","Multi-Query Searches","Should Have","Please list your solution's ability for users to run different queries simultaneously in different windows.",null,"Cannot Meet",{"$f":"IFERROR(VLOOKUP(H159,VendorResponseLookupTbl[], 2,0), \"\")","v":" The product cannot meet the requirement “Out-of-the-Box”, “With Configuration”, “With Custom Programming” or with a “Future Release”."}]
["10.A.09","Mobile CJIS Queries","Functional","Notification of Return","Should Have","Please list your solution's ability for users to receive an audible and/or visual alert upon receiving a return to a query request.",null,"Cannot Meet",{"$f":"IFERROR(VLOOKUP(H160,VendorResponseLookupTbl[], 2,0), \"\")","v":" The product cannot meet the requirement “Out-of-the-Box”, “With Configuration”, “With Custom Programming” or with a “Future Release”."}]
["10.A.10","Mobile CJIS Queries","Functional","Saving Returns","Should Have","Please list your solution's ability to  save all query returns until user clears data or logs off.",null,"Cannot Meet",{"$f":"IFERROR(VLOOKUP(H161,VendorResponseLookupTbl[], 2,0), \"\")","v":" The product cannot meet the requirement “Out-of-the-Box”, “With Configuration”, “With Custom Programming” or with a “Future Release”."}]
["10.A.11","Mobile CJIS Queries","Functional","Mobile Return Viewing","Must Have","Please list your solution's ability for mobile query returns to appear on dispatcher's screen as well as the mobile computer screen if the return contains a customer-defined keyword (e.g., stolen, missing, wanted, felony).",null,"Cannot Meet",{"$f":"IFERROR(VLOOKUP(H162,VendorResponseLookupTbl[], 2,0), \"\")","v":" The product cannot meet the requirement “Out-of-the-Box”, “With Configuration”, “With Custom Programming” or with a “Future Release”."}]
["11.A","Mobile Mapping and AVL"]
["11.A.00",{"$f":"B163","v":"Mobile Mapping and AVL"}]
["11.A.01",{"$f":"B164","v":"Mobile Mapping and AVL"},"Functional","Integrated Mapping","Must Have","Please list your solution's ability to provide integrated mobile mapping.",null,"Cannot Meet",{"$f":"IFERROR(VLOOKUP(H165,VendorResponseLookupTbl[], 2,0), \"\")","v":" The product cannot meet the requirement “Out-of-the-Box”, “With Configuration”, “With Custom Programming” or with a “Future Release”."}]
["11.A.02",{"$f":"B165","v":"Mobile Mapping and AVL"},{"$f":"C165","v":"Functional"},"AVL/GPS Support","Must Have","Please list your solution's ability to support AVL/GPS functionality.",null,"Cannot Meet",{"$f":"IFERROR(VLOOKUP(H166,VendorResponseLookupTbl[], 2,0), \"\")","v":" The product cannot meet the requirement “Out-of-the-Box”, “With Configuration”, “With Custom Programming” or with a “Future Release”."}]
["11.A.03",{"$f":"B166","v":"Mobile Mapping and AVL"},{"$f":"C166","v":"Functional"},"Navigation Functionality","Must Have","Please list your solution's ability to provide users with the following map navigation functionality:\n\na) Pan from given area to adjacent area\nb) Return back to previous view\nc) Zoom in on area for enhanced detail\nd) Zoom out of an area\ne) Move up and down\nf) Move left and right",null,"Cannot Meet",{"$f":"IFERROR(VLOOKUP(H167,VendorResponseLookupTbl[], 2,0), \"\")","v":" The product cannot meet the requirement “Out-of-the-Box”, “With Configuration”, “With Custom Programming” or with a “Future Release”."}]
["11.A.04","Mobile Mapping and AVL","Functional","Display Modification by User","Should Have","Please list your solution's ability  for user to update/modify map displays (e.g., preset default zoom levels and views).",null,"Cannot Meet",{"$f":"IFERROR(VLOOKUP(H168,VendorResponseLookupTbl[], 2,0), \"\")","v":" The product cannot meet the requirement “Out-of-the-Box”, “With Configuration”, “With Custom Programming” or with a “Future Release”."}]
["11.A.05","Mobile Mapping and AVL","Functional","Unit Distinction","Must Have","Please list your solution's ability to utilize color, text, and/or symbols to distinguish status of unit.",null,"Cannot Meet",{"$f":"IFERROR(VLOOKUP(H169,VendorResponseLookupTbl[], 2,0), \"\")","v":" The product cannot meet the requirement “Out-of-the-Box”, “With Configuration”, “With Custom Programming” or with a “Future Release”."}]
["11.A.06","Mobile Mapping and AVL","Functional","Centering Display","Must Have","Please list your solution's ability to center map display on:\n\na) CAD event location\nb) Specified geographic area\nc) Specified vehicle/unit\nd) Vehicle activating emergency button",null,"Cannot Meet",{"$f":"IFERROR(VLOOKUP(H170,VendorResponseLookupTbl[], 2,0), \"\")","v":" The product cannot meet the requirement “Out-of-the-Box”, “With Configuration”, “With Custom Programming” or with a “Future Release”."}]
["11.A.07","Mobile Mapping and AVL","Functional","Tracking Unit(s)","Should Have","Please list your solution's ability to track a selected unit.",null,"Cannot Meet",{"$f":"IFERROR(VLOOKUP(H171,VendorResponseLookupTbl[], 2,0), \"\")","v":" The product cannot meet the requirement “Out-of-the-Box”, “With Configuration”, “With Custom Programming” or with a “Future Release”."}]
["11.A.08","Mobile Mapping and AVL","Functional","Default Map Display","Must Have","Please list your solution's ability to determine default map display for each discipline:\n\na) Layers\nb) Geographic Boundaries",null,"Cannot Meet",{"$f":"IFERROR(VLOOKUP(H172,VendorResponseLookupTbl[], 2,0), \"\")","v":" The product cannot meet the requirement “Out-of-the-Box”, “With Configuration”, “With Custom Programming” or with a “Future Release”."}]
["11.A.09","Mobile Mapping and AVL","Functional","Layer Restriction\nBy Discipline","Must Have","Please list your solution's ability to restrict which map layers are available to users by Discipline.",null,"Cannot Meet",{"$f":"IFERROR(VLOOKUP(H173,VendorResponseLookupTbl[], 2,0), \"\")","v":" The product cannot meet the requirement “Out-of-the-Box”, “With Configuration”, “With Custom Programming” or with a “Future Release”."}]
["11.A.10",{"$f":"B173","v":"Mobile Mapping and AVL"},{"$f":"C173","v":"Functional"},"Layer Restriction\nBy Agency","Should Have","Please list your solution's ability to restrict which map layers are available to users by Agency.",null,"Cannot Meet",{"$f":"IFERROR(VLOOKUP(H174,VendorResponseLookupTbl[], 2,0), \"\")","v":" The product cannot meet the requirement “Out-of-the-Box”, “With Configuration”, “With Custom Programming” or with a “Future Release”."}]
["11.A.11","Mobile Mapping and AVL","Functional","Zooming","Must Have","Please list your solution's ability to zoom to relevant map location by searching on available map layer information.",null,"Cannot Meet",{"$f":"IFERROR(VLOOKUP(H175,VendorResponseLookupTbl[], 2,0), \"\")","v":" The product cannot meet the requirement “Out-of-the-Box”, “With Configuration”, “With Custom Programming” or with a “Future Release”."}]
["11.A.12","Mobile Mapping and AVL","Functional","Simultaneous Viewing","Should Have","Please list your solution's ability to view map and mobile application on the screen at the same time.",null,"Cannot Meet",{"$f":"IFERROR(VLOOKUP(H176,VendorResponseLookupTbl[], 2,0), \"\")","v":" The product cannot meet the requirement “Out-of-the-Box”, “With Configuration”, “With Custom Programming” or with a “Future Release”."}]
["11.A.13","Mobile Mapping and AVL","Functional","Caching Layers","Must Have","Please list your solution's ability to  cache map layers to minimize the amount of data transmitted wirelessly.",null,"Cannot Meet",{"$f":"IFERROR(VLOOKUP(H177,VendorResponseLookupTbl[], 2,0), \"\")","v":" The product cannot meet the requirement “Out-of-the-Box”, “With Configuration”, “With Custom Programming” or with a “Future Release”."}]
["11.A.14","Mobile Mapping and AVL","Functional","Functionality Without Connectivity","Must Have","Please list your solution's ability for map to function without wireless connectivity.",null,"Cannot Meet",{"$f":"IFERROR(VLOOKUP(H178,VendorResponseLookupTbl[], 2,0), \"\")","v":" The product cannot meet the requirement “Out-of-the-Box”, “With Configuration”, “With Custom Programming” or with a “Future Release”."}]
["11.A.15","Mobile Mapping and AVL","Functional","Layer Selection","Should Have","Please list your solution's ability for users to select map layers for display.",null,"Cannot Meet",{"$f":"IFERROR(VLOOKUP(H179,VendorResponseLookupTbl[], 2,0), \"\")","v":" The product cannot meet the requirement “Out-of-the-Box”, “With Configuration”, “With Custom Programming” or with a “Future Release”."}]
["11.A.16","Mobile Mapping and AVL","Functional","Satellite View","Should Have","Please list your solution's ability for users to select a satellite map view.",null,"Cannot Meet",{"$f":"IFERROR(VLOOKUP(H180,VendorResponseLookupTbl[], 2,0), \"\")","v":" The product cannot meet the requirement “Out-of-the-Box”, “With Configuration”, “With Custom Programming” or with a “Future Release”."}]
["11.A.17","Mobile Mapping and AVL","Functional","Auto-Refresh Vehicle Locations","Must Have","Please list your solution's ability to automatically refresh current vehicle location at customer-defined intervals.",null,"Cannot Meet",{"$f":"IFERROR(VLOOKUP(H181,VendorResponseLookupTbl[], 2,0), \"\")","v":" The product cannot meet the requirement “Out-of-the-Box”, “With Configuration”, “With Custom Programming” or with a “Future Release”."}]
["11.A.18","Mobile Mapping and AVL","Functional","Map Updates","Must Have","Please list your solution's ability to update map with:\n\na) Unit locations\nb) Event locations",null,"Cannot Meet",{"$f":"IFERROR(VLOOKUP(H182,VendorResponseLookupTbl[], 2,0), \"\")","v":" The product cannot meet the requirement “Out-of-the-Box”, “With Configuration”, “With Custom Programming” or with a “Future Release”."}]
["11.A.19","Mobile Mapping and AVL","Functional","Location Searching","Must Have","Please list your solution's ability to search for a location on a map.",null,"Cannot Meet",{"$f":"IFERROR(VLOOKUP(H183,VendorResponseLookupTbl[], 2,0), \"\")","v":" The product cannot meet the requirement “Out-of-the-Box”, “With Configuration”, “With Custom Programming” or with a “Future Release”."}]
["11.A.20","Mobile Mapping and AVL","Functional","Marking a Location","Should Have","Please list your solution's ability to mark a location on a map (e.g., if an officer sees someone throw evidence out of the window but cannot stop, push a button on the mobile device and mark the location).",null,"Cannot Meet",{"$f":"IFERROR(VLOOKUP(H184,VendorResponseLookupTbl[], 2,0), \"\")","v":" The product cannot meet the requirement “Out-of-the-Box”, “With Configuration”, “With Custom Programming” or with a “Future Release”."}]
["11.A.21","Mobile Mapping and AVL","Functional","Right-Clicking Location","Should Have","Please list your solution's ability to right click on a location to display information associated with that location.",null,"Cannot Meet",{"$f":"IFERROR(VLOOKUP(H185,VendorResponseLookupTbl[], 2,0), \"\")","v":" The product cannot meet the requirement “Out-of-the-Box”, “With Configuration”, “With Custom Programming” or with a “Future Release”."}]
["11.A.22","Mobile Mapping and AVL","Functional","User-Specified Layers","Should Have","Please list your solution's ability to display user-specified map layers (e.g., hydrants, hazards) surrounding an event location.",null,"Cannot Meet",{"$f":"IFERROR(VLOOKUP(H186,VendorResponseLookupTbl[], 2,0), \"\")","v":" The product cannot meet the requirement “Out-of-the-Box”, “With Configuration”, “With Custom Programming” or with a “Future Release”."}]
["11.A.23","Mobile Mapping and AVL","Functional","Display Live Traffic","Should Have","Please list your solution's ability to  display live traffic conditions on the map.",null,"Cannot Meet",{"$f":"IFERROR(VLOOKUP(H187,VendorResponseLookupTbl[], 2,0), \"\")","v":" The product cannot meet the requirement “Out-of-the-Box”, “With Configuration”, “With Custom Programming” or with a “Future Release”."}]
["11.A.24","Mobile Mapping and AVL","Functional","3rd Party Data Sources","Should Have","Please list your solution's ability to pull data from third-party sources (traffic, Google, weather) and display the data on the map.",null,"Cannot Meet",{"$f":"IFERROR(VLOOKUP(H188,VendorResponseLookupTbl[], 2,0), \"\")","v":" The product cannot meet the requirement “Out-of-the-Box”, “With Configuration”, “With Custom Programming” or with a “Future Release”."}]
["11.A.25","Mobile Mapping and AVL","Functional","Map Rotation","Should Have","Please list your solution's ability for unit icons to rotate on the map to provide direction of travel.",null,"Cannot Meet",{"$f":"IFERROR(VLOOKUP(H189,VendorResponseLookupTbl[], 2,0), \"\")","v":" The product cannot meet the requirement “Out-of-the-Box”, “With Configuration”, “With Custom Programming” or with a “Future Release”."}]
["11.A.26","Mobile Mapping and AVL","Functional","Location of Other Units","Must Have","Please list your solution's ability to display the location of other units on mobile map in near real-time (assuming AVL and sufficient bandwidth).",null,"Cannot Meet",{"$f":"IFERROR(VLOOKUP(H190,VendorResponseLookupTbl[], 2,0), \"\")","v":" The product cannot meet the requirement “Out-of-the-Box”, “With Configuration”, “With Custom Programming” or with a “Future Release”."}]
["11.A.27","Mobile Mapping and AVL","Functional","Filtering Display","Must Have","Please list your solution's ability to  filter display of field units on mobile map by:\n\na) Units associated with an event\nb) Agency\nc) Defined geographical area\nd) All units\ne) Unit types\nf) Unit status",null,"Cannot Meet",{"$f":"IFERROR(VLOOKUP(H191,VendorResponseLookupTbl[], 2,0), \"\")","v":" The product cannot meet the requirement “Out-of-the-Box”, “With Configuration”, “With Custom Programming” or with a “Future Release”."}]
["11.A.28","Mobile Mapping and AVL","Functional","Status Bar","Must Have","Please list your solution's ability to click on a unit or event in the event queue or unit status bar and have it displayed on the map.",null,"Cannot Meet",{"$f":"IFERROR(VLOOKUP(H192,VendorResponseLookupTbl[], 2,0), \"\")","v":" The product cannot meet the requirement “Out-of-the-Box”, “With Configuration”, “With Custom Programming” or with a “Future Release”."}]
["11.A.29","Mobile Mapping and AVL","Functional","On/Off AVL Functionality","Could Have","Please list your solution's ability for authorized users to turn AVL functionality on/off for individual units (e.g., undercover units).",null,"Cannot Meet",{"$f":"IFERROR(VLOOKUP(H193,VendorResponseLookupTbl[], 2,0), \"\")","v":" The product cannot meet the requirement “Out-of-the-Box”, “With Configuration”, “With Custom Programming” or with a “Future Release”."}]
["11.A.30","Mobile Mapping and AVL","Functional","Turn-By-Turn Directions","Should Have","Please list your solution's ability to automatically calculate turn-by-turn directions from user's current location (on mobile using AVL) to dispatched location.",null,"Cannot Meet",{"$f":"IFERROR(VLOOKUP(H194,VendorResponseLookupTbl[], 2,0), \"\")","v":" The product cannot meet the requirement “Out-of-the-Box”, “With Configuration”, “With Custom Programming” or with a “Future Release”."}]
["11.A.31","Mobile Mapping and AVL","Functional","Turn-By-Turn Directions\nNo Network Connectivity","Should Have","Please list your solution's ability to automatically calculate turn-by-turn directions from the unit's current location (on mobile using GPS) to the dispatched location when the mobile has no network connectivity (e.g., loss of connection).",null,"Cannot Meet",{"$f":"IFERROR(VLOOKUP(H195,VendorResponseLookupTbl[], 2,0), \"\")","v":" The product cannot meet the requirement “Out-of-the-Box”, “With Configuration”, “With Custom Programming” or with a “Future Release”."}]
["11.A.32",{"$f":"B195","v":"Mobile Mapping and AVL"},{"$f":"C195","v":"Functional"},"Viewing Other Units","Must Have","Please list your solution's ability to see other units on the mobile map.",null,"Cannot Meet",{"$f":"IFERROR(VLOOKUP(H196,VendorResponseLookupTbl[], 2,0), \"\")","v":" The product cannot meet the requirement “Out-of-the-Box”, “With Configuration”, “With Custom Programming” or with a “Future Release”."}]
["11.A.33","Mobile Mapping and AVL","Functional","Alternative Routes","Must Have","Please list your solution's ability to provide alternative routes along with estimated travel time for each route.",null,"Cannot Meet",{"$f":"IFERROR(VLOOKUP(H197,VendorResponseLookupTbl[], 2,0), \"\")","v":" The product cannot meet the requirement “Out-of-the-Box”, “With Configuration”, “With Custom Programming” or with a “Future Release”."}]
["11.A.34","Mobile Mapping and AVL","Functional","Initiating Directions","Must Have","Please list your solution's ability for users to click on address in a dispatch to initiate routing directions on the mobile map.",null,"Cannot Meet",{"$f":"IFERROR(VLOOKUP(H198,VendorResponseLookupTbl[], 2,0), \"\")","v":" The product cannot meet the requirement “Out-of-the-Box”, “With Configuration”, “With Custom Programming” or with a “Future Release”."}]
["11.A.35","Mobile Mapping and AVL","Functional","Fastest Time Routing","Must Have","Please list your solution's ability to support quickest-time routing for all dispatches.",null,"Cannot Meet",{"$f":"IFERROR(VLOOKUP(H199,VendorResponseLookupTbl[], 2,0), \"\")","v":" The product cannot meet the requirement “Out-of-the-Box”, “With Configuration”, “With Custom Programming” or with a “Future Release”."}]
["11.A.36","Mobile Mapping and AVL","Functional","Route Recalculation","Must Have","Please list your solution's ability to recalculate directions to event/specified location on the fly.",null,"Cannot Meet",{"$f":"IFERROR(VLOOKUP(H200,VendorResponseLookupTbl[], 2,0), \"\")","v":" The product cannot meet the requirement “Out-of-the-Box”, “With Configuration”, “With Custom Programming” or with a “Future Release”."}]
["11.A.37","Mobile Mapping and AVL","Functional","Audible Routing","Must Have","Please list your solution's ability to provide audible routing information.",null,"Cannot Meet",{"$f":"IFERROR(VLOOKUP(H201,VendorResponseLookupTbl[], 2,0), \"\")","v":" The product cannot meet the requirement “Out-of-the-Box”, “With Configuration”, “With Custom Programming” or with a “Future Release”."}]
["11.A.38","Mobile Mapping and AVL","Functional","Text-Based Routing","Must Have","Please list your solution's ability to provide text-based routing information.",null,"Cannot Meet",{"$f":"IFERROR(VLOOKUP(H202,VendorResponseLookupTbl[], 2,0), \"\")","v":" The product cannot meet the requirement “Out-of-the-Box”, “With Configuration”, “With Custom Programming” or with a “Future Release”."}]
["11.A.39","Mobile Mapping and AVL","Functional","Cross Streets","Must Have","Please list your solution's ability to provide closest cross streets.",null,"Cannot Meet",{"$f":"IFERROR(VLOOKUP(H203,VendorResponseLookupTbl[], 2,0), \"\")","v":" The product cannot meet the requirement “Out-of-the-Box”, “With Configuration”, “With Custom Programming” or with a “Future Release”."}]
["11.A.40","Mobile Mapping and AVL","Functional","Routing Considerations","Must Have","Please list your solution's ability to take into account the following when calculating routing directions:\n\na) Street speed limits\nb) Closed streets\nc) Real-time traffic\nd) Obstacles (e.g., physical barriers)\ne) Dispatch entered temporary obstacles (e.g., temporary street closures, closed to public transit, obstructed streets)\nf) Height and weight restrictions\ng) Distance between vehicle and event location \nh) Suitability for responding emergency vehicle",null,"Cannot Meet",{"$f":"IFERROR(VLOOKUP(H204,VendorResponseLookupTbl[], 2,0), \"\")","v":" The product cannot meet the requirement “Out-of-the-Box”, “With Configuration”, “With Custom Programming” or with a “Future Release”."}]
["11.A.41","Mobile Mapping and AVL","Functional","Route Highlighting","Must Have","Please list your solution's ability to highlight on the map the recommended route from current location to a dispatched event site.",null,"Cannot Meet",{"$f":"IFERROR(VLOOKUP(H205,VendorResponseLookupTbl[], 2,0), \"\")","v":" The product cannot meet the requirement “Out-of-the-Box”, “With Configuration”, “With Custom Programming” or with a “Future Release”."}]
["11.A.42","Mobile Mapping and AVL","Functional","Displaying Location","Must Have","Please list your solution's ability to display vehicle location on a map and view progress toward event location.",null,"Cannot Meet",{"$f":"IFERROR(VLOOKUP(H206,VendorResponseLookupTbl[], 2,0), \"\")","v":" The product cannot meet the requirement “Out-of-the-Box”, “With Configuration”, “With Custom Programming” or with a “Future Release”."}]
["11.A.43","Mobile Mapping and AVL","Functional","Displaying Obstacles","Must Have","Please list your solution's ability to clearly display potential obstacles along route.",null,"Cannot Meet",{"$f":"IFERROR(VLOOKUP(H207,VendorResponseLookupTbl[], 2,0), \"\")","v":" The product cannot meet the requirement “Out-of-the-Box”, “With Configuration”, “With Custom Programming” or with a “Future Release”."}]
["11.A.44","Mobile Mapping and AVL","Functional","Estimated Travel Time","Must Have","Please list your solution's ability to provide estimated travel time.",null,"Cannot Meet",{"$f":"IFERROR(VLOOKUP(H208,VendorResponseLookupTbl[], 2,0), \"\")","v":" The product cannot meet the requirement “Out-of-the-Box”, “With Configuration”, “With Custom Programming” or with a “Future Release”."}]
["11.A.45","Mobile Mapping and AVL","Functional","Multiple Orientations","Should Have","Please list your solution's ability to toggle between multiple map orientations:\n\na) North up\nb) Heading up",null,"Cannot Meet",{"$f":"IFERROR(VLOOKUP(H209,VendorResponseLookupTbl[], 2,0), \"\")","v":" The product cannot meet the requirement “Out-of-the-Box”, “With Configuration”, “With Custom Programming” or with a “Future Release”."}]
["12.A","BOLOs"]
["12.A.00","BOLOs"]
["12.A.01",{"$f":"B211","v":"BOLOs"},"Functional","Mobile Viewing","Must Have","Please list your solution's ability for users to view BOLOs in the mobile environment. ",null,"Cannot Meet",{"$f":"IFERROR(VLOOKUP(H212,VendorResponseLookupTbl[], 2,0), \"\")","v":" The product cannot meet the requirement “Out-of-the-Box”, “With Configuration”, “With Custom Programming” or with a “Future Release”."}]
["12.A.02",{"$f":"B212","v":"BOLOs"},{"$f":"C212","v":"Functional"},"Dashboard","Should Have","Please list your solution's ability to provide a dashboard to display BOLOs for stolen vehicles.",null,"Cannot Meet",{"$f":"IFERROR(VLOOKUP(H213,VendorResponseLookupTbl[], 2,0), \"\")","v":" The product cannot meet the requirement “Out-of-the-Box”, “With Configuration”, “With Custom Programming” or with a “Future Release”."}]
["12.A.03",{"$f":"B213","v":"BOLOs"},{"$f":"C213","v":"Functional"},"File Attachment","Should Have","Please list your solution's ability for users to attach files (e.g., photos) to BOLOs.",null,"Cannot Meet",{"$f":"IFERROR(VLOOKUP(H214,VendorResponseLookupTbl[], 2,0), \"\")","v":" The product cannot meet the requirement “Out-of-the-Box”, “With Configuration”, “With Custom Programming” or with a “Future Release”."}]
["12.A.04","BOLOs","Functional","Fire Viewing","Should Have","Please list your solution's ability for fire personnel to see authorized law enforcement BOLOs.",null,"Cannot Meet",{"$f":"IFERROR(VLOOKUP(H215,VendorResponseLookupTbl[], 2,0), \"\")","v":" The product cannot meet the requirement “Out-of-the-Box”, “With Configuration”, “With Custom Programming” or with a “Future Release”."}]
["12.A.05",{"$f":"B215","v":"BOLOs"},{"$f":"C215","v":"Functional"},"Saving","Should Have","Please list your solution's ability to save BOLOs to a digital dashboard for later review.",null,"Cannot Meet",{"$f":"IFERROR(VLOOKUP(H216,VendorResponseLookupTbl[], 2,0), \"\")","v":" The product cannot meet the requirement “Out-of-the-Box”, “With Configuration”, “With Custom Programming” or with a “Future Release”."}]
["12.A.06","BOLOs","Functional","Pinning","Should Have","Please list your solution's ability to  pin a BOLO for quick reference.",null,"Cannot Meet",{"$f":"IFERROR(VLOOKUP(H217,VendorResponseLookupTbl[], 2,0), \"\")","v":" The product cannot meet the requirement “Out-of-the-Box”, “With Configuration”, “With Custom Programming” or with a “Future Release”."}]
["13.A","Perimeters"]
["13.A.00",{"$f":"B218","v":"Perimeters"}]
["13.A.01",{"$f":"B219","v":"Perimeters"},"Functional","Defining Via Mobile","Should Have","Please list your solution's ability to define a perimeter from the mobile unit.",null,"Cannot Meet",{"$f":"IFERROR(VLOOKUP(H220,VendorResponseLookupTbl[], 2,0), \"\")","v":" The product cannot meet the requirement “Out-of-the-Box”, “With Configuration”, “With Custom Programming” or with a “Future Release”."}]
["13.A.02",{"$f":"B220","v":"Perimeters"},{"$f":"C220","v":"Functional"},"Assigning Units","Should Have","Please list your solution's ability to  assign units to specific points on the perimeter.",null,"Cannot Meet",{"$f":"IFERROR(VLOOKUP(H221,VendorResponseLookupTbl[], 2,0), \"\")","v":" The product cannot meet the requirement “Out-of-the-Box”, “With Configuration”, “With Custom Programming” or with a “Future Release”."}]
["13.A.03",{"$f":"B221","v":"Perimeters"},{"$f":"C221","v":"Functional"},"Defining Units","Should Have","Please list your solution's ability to define the type of unit assign to each perimeter point (K9, drone, outside agency, etc.).",null,"Cannot Meet",{"$f":"IFERROR(VLOOKUP(H222,VendorResponseLookupTbl[], 2,0), \"\")","v":" The product cannot meet the requirement “Out-of-the-Box”, “With Configuration”, “With Custom Programming” or with a “Future Release”."}]
["13.A.04","Perimeters","Functional","Viewing Points and Assigned Units","Should Have","Please list your solution's ability to view the perimeter, perimeter points and assigned units on the mobile map.",null,"Cannot Meet",{"$f":"IFERROR(VLOOKUP(H223,VendorResponseLookupTbl[], 2,0), \"\")","v":" The product cannot meet the requirement “Out-of-the-Box”, “With Configuration”, “With Custom Programming” or with a “Future Release”."}]
["13.A.05","Perimeters","Functional","Self-Assignment","Should Have","Please list your solution's ability for field personnel to assign themselves to perimeter posts.",null,"Cannot Meet",{"$f":"IFERROR(VLOOKUP(H224,VendorResponseLookupTbl[], 2,0), \"\")","v":" The product cannot meet the requirement “Out-of-the-Box”, “With Configuration”, “With Custom Programming” or with a “Future Release”."}]
["13.A.06","Perimeters","Functional","Drawing Markings","Should Have","Please list your solution's ability for a user to draw markings on the map (e.g., to mark perimeter on the local mobile map).",null,"Cannot Meet",{"$f":"IFERROR(VLOOKUP(H225,VendorResponseLookupTbl[], 2,0), \"\")","v":" The product cannot meet the requirement “Out-of-the-Box”, “With Configuration”, “With Custom Programming” or with a “Future Release”."}]
["14.A","Incident Command"]
["14.A.00","General Incident Command"]
["14.A.01",{"$f":"B227","v":"General Incident Command"},"Functional","Mobile Command","Should Have","Please list your solution's ability to provide mobile incident command functionality.",null,"Cannot Meet",{"$f":"IFERROR(VLOOKUP(H228,VendorResponseLookupTbl[], 2,0), \"\")","v":" The product cannot meet the requirement “Out-of-the-Box”, “With Configuration”, “With Custom Programming” or with a “Future Release”."}]
["14.A.02",{"$f":"B228","v":"General Incident Command"},"Functional","Setting Roles","Should Have","Please list your solution's ability to set roles within the incident command module (e.g., BC 1 is Incident Commander).",null,"Cannot Meet",{"$f":"IFERROR(VLOOKUP(H229,VendorResponseLookupTbl[], 2,0), \"\")","v":" The product cannot meet the requirement “Out-of-the-Box”, “With Configuration”, “With Custom Programming” or with a “Future Release”."}]
["14.A.03","General Incident Command","Functional","Task Assignment","Should Have","Please list your solution's ability to assign tasks to units within the incident command module.",null,"Cannot Meet",{"$f":"IFERROR(VLOOKUP(H230,VendorResponseLookupTbl[], 2,0), \"\")","v":" The product cannot meet the requirement “Out-of-the-Box”, “With Configuration”, “With Custom Programming” or with a “Future Release”."}]
["14.A.04","General Incident Command","Functional","Timestamping","Should Have","Please list your solution's ability to time stamp entries (for chronological tracking of events).",null,"Cannot Meet",{"$f":"IFERROR(VLOOKUP(H231,VendorResponseLookupTbl[], 2,0), \"\")","v":" The product cannot meet the requirement “Out-of-the-Box”, “With Configuration”, “With Custom Programming” or with a “Future Release”."}]
["14.A.05","General Incident Command","Functional","Protocols and SOPs","Should Have","Please list your solution's ability to provide access to agency protocols and SOPs.",null,"Cannot Meet",{"$f":"IFERROR(VLOOKUP(H232,VendorResponseLookupTbl[], 2,0), \"\")","v":" The product cannot meet the requirement “Out-of-the-Box”, “With Configuration”, “With Custom Programming” or with a “Future Release”."}]
["14.A.06","General Incident Command","Functional","Timers","Should Have","Please list your solution's ability to support incident timers.",null,"Cannot Meet",{"$f":"IFERROR(VLOOKUP(H233,VendorResponseLookupTbl[], 2,0), \"\")","v":" The product cannot meet the requirement “Out-of-the-Box”, “With Configuration”, “With Custom Programming” or with a “Future Release”."}]
["14.A.07","General Incident Command","Functional","Task Timers and Alerts","Should Have","Please list your solution's ability to associate timers and alerts with specific tasks.",null,"Cannot Meet",{"$f":"IFERROR(VLOOKUP(H234,VendorResponseLookupTbl[], 2,0), \"\")","v":" The product cannot meet the requirement “Out-of-the-Box”, “With Configuration”, “With Custom Programming” or with a “Future Release”."}]
["14.A.08","General Incident Command","Functional","Voice Commands","Should Have","Please list your solution's ability to support voice commands.",null,"Cannot Meet",{"$f":"IFERROR(VLOOKUP(H235,VendorResponseLookupTbl[], 2,0), \"\")","v":" The product cannot meet the requirement “Out-of-the-Box”, “With Configuration”, “With Custom Programming” or with a “Future Release”."}]
["14.A.09","General Incident Command","Functional","Multi-Discipline Support","Should Have","Please list your solution's ability for incident command module to support:\n\na) Law enforcement\nb) Fire and Rescue\nc) Unified command (i.e., Police and Fire/EMS)",null,"Cannot Meet",{"$f":"IFERROR(VLOOKUP(H236,VendorResponseLookupTbl[], 2,0), \"\")","v":" The product cannot meet the requirement “Out-of-the-Box”, “With Configuration”, “With Custom Programming” or with a “Future Release”."}]
["14.A.10","General Incident Command","Functional","Org. Chart","Should Have","Please list your solution's ability to provide an organizational breakdown/hierarchy of resources on scene (e.g., organizational chart).",null,"Cannot Meet",{"$f":"IFERROR(VLOOKUP(H237,VendorResponseLookupTbl[], 2,0), \"\")","v":" The product cannot meet the requirement “Out-of-the-Box”, “With Configuration”, “With Custom Programming” or with a “Future Release”."}]
["14.A.11","General Incident Command","Functional","Task Defining","Should Have","Please list your solution's ability for each agency to define tasks necessary to complete as determined by the incident type.",null,"Cannot Meet",{"$f":"IFERROR(VLOOKUP(H238,VendorResponseLookupTbl[], 2,0), \"\")","v":" The product cannot meet the requirement “Out-of-the-Box”, “With Configuration”, “With Custom Programming” or with a “Future Release”."}]
["14.A.12","General Incident Command","Functional","Messaging","Should Have","Please list your solution's ability to provide messaging capabilities within the incident command module.",null,"Cannot Meet",{"$f":"IFERROR(VLOOKUP(H239,VendorResponseLookupTbl[], 2,0), \"\")","v":" The product cannot meet the requirement “Out-of-the-Box”, “With Configuration”, “With Custom Programming” or with a “Future Release”."}]
["14.A.13","General Incident Command","Functional","Adding Images","Should Have","Please list your solution's ability to add images.",null,"Cannot Meet",{"$f":"IFERROR(VLOOKUP(H240,VendorResponseLookupTbl[], 2,0), \"\")","v":" The product cannot meet the requirement “Out-of-the-Box”, “With Configuration”, “With Custom Programming” or with a “Future Release”."}]
["14.A.14","General Incident Command","Functional","Adding Videos","Should Have","Please list your solution's ability to add videos.",null,"Cannot Meet",{"$f":"IFERROR(VLOOKUP(H241,VendorResponseLookupTbl[], 2,0), \"\")","v":" The product cannot meet the requirement “Out-of-the-Box”, “With Configuration”, “With Custom Programming” or with a “Future Release”."}]
["14.B.00","Incident Diagramming"]
["14.B.01","Incident Diagramming","Functional","Scene Diagramming","Should Have","Please list your solution's ability to provide a scene diagramming tool.",null,"Cannot Meet",{"$f":"IFERROR(VLOOKUP(H243,VendorResponseLookupTbl[], 2,0), \"\")","v":" The product cannot meet the requirement “Out-of-the-Box”, “With Configuration”, “With Custom Programming” or with a “Future Release”."}]
["14.B.02","Incident Diagramming","Functional","Map Embedding","Should Have","Please list your solution's ability to use embedded map to provide background for scene diagramming (e.g., utilize image of block for diagramming foundation).",null,"Cannot Meet",{"$f":"IFERROR(VLOOKUP(H244,VendorResponseLookupTbl[], 2,0), \"\")","v":" The product cannot meet the requirement “Out-of-the-Box”, “With Configuration”, “With Custom Programming” or with a “Future Release”."}]
["14.B.03","Incident Diagramming","Functional","Icon Usage","Should Have","Please list your solution's ability to provide standard icons to be used within the scene diagramming tool.",null,"Cannot Meet",{"$f":"IFERROR(VLOOKUP(H245,VendorResponseLookupTbl[], 2,0), \"\")","v":" The product cannot meet the requirement “Out-of-the-Box”, “With Configuration”, “With Custom Programming” or with a “Future Release”."}]
["14.B.04","Incident Diagramming","Functional","Drawing Tool","Should Have","Please list your solution's ability to provide a free-form drawing tool for on-the-scene diagramming.",null,"Cannot Meet",{"$f":"IFERROR(VLOOKUP(H246,VendorResponseLookupTbl[], 2,0), \"\")","v":" The product cannot meet the requirement “Out-of-the-Box”, “With Configuration”, “With Custom Programming” or with a “Future Release”."}]
["14.B.05","Incident Diagramming","Functional","Adding Text to Images","Should Have","Please list your solution's ability to add text to any drawn images.",null,"Cannot Meet",{"$f":"IFERROR(VLOOKUP(H247,VendorResponseLookupTbl[], 2,0), \"\")","v":" The product cannot meet the requirement “Out-of-the-Box”, “With Configuration”, “With Custom Programming” or with a “Future Release”."}]
["14.B.06","Incident Diagramming","Functional","White Board Functionality","Should Have","Please list your solution's ability to support \"white-board\" functionality (e.g., user edits a large white board with data automatically sent electronically to the system).",null,"Cannot Meet",{"$f":"IFERROR(VLOOKUP(H248,VendorResponseLookupTbl[], 2,0), \"\")","v":" The product cannot meet the requirement “Out-of-the-Box”, “With Configuration”, “With Custom Programming” or with a “Future Release”."}]
["14.B.07","Incident Diagramming","Functional","Importing Images","Should Have","Please list your solution's ability to import images onto \"white-board\".",null,"Cannot Meet",{"$f":"IFERROR(VLOOKUP(H249,VendorResponseLookupTbl[], 2,0), \"\")","v":" The product cannot meet the requirement “Out-of-the-Box”, “With Configuration”, “With Custom Programming” or with a “Future Release”."}]
["14.B.08","Incident Diagramming","Functional","3D Support","Should Have","Please list your solution's ability for diagramming tool to support three-dimensions.",null,"Cannot Meet",{"$f":"IFERROR(VLOOKUP(H250,VendorResponseLookupTbl[], 2,0), \"\")","v":" The product cannot meet the requirement “Out-of-the-Box”, “With Configuration”, “With Custom Programming” or with a “Future Release”."}]
["14.B.09","Incident Diagramming","Functional","Plume Modeling","Should Have","Please list your solution's ability for system to support plume modeling.",null,"Cannot Meet",{"$f":"IFERROR(VLOOKUP(H251,VendorResponseLookupTbl[], 2,0), \"\")","v":" The product cannot meet the requirement “Out-of-the-Box”, “With Configuration”, “With Custom Programming” or with a “Future Release”."}]
["14.B.10","Incident Diagramming","Functional","Fire Modeling","Should Have","Please list your solution's ability for system to support fire modeling.",null,"Cannot Meet",{"$f":"IFERROR(VLOOKUP(H252,VendorResponseLookupTbl[], 2,0), \"\")","v":" The product cannot meet the requirement “Out-of-the-Box”, “With Configuration”, “With Custom Programming” or with a “Future Release”."}]
["14.B.11","Incident Diagramming","Functional","Zooming With Diagramming Tool","Should Have","Please list your solution's ability to zoom in and out of diagramming tool.",null,"Cannot Meet",{"$f":"IFERROR(VLOOKUP(H253,VendorResponseLookupTbl[], 2,0), \"\")","v":" The product cannot meet the requirement “Out-of-the-Box”, “With Configuration”, “With Custom Programming” or with a “Future Release”."}]
["14.C.00","System Access/Sharing"]
["14.C.01","System Access/Sharing","Functional","IM Module Usage Without Connectivity","Should Have","Please list your solution's ability to use the incident management module without wireless connectivity.",null,"Cannot Meet",{"$f":"IFERROR(VLOOKUP(H255,VendorResponseLookupTbl[], 2,0), \"\")","v":" The product cannot meet the requirement “Out-of-the-Box”, “With Configuration”, “With Custom Programming” or with a “Future Release”."}]
["14.C.02","System Access/Sharing","Functional","Sharing IM Screen","Should Have","Please list your solution's ability to share incident management screen with other Mobile workstations.",null,"Cannot Meet",{"$f":"IFERROR(VLOOKUP(H256,VendorResponseLookupTbl[], 2,0), \"\")","v":" The product cannot meet the requirement “Out-of-the-Box”, “With Configuration”, “With Custom Programming” or with a “Future Release”."}]
["14.C.03","System Access/Sharing","Functional","Access Restriction","Should Have","Please list your solution's ability to limit access to incident management module based on  agency-defined rights and privileges.",null,"Cannot Meet",{"$f":"IFERROR(VLOOKUP(H257,VendorResponseLookupTbl[], 2,0), \"\")","v":" The product cannot meet the requirement “Out-of-the-Box”, “With Configuration”, “With Custom Programming” or with a “Future Release”."}]
["14.C.04","System Access/Sharing","Functional","Data Entry\nMultiple Users","Should Have","Please list your solution's ability for multiple users to enter data in the incident command system simultaneously from separate terminals.",null,"Cannot Meet",{"$f":"IFERROR(VLOOKUP(H258,VendorResponseLookupTbl[], 2,0), \"\")","v":" The product cannot meet the requirement “Out-of-the-Box”, “With Configuration”, “With Custom Programming” or with a “Future Release”."}]
["14.D.00","Systems Integration"]
["14.D.01","Systems Integration","Functional","IM Integration With Mobile Map","Should Have","Please list your solution's ability for incident management information to be integrated with a Mobile unit's map upon assignment to an incident.",null,"Cannot Meet",{"$f":"IFERROR(VLOOKUP(H260,VendorResponseLookupTbl[], 2,0), \"\")","v":" The product cannot meet the requirement “Out-of-the-Box”, “With Configuration”, “With Custom Programming” or with a “Future Release”."}]
["14.D.02","Systems Integration","Functional","Command Screen Updating","Should Have","Please list your solution's ability for incident management command screen to be automatically updated with information from CAD.",null,"Cannot Meet",{"$f":"IFERROR(VLOOKUP(H261,VendorResponseLookupTbl[], 2,0), \"\")","v":" The product cannot meet the requirement “Out-of-the-Box”, “With Configuration”, “With Custom Programming” or with a “Future Release”."}]
["14.D.03","Systems Integration","Functional","Location Entry","Should Have","Please list your solution's ability upon entry of a location into the incident command module, the system to automatically recall all pre-plan information for that location.",null,"Cannot Meet",{"$f":"IFERROR(VLOOKUP(H262,VendorResponseLookupTbl[], 2,0), \"\")","v":" The product cannot meet the requirement “Out-of-the-Box”, “With Configuration”, “With Custom Programming” or with a “Future Release”."}]
["14.D.04","Systems Integration","Functional","Roster Information","Should Have","Please list your solution's ability for roster information (including equipment) from CAD to be available in the incident command module.",null,"Cannot Meet",{"$f":"IFERROR(VLOOKUP(H263,VendorResponseLookupTbl[], 2,0), \"\")","v":" The product cannot meet the requirement “Out-of-the-Box”, “With Configuration”, “With Custom Programming” or with a “Future Release”."}]
["14.D.05","Systems Integration","Functional","IM Actions Updating CAD","Should Have","Please list your solution's ability for incident management actions to update CAD and other Mobile users.",null,"Cannot Meet",{"$f":"IFERROR(VLOOKUP(H264,VendorResponseLookupTbl[], 2,0), \"\")","v":" The product cannot meet the requirement “Out-of-the-Box”, “With Configuration”, “With Custom Programming” or with a “Future Release”."}]
["14.E.00","After Action Reporting"]
["14.E.01","After Action Reporting","Functional","Log Creation","Should Have","Please list your solution's ability for system to create a log of all actions taken within the incident management module.",null,"Cannot Meet",{"$f":"IFERROR(VLOOKUP(H266,VendorResponseLookupTbl[], 2,0), \"\")","v":" The product cannot meet the requirement “Out-of-the-Box”, “With Configuration”, “With Custom Programming” or with a “Future Release”."}]
["14.E.02","After Action Reporting","Functional","Playback Functionality","Should Have","Please list your solution's ability to provide a system playback to allow users to review step-by-step actions of users.",null,"Cannot Meet",{"$f":"IFERROR(VLOOKUP(H267,VendorResponseLookupTbl[], 2,0), \"\")","v":" The product cannot meet the requirement “Out-of-the-Box”, “With Configuration”, “With Custom Programming” or with a “Future Release”."}]

{"sheet":"CAD","index":3,"n_rows":659,"n_cols":10,"rows_kept":659,"cut":false,"hidden":false,"merged":[[57,4,58,4],[57,3,58,3],[57,2,58,2],[57,1,58,1],[57,0,58,0],[57,9,58,9],[57,8,58,8],[57,7,58,7],[57,6,58,6],[57,5,58,5],[8,0,8,9],[0,0,0,9],[1,0,1,9],[2,0,2,9],[4,0,4,3],[4,4,4,9],[6,0,6,3],[6,4,6,9]]}
[{"$f":"RMS!A1","v":"RFP # 101-26"}]
[{"$f":"RMS!A2","v":"RMS AND CAD SOFTWARE REPLACEMENT WITH PROFESSIONAL SERVICES FOR IMPLEMENTATION"}]
[{"$f":"RMS!A3","v":"Appendix No. 1 - Requirements Traceability Matrix (RTM)"}]
[]
["Proposing Vendor Name:",null,null,null,{"$f":"RMS!E5","v":"VENDOR NAME"}]
[]
["Proposing Vendor Contact Name:",null,null,null,{"$f":"RMS!E7","v":"VENDOR CONTACT NAME"}]
[]
["Notes to Proposing Vendors:\n1) Column G is an open text field for you to list what product/module of your solution is providing the service to cover the listed requirement.  \n2) Column H is a set of drop down fields for you to select from a set of pre-defined abilities.  Please select your response and do NOT change the formatting.  Column I will change automatically based upon your selection from column H.\n3) Column J is an open text field for your firm to provide a BRIEF explanation to how the proposed product matches your Requirement Compliance response."]
["Req. ID","Requirement Category","Requirement Type","Requirement Description","MoSCoW Value","Request for Information","Vendor Proposed Product/Module","Requirement Compliance","Requirement Definition","Vendor Explanation"]
["1.A","General CAD Requirements"]
["1.A.00",{"$f":"B11","v":"General CAD Requirements"}]
["1.A01",{"$f":"B12","v":"General CAD Requirements"},"Functional","Multi-disciplinary Call Taking and Dispatching","Must Have","Please list your solution's ability to accommodate multi-disciplinary call taking and dispatching for:\n\na) Law enforcement\nb) Fire\nc) EMS",null,"Cannot Meet",{"$f":"IFERROR(VLOOKUP(H13,VendorResponseLookupTbl[], 2,0), \"\")","v":" The product cannot meet the requirement “Out-of-the-Box”, “With Configuration”, “With Custom Programming” or with a “Future Release”."}]
["1.A02","General CAD Requirements","Functional","NENA NG911 & APCO Standards","Must Have","Please list your solution's ability to comply and maintain compliance with published NENA NG9-1-1 and applicable APCO standards.",null,"Cannot Meet",{"$f":"IFERROR(VLOOKUP(H14,VendorResponseLookupTbl[], 2,0), \"\")","v":" The product cannot meet the requirement “Out-of-the-Box”, “With Configuration”, “With Custom Programming” or with a “Future Release”."}]
["1.A03","General CAD Requirements","Functional","Browser Agnostic ","Must Have","Please list your solution's ability to support a browser agnostic-based CAD environment for viewing and querying incidents.",null,"Cannot Meet",{"$f":"IFERROR(VLOOKUP(H15,VendorResponseLookupTbl[], 2,0), \"\")","v":" The product cannot meet the requirement “Out-of-the-Box”, “With Configuration”, “With Custom Programming” or with a “Future Release”."}]
["1.B.00","User Experience and User Interface"]
["1.B.01","User Experience and User Interface","Functional","Consistent UX/UI","Must Have","Please list your solution's ability to provide a user experience that is consistent without regard to client type.",null,"Cannot Meet",{"$f":"IFERROR(VLOOKUP(H17,VendorResponseLookupTbl[], 2,0), \"\")","v":" The product cannot meet the requirement “Out-of-the-Box”, “With Configuration”, “With Custom Programming” or with a “Future Release”."}]
["1.B.02","User Experience and User Interface","Functional","Various Display Functionality","Must Have","Please list your solution's ability to support multiple form factors, including:\n\na) Tablets of all sizes\nb) Mobile and laptop computers\nc) Single and multi-monitor desktop computers",null,"Cannot Meet",{"$f":"IFERROR(VLOOKUP(H18,VendorResponseLookupTbl[], 2,0), \"\")","v":" The product cannot meet the requirement “Out-of-the-Box”, “With Configuration”, “With Custom Programming” or with a “Future Release”."}]
["1.B.03","User Experience and User Interface","Functional","Tailoring UX/UI","Must Have","Please list your solution's ability to tailor the user interface at the following levels:\n\na) System\nb) Discipline\nc) Role\nd) Workstation\ne) User",null,"Cannot Meet",{"$f":"IFERROR(VLOOKUP(H19,VendorResponseLookupTbl[], 2,0), \"\")","v":" The product cannot meet the requirement “Out-of-the-Box”, “With Configuration”, “With Custom Programming” or with a “Future Release”."}]
["1.B.04","User Experience and User Interface","Functional","Customizable Displays","Must Have","Please list your solution's ability to customize any screen to include:\n\na) Font size\nb) Font type\nc) Font color\nd) Window background color\ne) Day/night mode\nf) Window sizes\ng) Window locations\nh) Requires, optional or not required fields\ni) Location of fields on the screen\nj) Field label",null,"Cannot Meet",{"$f":"IFERROR(VLOOKUP(H20,VendorResponseLookupTbl[], 2,0), \"\")","v":" The product cannot meet the requirement “Out-of-the-Box”, “With Configuration”, “With Custom Programming” or with a “Future Release”."}]
["1.B.05","User Experience and User Interface","Functional","User vs. Customer Level Configurations","Must Have","Please list your solution's ability for agency to configure which features are customizable at the user level and which are fixed at the customer level.",null,"Cannot Meet",{"$f":"IFERROR(VLOOKUP(H21,VendorResponseLookupTbl[], 2,0), \"\")","v":" The product cannot meet the requirement “Out-of-the-Box”, “With Configuration”, “With Custom Programming” or with a “Future Release”."}]
["1.B.06","User Experience and User Interface","Functional","Column Arrangement","Must Have","Please list your solution's ability for users to:\n\na) Rearrange columns in screen displays\nb) Sort information in columns in screen displays\nc) Filter information in columns in screen displays",null,"Cannot Meet",{"$f":"IFERROR(VLOOKUP(H22,VendorResponseLookupTbl[], 2,0), \"\")","v":" The product cannot meet the requirement “Out-of-the-Box”, “With Configuration”, “With Custom Programming” or with a “Future Release”."}]
["1.B.07","User Experience and User Interface","Functional","Column Sizing","Must Have","Please list your solution's ability for user to enlarge and shrink columns in their status windows.",null,"Cannot Meet",{"$f":"IFERROR(VLOOKUP(H23,VendorResponseLookupTbl[], 2,0), \"\")","v":" The product cannot meet the requirement “Out-of-the-Box”, “With Configuration”, “With Custom Programming” or with a “Future Release”."}]
["1.B.08","User Experience and User Interface","Functional","User-Based Configurations\nWindows","Must Have","Please list your solution's ability to save windows configurations based on user ID (e.g., not workstation-specific).",null,"Cannot Meet",{"$f":"IFERROR(VLOOKUP(H24,VendorResponseLookupTbl[], 2,0), \"\")","v":" The product cannot meet the requirement “Out-of-the-Box”, “With Configuration”, “With Custom Programming” or with a “Future Release”."}]
["1.B.09","User Experience and User Interface","Functional","User-Based Configurations\nMaps","Must Have","Please list your solution's ability to save map configuration (layers turned on) based on user ID.",null,"Cannot Meet",{"$f":"IFERROR(VLOOKUP(H25,VendorResponseLookupTbl[], 2,0), \"\")","v":" The product cannot meet the requirement “Out-of-the-Box”, “With Configuration”, “With Custom Programming” or with a “Future Release”."}]
["1.B.10","User Experience and User Interface","Functional","Maintaining Configurations","Must Have","Please list your solution's ability to maintain configurations settings during upgrades.",null,"Cannot Meet",{"$f":"IFERROR(VLOOKUP(H26,VendorResponseLookupTbl[], 2,0), \"\")","v":" The product cannot meet the requirement “Out-of-the-Box”, “With Configuration”, “With Custom Programming” or with a “Future Release”."}]
["1.B.11","User Experience and User Interface","Functional","Multiple User Profiles","Must Have","Please list your solution's ability to save multiple profiles for individual users.",null,"Cannot Meet",{"$f":"IFERROR(VLOOKUP(H27,VendorResponseLookupTbl[], 2,0), \"\")","v":" The product cannot meet the requirement “Out-of-the-Box”, “With Configuration”, “With Custom Programming” or with a “Future Release”."}]
["1.B.12","User Experience and User Interface","Functional","Default Configuration","Must Have","Please list your solution's ability to restore the user client configuration to the system default.",null,"Cannot Meet",{"$f":"IFERROR(VLOOKUP(H28,VendorResponseLookupTbl[], 2,0), \"\")","v":" The product cannot meet the requirement “Out-of-the-Box”, “With Configuration”, “With Custom Programming” or with a “Future Release”."}]
["1.B.13","User Experience and User Interface","Functional","Sharing Configurations","Must Have","Please list your solution's ability for a user to retrieve and use default configuration developed by another user.",null,"Cannot Meet",{"$f":"IFERROR(VLOOKUP(H29,VendorResponseLookupTbl[], 2,0), \"\")","v":" The product cannot meet the requirement “Out-of-the-Box”, “With Configuration”, “With Custom Programming” or with a “Future Release”."}]
["1.B.14","User Experience and User Interface","Functional","Trainer Configurations","Must Have","Please list your solution's ability to make a trainer configuration the default configuration for a trainee.",null,"Cannot Meet",{"$f":"IFERROR(VLOOKUP(H30,VendorResponseLookupTbl[], 2,0), \"\")","v":" The product cannot meet the requirement “Out-of-the-Box”, “With Configuration”, “With Custom Programming” or with a “Future Release”."}]
["1.B.15","User Experience and User Interface","Functional","Data Entry","Must Have","Please list your solution's ability to support data entry via:\n\na) Mouse (point and click)\nb) Command line entry\nc) Drag-and-Drop\nd) Function keys\ne) Touch screen",null,"Cannot Meet",{"$f":"IFERROR(VLOOKUP(H31,VendorResponseLookupTbl[], 2,0), \"\")","v":" The product cannot meet the requirement “Out-of-the-Box”, “With Configuration”, “With Custom Programming” or with a “Future Release”."}]
["1.B.16","User Experience and User Interface","Functional","Command Entry","Must Have","Please list your solution's ability to enter any command via the command line.",null,"Cannot Meet",{"$f":"IFERROR(VLOOKUP(H32,VendorResponseLookupTbl[], 2,0), \"\")","v":" The product cannot meet the requirement “Out-of-the-Box”, “With Configuration”, “With Custom Programming” or with a “Future Release”."}]
["1.B.17","User Experience and User Interface","Functional","Multiple Command Entry","Must Have","Please list your solution's ability to provide multiple command lines.",null,"Cannot Meet",{"$f":"IFERROR(VLOOKUP(H33,VendorResponseLookupTbl[], 2,0), \"\")","v":" The product cannot meet the requirement “Out-of-the-Box”, “With Configuration”, “With Custom Programming” or with a “Future Release”."}]
["1.B.18","User Experience and User Interface","Functional","Undefined Command Entry","Must Have","Please list your solution's ability to enter commands in any order on the command line.",null,"Cannot Meet",{"$f":"IFERROR(VLOOKUP(H34,VendorResponseLookupTbl[], 2,0), \"\")","v":" The product cannot meet the requirement “Out-of-the-Box”, “With Configuration”, “With Custom Programming” or with a “Future Release”."}]
["1.B.19","User Experience and User Interface","Functional","Additional Commands","Must Have","Please list your solution's ability to enter more than one command on a single command line.",null,"Cannot Meet",{"$f":"IFERROR(VLOOKUP(H35,VendorResponseLookupTbl[], 2,0), \"\")","v":" The product cannot meet the requirement “Out-of-the-Box”, “With Configuration”, “With Custom Programming” or with a “Future Release”."}]
["1.B.20","User Experience and User Interface","Functional","Agency-Defined Commands","Must Have","Please list your solution's ability  for customer to define commands.",null,"Cannot Meet",{"$f":"IFERROR(VLOOKUP(H36,VendorResponseLookupTbl[], 2,0), \"\")","v":" The product cannot meet the requirement “Out-of-the-Box”, “With Configuration”, “With Custom Programming” or with a “Future Release”."}]
["1.B.21","User Experience and User Interface","Functional","Triggering Commands","Must Have","Please list your solution's ability for commands triggered by use of mouse or hot key to appear and auto populate command line.",null,"Cannot Meet",{"$f":"IFERROR(VLOOKUP(H37,VendorResponseLookupTbl[], 2,0), \"\")","v":" The product cannot meet the requirement “Out-of-the-Box”, “With Configuration”, “With Custom Programming” or with a “Future Release”."}]
["1.B.22","User Experience and User Interface","Functional","Opening Commands","Must Have","Please list your solution's ability to bring the command line to focus or open a command line window using a hot key.",null,"Cannot Meet",{"$f":"IFERROR(VLOOKUP(H38,VendorResponseLookupTbl[], 2,0), \"\")","v":" The product cannot meet the requirement “Out-of-the-Box”, “With Configuration”, “With Custom Programming” or with a “Future Release”."}]
["1.B.23","User Experience and User Interface","Functional","Text Field Boxes","Must Have","Please list your solution's ability for narrative field boxes to grow in size as more text is entered.",null,"Cannot Meet",{"$f":"IFERROR(VLOOKUP(H39,VendorResponseLookupTbl[], 2,0), \"\")","v":" The product cannot meet the requirement “Out-of-the-Box”, “With Configuration”, “With Custom Programming” or with a “Future Release”."}]
["1.C.00","Audit Trails and Time Stamps"]
["1.C.01","Audit Trails and Time Stamps","Functional","Audit Trails","Must Have","Please list your solution's ability to log and timestamps all actions, including:\n\na) Events\nb) Resource statuses, locations, and usage\nc) System administrative functions\nd) Geofile updates and changes\ne) System alerts and notices and user actions related to the alerts and notices\nf) User actions, including printing, viewing, editing, and deleting existing or entering new information into the system\ng) Queries\nh) Reports\ni) Changes and updates\nj) Security violations and attempted breeches\nk) System error messages and user actions related to the error messages Online Documentation/Help Files",null,"Cannot Meet",{"$f":"IFERROR(VLOOKUP(H41,VendorResponseLookupTbl[], 2,0), \"\")","v":" The product cannot meet the requirement “Out-of-the-Box”, “With Configuration”, “With Custom Programming” or with a “Future Release”."}]
["1.C.02","Audit Trails and Time Stamps","Functional","Printing Activity Logs","Must Have","Please list your solution's ability to print a CAD log of activity without system logs and comments (e.g., only CAD operator actions).",null,"Cannot Meet",{"$f":"IFERROR(VLOOKUP(H42,VendorResponseLookupTbl[], 2,0), \"\")","v":" The product cannot meet the requirement “Out-of-the-Box”, “With Configuration”, “With Custom Programming” or with a “Future Release”."}]
["2.A","CAD Application Administration"]
["2.A.00",{"$f":"B43","v":"CAD Application Administration"}]
["2.A.01",{"$f":"B44","v":"CAD Application Administration"},"Functional","Administration Tools","Should Have","Please list your solution's ability to provide application administration tools to maintain:\n\na) Code tables\nb) CAD geofile\nc) CAD security and permissions\nd) Premise and hazards\ne) Notification matrix\nf) Mobile applications\ng) City-defined feature classes (e.g., hydrants, police stations)",null,"Cannot Meet",{"$f":"IFERROR(VLOOKUP(H45,VendorResponseLookupTbl[], 2,0), \"\")","v":" The product cannot meet the requirement “Out-of-the-Box”, “With Configuration”, “With Custom Programming” or with a “Future Release”."}]
["2.A.02","CAD Application Administration","Functional","Premise Record Attachments","Should Have","Please list your solution's ability to attach files to premise records.",null,"Cannot Meet",{"$f":"IFERROR(VLOOKUP(H46,VendorResponseLookupTbl[], 2,0), \"\")","v":" The product cannot meet the requirement “Out-of-the-Box”, “With Configuration”, “With Custom Programming” or with a “Future Release”."}]
["2.A.03","CAD Application Administration","Functional","Linking Hazards from RMS","Must Have","Please list your solution's ability to link hazards entered in the RMS (e.g., outstanding warrant, sex offender, history of violence against an officer).",null,"Cannot Meet",{"$f":"IFERROR(VLOOKUP(H47,VendorResponseLookupTbl[], 2,0), \"\")","v":" The product cannot meet the requirement “Out-of-the-Box”, “With Configuration”, “With Custom Programming” or with a “Future Release”."}]
["2.A.04","CAD Application Administration","Functional","Hazard Reporting","Should Have","Please list your solution's ability to create a report of hazards that have been in the system for longer than one year.",null,"Cannot Meet",{"$f":"IFERROR(VLOOKUP(H48,VendorResponseLookupTbl[], 2,0), \"\")","v":" The product cannot meet the requirement “Out-of-the-Box”, “With Configuration”, “With Custom Programming” or with a “Future Release”."}]
["2.A.05","CAD Application Administration","Functional","CAD Code Table Configuration","Must Have","Please list your solution's ability to configure CAD type code tables to include type codes to accommodate the range of events handled by each public safety discipline.",null,"Cannot Meet",{"$f":"IFERROR(VLOOKUP(H49,VendorResponseLookupTbl[], 2,0), \"\")","v":" The product cannot meet the requirement “Out-of-the-Box”, “With Configuration”, “With Custom Programming” or with a “Future Release”."}]
["2.A.06","CAD Application Administration","Functional","Creation/Editing Codes","Must Have","Please list your solution's ability to create or edit type codes for one discipline without impacting the other.",null,"Cannot Meet",{"$f":"IFERROR(VLOOKUP(H50,VendorResponseLookupTbl[], 2,0), \"\")","v":" The product cannot meet the requirement “Out-of-the-Box”, “With Configuration”, “With Custom Programming” or with a “Future Release”."}]
["2.A.07","CAD Application Administration","Functional","Updating CAD Geofile","Must Have","Please list your solution's ability to update the CAD geofile:\n\na) Automatically\nb) Based on a manual trigger",null,"Cannot Meet",{"$f":"IFERROR(VLOOKUP(H51,VendorResponseLookupTbl[], 2,0), \"\")","v":" The product cannot meet the requirement “Out-of-the-Box”, “With Configuration”, “With Custom Programming” or with a “Future Release”."}]
["2.A.08","CAD Application Administration","Functional","Maintaining the Geofile","Must Have","Please list your solution's ability to  maintain the geofile by:\n\na) Using tools within the CAD application\nb) Uploading and/or converting a GIS-maintained set of geospatial datasets into the CAD system's internal geofile\nc) Uploading and/or converting the i3-compatible geospatial dataset from the appropriate Spatial Information Function (SIF)",null,"Cannot Meet",{"$f":"IFERROR(VLOOKUP(H52,VendorResponseLookupTbl[], 2,0), \"\")","v":" The product cannot meet the requirement “Out-of-the-Box”, “With Configuration”, “With Custom Programming” or with a “Future Release”."}]
["2.A.09","CAD Application Administration","Functional","Updating CAD Geofile \nWithout Downtime","Should Have","Please list your solution's ability to update the geofile while the system is live and operational.",null,"Cannot Meet",{"$f":"IFERROR(VLOOKUP(H53,VendorResponseLookupTbl[], 2,0), \"\")","v":" The product cannot meet the requirement “Out-of-the-Box”, “With Configuration”, “With Custom Programming” or with a “Future Release”."}]
["2.A.10","CAD Application Administration","Functional","Geographic Boundaries","Should Have","Please list your solution's ability to create geographic boundary information in the geofile.",null,"Cannot Meet",{"$f":"IFERROR(VLOOKUP(H54,VendorResponseLookupTbl[], 2,0), \"\")","v":" The product cannot meet the requirement “Out-of-the-Box”, “With Configuration”, “With Custom Programming” or with a “Future Release”."}]
["2.A.11","CAD Application Administration","Functional","Importing Geographic Boundaries","Should Have","Please list your solution's ability to import geographic boundary information from another source file.",null,"Cannot Meet",{"$f":"IFERROR(VLOOKUP(H55,VendorResponseLookupTbl[], 2,0), \"\")","v":" The product cannot meet the requirement “Out-of-the-Box”, “With Configuration”, “With Custom Programming” or with a “Future Release”."}]
["2.A.12","CAD Application Administration","Functional","Interactive Tools","Should Have","Please list your solution's ability to provide interactive tools to validate the accuracy and completeness of the geofile.",null,"Cannot Meet",{"$f":"IFERROR(VLOOKUP(H56,VendorResponseLookupTbl[], 2,0), \"\")","v":" The product cannot meet the requirement “Out-of-the-Box”, “With Configuration”, “With Custom Programming” or with a “Future Release”."}]
["2.A.13","CAD Application Administration","Functional","Changing Field Conditions","Must Have","Please list your solution's ability to provide tools to allow updates to the geofile to reflect changing conditions in the field, including:\n\na) New street constructions\nb) Response agency boundary realignments\nc) New site and structure construction\nd) New and changing landmarks\ne) New street names, geographic boundaries and address ranges",null,"Cannot Meet",{"$f":"IFERROR(VLOOKUP(H57,VendorResponseLookupTbl[], 2,0), \"\")","v":" The product cannot meet the requirement “Out-of-the-Box”, “With Configuration”, “With Custom Programming” or with a “Future Release”."}]
["2.A.14","CAD Application Administration","Functional","Agency-Defined Processes","Must Have","Please list your solution's ability to tailor CAD to reflect TPD processes, including:\n\na) Establishing the types of agencies and the unique agency parameters that will be included in the system\nb) Establishing and modifying the various types of resources that will be used or dispatched by the system\nc) Defining the statuses that can be assigned to resources that will be used or dispatched by the system\nd) Defining conditions for closing calls\ne) Establish disposition codes and what subsequent actions they trigger\nf) Turning timers on and off and setting timing parameters\ng) Establishing the types of events, priorities, and disposition codes that will be available to different types of units\nh) Establishing dispatch policies for each event type and agency in the system\ni) Determining the formats of agency case report numbers issued by the CAD system\nj) Establishing mutual and automatic aid agreements and their impacts on dispatch policies\nk) Establishing deployment and response plans\nl) Configuring default report formats and contents\nm) Configuring system alerts and their formats\nn) Establishing and modifying keyboard function actions\no) Establishing workflow parameters\np) Establishing workstation and user preferences",null,"Cannot Meet",{"$f":"IFERROR(VLOOKUP(H58,VendorResponseLookupTbl[], 2,0), \"\")","v":" The product cannot meet the requirement “Out-of-the-Box”, “With Configuration”, “With Custom Programming” or with a “Future Release”."}]
[]
["2.A.15","CAD Application Administration","Functional","Changing Call Priority and Response Times","Must Have","Please list your solution's ability to configure the application such that the call priority and response times change as the call type changes.",null,"Cannot Meet",{"$f":"IFERROR(VLOOKUP(H60,VendorResponseLookupTbl[], 2,0), \"\")","v":" The product cannot meet the requirement “Out-of-the-Box”, “With Configuration”, “With Custom Programming” or with a “Future Release”."}]
["2.A.16","CAD Application Administration","Functional","Call Logs","Must Have","Please list your solution's ability to keep a log of the changes to call types, priorities and response times.",null,"Cannot Meet",{"$f":"IFERROR(VLOOKUP(H61,VendorResponseLookupTbl[], 2,0), \"\")","v":" The product cannot meet the requirement “Out-of-the-Box”, “With Configuration”, “With Custom Programming” or with a “Future Release”."}]
["3.A","CAD Mapping"]
["3.A.00",{"$f":"B62","v":"CAD Mapping"}]
["3.A.01",{"$f":"B63","v":"CAD Mapping"},"Functional","Integrated CAD Mapping","Must Have","Please list your solution's ability to provide integrated CAD mapping.",null,"Cannot Meet",{"$f":"IFERROR(VLOOKUP(H64,VendorResponseLookupTbl[], 2,0), \"\")","v":" The product cannot meet the requirement “Out-of-the-Box”, “With Configuration”, “With Custom Programming” or with a “Future Release”."}]
["3.A.02","CAD Mapping","Functional","CAD Map Support","Must Have","Please list your solution's ability for integrated CAD map to support:\n\na) Primary base layer based on customer-provided geospatial data\nb) Street view\nc) Real-time traffic conditions\nd) Weather radar\ne) Overhead and oblique imagery\nf) County-defined feature classes (e.g., hydrants, police stations)",null,"Cannot Meet",{"$f":"IFERROR(VLOOKUP(H65,VendorResponseLookupTbl[], 2,0), \"\")","v":" The product cannot meet the requirement “Out-of-the-Box”, “With Configuration”, “With Custom Programming” or with a “Future Release”."}]
["3.A.03","CAD Mapping","Functional","NWS Data","Should Have","Please list your solution's ability to pull National Weather Service data (windspeed, precipitation, temperature, wind direction and humidity) into map.",null,"Cannot Meet",{"$f":"IFERROR(VLOOKUP(H66,VendorResponseLookupTbl[], 2,0), \"\")","v":" The product cannot meet the requirement “Out-of-the-Box”, “With Configuration”, “With Custom Programming” or with a “Future Release”."}]
["3.A.04","CAD Mapping","Functional","Multiple GIS Source Data","Must Have","Please list your solution's ability to ingest different types of GIS files from multiple sources for areas outside the local boundary area (e.g., web services, shape files, ESRI feature services, KMZ, geo-database format, geo-json, etc.).",null,"Cannot Meet",{"$f":"IFERROR(VLOOKUP(H67,VendorResponseLookupTbl[], 2,0), \"\")","v":" The product cannot meet the requirement “Out-of-the-Box”, “With Configuration”, “With Custom Programming” or with a “Future Release”."}]
["3.A.05","CAD Mapping","Functional","Directional Navigation","Must Have","Please list your solution's ability to navigate to a point on the map by entering:\n\na) Street address\nb) Common place name\nc) X/Y\nd) Longitude/Latitude",null,"Cannot Meet",{"$f":"IFERROR(VLOOKUP(H68,VendorResponseLookupTbl[], 2,0), \"\")","v":" The product cannot meet the requirement “Out-of-the-Box”, “With Configuration”, “With Custom Programming” or with a “Future Release”."}]
["3.A.06","CAD Mapping","Functional","Map Navigation","Must Have","Please list your solution's ability to navigate to a point on the map by clicking:\n\na) A unit\nb) An event\nc) A 9-1-1 phone number",null,"Cannot Meet",{"$f":"IFERROR(VLOOKUP(H69,VendorResponseLookupTbl[], 2,0), \"\")","v":" The product cannot meet the requirement “Out-of-the-Box”, “With Configuration”, “With Custom Programming” or with a “Future Release”."}]
["3.A.07","CAD Mapping","Functional","Zoom Level","Must Have","Please list your solution's ability to  use a mouse to \"click on\" a point at any zoom level and have the street name and latitude/longitude information displayed.",null,"Cannot Meet",{"$f":"IFERROR(VLOOKUP(H70,VendorResponseLookupTbl[], 2,0), \"\")","v":" The product cannot meet the requirement “Out-of-the-Box”, “With Configuration”, “With Custom Programming” or with a “Future Release”."}]
["3.A.08","CAD Mapping","Functional","Jurisdiction Names","Must Have","Please list your solution's ability to display jurisdiction names at all zoom levels.",null,"Cannot Meet",{"$f":"IFERROR(VLOOKUP(H71,VendorResponseLookupTbl[], 2,0), \"\")","v":" The product cannot meet the requirement “Out-of-the-Box”, “With Configuration”, “With Custom Programming” or with a “Future Release”."}]
["3.A.09","CAD Mapping","Functional","Jurisdiction Streets","Must Have","Please list your solution's ability to  display jurisdiction lines at all zoom levels.",null,"Cannot Meet",{"$f":"IFERROR(VLOOKUP(H72,VendorResponseLookupTbl[], 2,0), \"\")","v":" The product cannot meet the requirement “Out-of-the-Box”, “With Configuration”, “With Custom Programming” or with a “Future Release”."}]
["3.A.10","CAD Mapping","Functional","Unit Number Display","Must Have","Please list your solution's ability to display unit numbers at all zoom levels.",null,"Cannot Meet",{"$f":"IFERROR(VLOOKUP(H73,VendorResponseLookupTbl[], 2,0), \"\")","v":" The product cannot meet the requirement “Out-of-the-Box”, “With Configuration”, “With Custom Programming” or with a “Future Release”."}]
["3.A.11","CAD Mapping","Functional","Displaying Number of Units","Must Have","Please list your solution's ability to display the number of units at a call.",null,"Cannot Meet",{"$f":"IFERROR(VLOOKUP(H74,VendorResponseLookupTbl[], 2,0), \"\")","v":" The product cannot meet the requirement “Out-of-the-Box”, “With Configuration”, “With Custom Programming” or with a “Future Release”."}]
["3.A.12","CAD Mapping","Functional","Disabling Map Layers","Must Have","Please list your solution's ability to enable and disable the display of map layers.",null,"Cannot Meet",{"$f":"IFERROR(VLOOKUP(H75,VendorResponseLookupTbl[], 2,0), \"\")","v":" The product cannot meet the requirement “Out-of-the-Box”, “With Configuration”, “With Custom Programming” or with a “Future Release”."}]
["3.A.13","CAD Mapping","Functional","Map Status for Units","Must Have","Please list your solution's ability to distinguish units with color, shapes, text and iconography by:\n\na) Agency\nb) Type (e.g., engine, truck, one-man car, two-man car)\nc) Status (e.g., available, en route, arrived)\nd) Elapsed time (e.g., time on scene)\ne) AVL status (e.g., AVL equipped, AVL data valid)\nf) MDC status (e.g., equipped, connected)",null,"Cannot Meet",{"$f":"IFERROR(VLOOKUP(H76,VendorResponseLookupTbl[], 2,0), \"\")","v":" The product cannot meet the requirement “Out-of-the-Box”, “With Configuration”, “With Custom Programming” or with a “Future Release”."}]
["3.A.14","CAD Mapping","Functional","Display Incoming Calls","Must Have","Please list your solution's ability to display incoming calls, units and events on the same map.",null,"Cannot Meet",{"$f":"IFERROR(VLOOKUP(H77,VendorResponseLookupTbl[], 2,0), \"\")","v":" The product cannot meet the requirement “Out-of-the-Box”, “With Configuration”, “With Custom Programming” or with a “Future Release”."}]
["3.A.15","CAD Mapping","Functional","Filtering Incoming Calls","Must Have","Please list your solution's ability to filter the display of incoming calls by:\n\na) Show calls/do not show calls\nb) Geographical boundary\nc) User-defined polygon",null,"Cannot Meet",{"$f":"IFERROR(VLOOKUP(H78,VendorResponseLookupTbl[], 2,0), \"\")","v":" The product cannot meet the requirement “Out-of-the-Box”, “With Configuration”, “With Custom Programming” or with a “Future Release”."}]
["3.A.16","CAD Mapping","Functional","Filtering Units Displayed","Must Have","Please list your solution's ability for users to filter the display of units by:\n\na) Agency\nb) Dispatch group\nc) Unit status\nd) Geographical boundary (e/g/, sector, division, battalion)\ne) Uder-defined polygon",null,"Cannot Meet",{"$f":"IFERROR(VLOOKUP(H79,VendorResponseLookupTbl[], 2,0), \"\")","v":" The product cannot meet the requirement “Out-of-the-Box”, “With Configuration”, “With Custom Programming” or with a “Future Release”."}]
["3.A.17","CAD Mapping","Functional","Visual Indicators","Must Have","Please list your solution's ability for map to display a visual indicator of changes in unit:\n\na) Status\nb) Location",null,"Cannot Meet",{"$f":"IFERROR(VLOOKUP(H80,VendorResponseLookupTbl[], 2,0), \"\")","v":" The product cannot meet the requirement “Out-of-the-Box”, “With Configuration”, “With Custom Programming” or with a “Future Release”."}]
["3.A.18","CAD Mapping","Functional","Filtering Events","Must Have","Please list your solution's ability for users to filter the display of events by:\n\na) Agency\nb) Dispatch group\nc) Event status\nd) Geographical boundary (e.g., sector, division, battalion)\ne) User-defined polygon",null,"Cannot Meet",{"$f":"IFERROR(VLOOKUP(H81,VendorResponseLookupTbl[], 2,0), \"\")","v":" The product cannot meet the requirement “Out-of-the-Box”, “With Configuration”, “With Custom Programming” or with a “Future Release”."}]
["3.A.19","CAD Mapping","Functional","User-Defined Map Layers","Must Have","Please list your solution's ability for users to define which map layers are displayed.",null,"Cannot Meet",{"$f":"IFERROR(VLOOKUP(H82,VendorResponseLookupTbl[], 2,0), \"\")","v":" The product cannot meet the requirement “Out-of-the-Box”, “With Configuration”, “With Custom Programming” or with a “Future Release”."}]
["3.A.20","CAD Mapping","Functional","Agency-Defined Mandatory Layers","Must Have","Please list your solution's ability for agency to define which map layers are mandatory to display .",null,"Cannot Meet",{"$f":"IFERROR(VLOOKUP(H83,VendorResponseLookupTbl[], 2,0), \"\")","v":" The product cannot meet the requirement “Out-of-the-Box”, “With Configuration”, “With Custom Programming” or with a “Future Release”."}]
["3.A.21","CAD Mapping","Functional","Indicating Additional Information","Must Have","Please list your solution's ability to  indicate that additional information (e.g., attached files or additional map layer data) is associated with a location displayed on the map.",null,"Cannot Meet",{"$f":"IFERROR(VLOOKUP(H84,VendorResponseLookupTbl[], 2,0), \"\")","v":" The product cannot meet the requirement “Out-of-the-Box”, “With Configuration”, “With Custom Programming” or with a “Future Release”."}]
["3.A.22","CAD Mapping","Functional","Supplemental Map Information","Must Have","Please list your solution's ability to click on a location on a map and pull up any supplemental information (e.g., fire pre-plan, hazards, incident history) associated with a customer-defined perimeter around the location (address, building, block).",null,"Cannot Meet",{"$f":"IFERROR(VLOOKUP(H85,VendorResponseLookupTbl[], 2,0), \"\")","v":" The product cannot meet the requirement “Out-of-the-Box”, “With Configuration”, “With Custom Programming” or with a “Future Release”."}]
["3.A.23","CAD Mapping","Functional","Map Navigation Functionality","Must Have","Please list your solution's ability to provide users with the following map navigation functionality:\n\na) Pan from given area to adjacent area\nb) Return back to previous view\nc) Zoom in on area for enhanced detail\nd) Zoom out of an area\ne) Move up and down\nf) Move left and right",null,"Cannot Meet",{"$f":"IFERROR(VLOOKUP(H86,VendorResponseLookupTbl[], 2,0), \"\")","v":" The product cannot meet the requirement “Out-of-the-Box”, “With Configuration”, “With Custom Programming” or with a “Future Release”."}]
["3.A.24","CAD Mapping","Functional","GPS Device \nDisplay","Must Have","Please list your solution's ability to display the location of any GPS-equipped mobile device including:\n\na) Mobile computers\nb) Mobile phones\nc) Tablets\nd) Radio subscriber units\ne) Body-worn cameras",null,"Cannot Meet",{"$f":"IFERROR(VLOOKUP(H87,VendorResponseLookupTbl[], 2,0), \"\")","v":" The product cannot meet the requirement “Out-of-the-Box”, “With Configuration”, “With Custom Programming” or with a “Future Release”."}]
["3.A.25","CAD Mapping","Functional","GPS Device \nDisplay Assigned Officer","Must Have","Please list your solution's ability to  display the person or unit to which a device is connected.",null,"Cannot Meet",{"$f":"IFERROR(VLOOKUP(H88,VendorResponseLookupTbl[], 2,0), \"\")","v":" The product cannot meet the requirement “Out-of-the-Box”, “With Configuration”, “With Custom Programming” or with a “Future Release”."}]
["3.A.26","CAD Mapping","Functional","GPS Device \nDisplay Filtering ","Must Have","Please list your solution's ability to filter display of location of GPS-equipped devices by:\n\na) Type of device\nb) Status\nc) Location (e.g., within a user-drawn polygon or pre-determined geographical area such as city)",null,"Cannot Meet",{"$f":"IFERROR(VLOOKUP(H89,VendorResponseLookupTbl[], 2,0), \"\")","v":" The product cannot meet the requirement “Out-of-the-Box”, “With Configuration”, “With Custom Programming” or with a “Future Release”."}]
["4.A","Call Handling"]
["4.A.00","Call Receipt"]
["4.A.01","Call Receipt","Functional","Event and Field Data Population","Must Have","Please list your solution's ability for call takers to create a new event and populate fields with any location, name and phone information from external Functional Elements.",null,"Cannot Meet",{"$f":"IFERROR(VLOOKUP(H92,VendorResponseLookupTbl[], 2,0), \"\")","v":" The product cannot meet the requirement “Out-of-the-Box”, “With Configuration”, “With Custom Programming” or with a “Future Release”."}]
["4.A.02","Call Receipt","Functional","Displaying Multiple Events","Must Have","Please list your solution's ability to  display multiple event creation screens (to allow call takers to work multiple calls at the same time).",null,"Cannot Meet",{"$f":"IFERROR(VLOOKUP(H93,VendorResponseLookupTbl[], 2,0), \"\")","v":" The product cannot meet the requirement “Out-of-the-Box”, “With Configuration”, “With Custom Programming” or with a “Future Release”."}]
["4.A.03","Call Receipt","Functional","Call Data\nMultiple Interfaces","Must Have","Please list your solution's ability to receive call data from the following, assuming appropriate interfaces are in place:\n\na) E9-1-1 Phone System\nb) ESInet\nc) Text to 9-1-1\nd) TTY\ne) Private alarm companies (ASAP)",null,"Cannot Meet",{"$f":"IFERROR(VLOOKUP(H94,VendorResponseLookupTbl[], 2,0), \"\")","v":" The product cannot meet the requirement “Out-of-the-Box”, “With Configuration”, “With Custom Programming” or with a “Future Release”."}]
["4.A.04","Call Receipt","Functional","IP-Based Incident Data","Must Have","Please list your solution's ability to  accept and process IP-based incident data.",null,"Cannot Meet",{"$f":"IFERROR(VLOOKUP(H95,VendorResponseLookupTbl[], 2,0), \"\")","v":" The product cannot meet the requirement “Out-of-the-Box”, “With Configuration”, “With Custom Programming” or with a “Future Release”."}]
["4.A.05","Call Receipt","Functional","Imported Location Information","Must Have","Please list your solution's ability to import updated location information from rebidding wireless 9-1-1 caller’s from the telephone system into an appropriate area of the CAD event data entry screen.",null,"Cannot Meet",{"$f":"IFERROR(VLOOKUP(H96,VendorResponseLookupTbl[], 2,0), \"\")","v":" The product cannot meet the requirement “Out-of-the-Box”, “With Configuration”, “With Custom Programming” or with a “Future Release”."}]
["4.A.06","Call Receipt","Functional","Incoming Calls","Must Have","Please list your solution's ability to view location of incoming calls on CAD map.",null,"Cannot Meet",{"$f":"IFERROR(VLOOKUP(H97,VendorResponseLookupTbl[], 2,0), \"\")","v":" The product cannot meet the requirement “Out-of-the-Box”, “With Configuration”, “With Custom Programming” or with a “Future Release”."}]
["4.A.07","Call Receipt","Functional","Classes of Service","Must Have","Please list your solution's ability to distinguish between different classes of service on map by using different symbols, colors and/or text.",null,"Cannot Meet",{"$f":"IFERROR(VLOOKUP(H98,VendorResponseLookupTbl[], 2,0), \"\")","v":" The product cannot meet the requirement “Out-of-the-Box”, “With Configuration”, “With Custom Programming” or with a “Future Release”."}]
["4.A.08","Call Receipt","Functional","Filtering CAD Map","Must Have","Please list your solution's ability to filter CAD map to view:\n\na) 9-1-1 calls answered at current workstation\nb) All incoming 9-1-1 calls",null,"Cannot Meet",{"$f":"IFERROR(VLOOKUP(H99,VendorResponseLookupTbl[], 2,0), \"\")","v":" The product cannot meet the requirement “Out-of-the-Box”, “With Configuration”, “With Custom Programming” or with a “Future Release”."}]
["4.B.00","Event Information Collection"]
["4.B.01","Event Information Collection","Functional","Event Entry Screen","Must Have","Please list your solution's ability for a new event entry screen to open when the call taker answers the phone.",null,"Cannot Meet",{"$f":"IFERROR(VLOOKUP(H101,VendorResponseLookupTbl[], 2,0), \"\")","v":" The product cannot meet the requirement “Out-of-the-Box”, “With Configuration”, “With Custom Programming” or with a “Future Release”."}]
["4.B.02","Event Information Collection","Functional","User-Choice Data Auto-Populated","Must Have","Please list your solution's ability for call taker to choose whether or not to accept pre-populated ANI/ALI information when creating a new event.",null,"Cannot Meet",{"$f":"IFERROR(VLOOKUP(H102,VendorResponseLookupTbl[], 2,0), \"\")","v":" The product cannot meet the requirement “Out-of-the-Box”, “With Configuration”, “With Custom Programming” or with a “Future Release”."}]
["4.B.03","Event Information Collection","Functional","Call/Event Times","Must Have","Please list your solution's ability to provide fields to capture:\n\na) Call ring time\nb) Call answer time\nc) Event create time",null,"Cannot Meet",{"$f":"IFERROR(VLOOKUP(H103,VendorResponseLookupTbl[], 2,0), \"\")","v":" The product cannot meet the requirement “Out-of-the-Box”, “With Configuration”, “With Custom Programming” or with a “Future Release”."}]
["4.B.04","Event Information Collection","Functional","Incident Information \nPreformatted Screens","Must Have","Please list your solution's ability to  enter incident information using preformatted screens.",null,"Cannot Meet",{"$f":"IFERROR(VLOOKUP(H104,VendorResponseLookupTbl[], 2,0), \"\")","v":" The product cannot meet the requirement “Out-of-the-Box”, “With Configuration”, “With Custom Programming” or with a “Future Release”."}]
["4.B.05","Event Information Collection","Functional","Incident Information \nCommand Lines","Must Have","Please list your solution's ability to  enter incident information using command lines.",null,"Cannot Meet",{"$f":"IFERROR(VLOOKUP(H105,VendorResponseLookupTbl[], 2,0), \"\")","v":" The product cannot meet the requirement “Out-of-the-Box”, “With Configuration”, “With Custom Programming” or with a “Future Release”."}]
["4.B.06","Event Information Collection","Functional","Interfaces","Must Have","Please list your solution's ability to  import and process data from third party systems and databases (e.g., functional needs registries), including:\n\na) Emergency notification system\nb) RapidSOS\nc) PulsePoint\nd) RapidDeploy\ne) EDC CAD-to-CAD system",null,"Cannot Meet",{"$f":"IFERROR(VLOOKUP(H106,VendorResponseLookupTbl[], 2,0), \"\")","v":" The product cannot meet the requirement “Out-of-the-Box”, “With Configuration”, “With Custom Programming” or with a “Future Release”."}]
["4.B.07","Event Information Collection","Functional","Visual Indicators","Must Have","Please list your solution's ability to visually identify mandatory fields on the call entry screen.",null,"Cannot Meet",{"$f":"IFERROR(VLOOKUP(H107,VendorResponseLookupTbl[], 2,0), \"\")","v":" The product cannot meet the requirement “Out-of-the-Box”, “With Configuration”, “With Custom Programming” or with a “Future Release”."}]
["4.B.08","Event Information Collection","Functional","Call Prevention","Must Have","Please list your solution's ability to prevent acceptance of a call until all mandatory fields are completed.",null,"Cannot Meet",{"$f":"IFERROR(VLOOKUP(H108,VendorResponseLookupTbl[], 2,0), \"\")","v":" The product cannot meet the requirement “Out-of-the-Box”, “With Configuration”, “With Custom Programming” or with a “Future Release”."}]
["4.B.09","Event Information Collection","Functional","Keyword Highlights","Must Have","Please list your solution's ability to automatically highlight agency-designated keywords (e.g., gun, weapon, command post).",null,"Cannot Meet",{"$f":"IFERROR(VLOOKUP(H109,VendorResponseLookupTbl[], 2,0), \"\")","v":" The product cannot meet the requirement “Out-of-the-Box”, “With Configuration”, “With Custom Programming” or with a “Future Release”."}]
["4.B.10","Event Information Collection","Functional","Color Coding Roles","Must Have","Please list your solution's ability to color code role of person entering a comment (e.g., call taker, dispatcher, officer).",null,"Cannot Meet",{"$f":"IFERROR(VLOOKUP(H110,VendorResponseLookupTbl[], 2,0), \"\")","v":" The product cannot meet the requirement “Out-of-the-Box”, “With Configuration”, “With Custom Programming” or with a “Future Release”."}]
["4.B.11","Event Information Collection","Functional","Manual Text Highlighting","Must Have","Please list your solution's ability  for call takers to manually highlight text in the call comments.",null,"Cannot Meet",{"$f":"IFERROR(VLOOKUP(H111,VendorResponseLookupTbl[], 2,0), \"\")","v":" The product cannot meet the requirement “Out-of-the-Box”, “With Configuration”, “With Custom Programming” or with a “Future Release”."}]
["4.B.12","Event Information Collection","Functional","Text Field Boxes","Must Have","Please list your solution's ability  for narrative fields to have the following attributes:\n\na) Unlimited number of characters\nb) Word wrap\nc) Full comment field display",null,"Cannot Meet",{"$f":"IFERROR(VLOOKUP(H112,VendorResponseLookupTbl[], 2,0), \"\")","v":" The product cannot meet the requirement “Out-of-the-Box”, “With Configuration”, “With Custom Programming” or with a “Future Release”."}]
["4.B.13","Event Information Collection","Functional","Identifying Information","Must Have","Please list your solution's ability to provide fields to capture:\n\na) Person information\nb) Vehicle information\nc) Location information (Address, X,Y,Z)\nd) Article information",null,"Cannot Meet",{"$f":"IFERROR(VLOOKUP(H113,VendorResponseLookupTbl[], 2,0), \"\")","v":" The product cannot meet the requirement “Out-of-the-Box”, “With Configuration”, “With Custom Programming” or with a “Future Release”."}]
["4.B.14","Event Information Collection","Functional","Data Entry\nCommand Line","Must Have","Please list your solution's ability to use the command line to enter information about:\n\na) Persons\nb) Vehicles\nc) Locations\nd) Articles",null,"Cannot Meet",{"$f":"IFERROR(VLOOKUP(H114,VendorResponseLookupTbl[], 2,0), \"\")","v":" The product cannot meet the requirement “Out-of-the-Box”, “With Configuration”, “With Custom Programming” or with a “Future Release”."}]
["4.B.15","Event Information Collection","Functional","Data Entry\nAuto-Population","Must Have","Please list your solution's ability to populate appropriate fields upon entry in the command line of:\n\na) Person information\nb) Vehicle information\nc) Location information (Address, X, Y, Z)\nd) Article information",null,"Cannot Meet",{"$f":"IFERROR(VLOOKUP(H115,VendorResponseLookupTbl[], 2,0), \"\")","v":" The product cannot meet the requirement “Out-of-the-Box”, “With Configuration”, “With Custom Programming” or with a “Future Release”."}]
["4.B.16","Event Information Collection","Functional","CCIC/NCIC","Must Have","Please list your solution's ability to initiate a query to CCIC/NCIC if the minimum required information is entered for an individual or vehicle.",null,"Cannot Meet",{"$f":"IFERROR(VLOOKUP(H116,VendorResponseLookupTbl[], 2,0), \"\")","v":" The product cannot meet the requirement “Out-of-the-Box”, “With Configuration”, “With Custom Programming” or with a “Future Release”."}]
["4.B.17","Event Information Collection","Functional","Hazard Information Retrieval","Must Have","Please list your solution's ability to retrieve premise or hazard information associated with a location.",null,"Cannot Meet",{"$f":"IFERROR(VLOOKUP(H117,VendorResponseLookupTbl[], 2,0), \"\")","v":" The product cannot meet the requirement “Out-of-the-Box”, “With Configuration”, “With Custom Programming” or with a “Future Release”."}]
["4.B.18","Event Information Collection","Functional","TTY/TDD","Must Have","Please list your solution's ability to capture conversations using the TTY/TDD functionality available in the phone system.",null,"Cannot Meet",{"$f":"IFERROR(VLOOKUP(H118,VendorResponseLookupTbl[], 2,0), \"\")","v":" The product cannot meet the requirement “Out-of-the-Box”, “With Configuration”, “With Custom Programming” or with a “Future Release”."}]
["4.B.19","Event Information Collection","Functional","Canned Messages","Must Have","Please list your solution's ability for users to configure “canned messages” that can be sent to the caller.",null,"Cannot Meet",{"$f":"IFERROR(VLOOKUP(H119,VendorResponseLookupTbl[], 2,0), \"\")","v":" The product cannot meet the requirement “Out-of-the-Box”, “With Configuration”, “With Custom Programming” or with a “Future Release”."}]
["4.B.20","Event Information Collection","Functional","Text-Based Conversations","Must Have","Please list your solution's ability to capture text-based conversations as supported by the phone system.",null,"Cannot Meet",{"$f":"IFERROR(VLOOKUP(H120,VendorResponseLookupTbl[], 2,0), \"\")","v":" The product cannot meet the requirement “Out-of-the-Box”, “With Configuration”, “With Custom Programming” or with a “Future Release”."}]
["4.B.21","Event Information Collection","Functional","Functional Needs Registries","Must Have","Please list your solution's ability to import and process data from third party systems and databases (e.g., functional needs registries).",null,"Cannot Meet",{"$f":"IFERROR(VLOOKUP(H121,VendorResponseLookupTbl[], 2,0), \"\")","v":" The product cannot meet the requirement “Out-of-the-Box”, “With Configuration”, “With Custom Programming” or with a “Future Release”."}]
["4.B.22","Event Information Collection","Functional","SMS Messages\nSending","Must Have","Please list your solution's ability to  send SMS based messages.",null,"Cannot Meet",{"$f":"IFERROR(VLOOKUP(H122,VendorResponseLookupTbl[], 2,0), \"\")","v":" The product cannot meet the requirement “Out-of-the-Box”, “With Configuration”, “With Custom Programming” or with a “Future Release”."}]
["4.B.23","Event Information Collection","Functional","SMS Messages\nReceiving","Must Have","Please list your solution's ability to receive SMS based messages.",null,"Cannot Meet",{"$f":"IFERROR(VLOOKUP(H123,VendorResponseLookupTbl[], 2,0), \"\")","v":" The product cannot meet the requirement “Out-of-the-Box”, “With Configuration”, “With Custom Programming” or with a “Future Release”."}]
["4.B.24","Event Information Collection","Functional","Initiating 2-way Texts","Must Have","Please list your solution's ability to  initiate a two-way text messaging conversation.",null,"Cannot Meet",{"$f":"IFERROR(VLOOKUP(H124,VendorResponseLookupTbl[], 2,0), \"\")","v":" The product cannot meet the requirement “Out-of-the-Box”, “With Configuration”, “With Custom Programming” or with a “Future Release”."}]
["4.B.25","Event Information Collection","Functional","Initiating Live Video Streaming","Must Have","Please list your solution's ability to initiate a live video streaming session with a caller.",null,"Cannot Meet",{"$f":"IFERROR(VLOOKUP(H125,VendorResponseLookupTbl[], 2,0), \"\")","v":" The product cannot meet the requirement “Out-of-the-Box”, “With Configuration”, “With Custom Programming” or with a “Future Release”."}]
["4.B.26","Event Information Collection","Functional","Event Printing\nActive Screen","Must Have","Please list your solution's ability  for dispatchers to print an event from an active call screen (without having system administration privileges).",null,"Cannot Meet",{"$f":"IFERROR(VLOOKUP(H126,VendorResponseLookupTbl[], 2,0), \"\")","v":" The product cannot meet the requirement “Out-of-the-Box”, “With Configuration”, “With Custom Programming” or with a “Future Release”."}]
["4.B.27","Event Information Collection","Functional","Adding Attachments","Should Have","Please list your solution's ability to  add attachments to the event:\n\na) Emails\nb) Pictures\nc) Videos\nd) Audio Recordings\ne) Files\nf) Other",null,"Cannot Meet",{"$f":"IFERROR(VLOOKUP(H127,VendorResponseLookupTbl[], 2,0), \"\")","v":" The product cannot meet the requirement “Out-of-the-Box”, “With Configuration”, “With Custom Programming” or with a “Future Release”."}]
["4.B.28","Event Information Collection","Functional","Attaching Without Saving","Should Have","Please list your solution's ability to scan a document and attach it to an event without first saving the document to the computer.",null,"Cannot Meet",{"$f":"IFERROR(VLOOKUP(H128,VendorResponseLookupTbl[], 2,0), \"\")","v":" The product cannot meet the requirement “Out-of-the-Box”, “With Configuration”, “With Custom Programming” or with a “Future Release”."}]
["4.C.00","CAD Event Creation"]
["4.C.01","CAD Event Creation","Functional","Time Stamps\nEvent Transactions","Must Have","Please list your solution's ability to log and time stamp transactions associated with events:\n\na) Event creation\nb) Event updates\nc) Unit recommendations\nd) Unit dispatches\ne) Event clearances\nf) Event comments and notes",null,"Cannot Meet",{"$f":"IFERROR(VLOOKUP(H130,VendorResponseLookupTbl[], 2,0), \"\")","v":" The product cannot meet the requirement “Out-of-the-Box”, “With Configuration”, “With Custom Programming” or with a “Future Release”."}]
["4.C.02","CAD Event Creation","Functional","Event Creation","Must Have","Please list your solution's ability for users to generate events at any time after the minimum mandatory amount of information required to create an event is entered.",null,"Cannot Meet",{"$f":"IFERROR(VLOOKUP(H131,VendorResponseLookupTbl[], 2,0), \"\")","v":" The product cannot meet the requirement “Out-of-the-Box”, “With Configuration”, “With Custom Programming” or with a “Future Release”."}]
["4.C.03","CAD Event Creation","Functional","Automatic Assignment","Must Have","Please list your solution's ability for system to automatically assign an event to a dispatch group based on:\n\na) Incident type code\nb) Location\nc) Agency",null,"Cannot Meet",{"$f":"IFERROR(VLOOKUP(H132,VendorResponseLookupTbl[], 2,0), \"\")","v":" The product cannot meet the requirement “Out-of-the-Box”, “With Configuration”, “With Custom Programming” or with a “Future Release”."}]
["4.C.04","CAD Event Creation","Functional","Override Dispatch Group","Must Have","Please list your solution's ability to override default dispatch group.",null,"Cannot Meet",{"$f":"IFERROR(VLOOKUP(H133,VendorResponseLookupTbl[], 2,0), \"\")","v":" The product cannot meet the requirement “Out-of-the-Box”, “With Configuration”, “With Custom Programming” or with a “Future Release”."}]
["4.C.05","CAD Event Creation","Functional","Event Queue","Must Have","Please list your solution's ability for events to appear in the queue for the appropriate dispatch area.",null,"Cannot Meet",{"$f":"IFERROR(VLOOKUP(H134,VendorResponseLookupTbl[], 2,0), \"\")","v":" The product cannot meet the requirement “Out-of-the-Box”, “With Configuration”, “With Custom Programming” or with a “Future Release”."}]
["4.C.06","CAD Event Creation","Functional","Continuous Updates","Must Have","Please list your solution's ability for call takers to continue updating the event after creating the event.",null,"Cannot Meet",{"$f":"IFERROR(VLOOKUP(H135,VendorResponseLookupTbl[], 2,0), \"\")","v":" The product cannot meet the requirement “Out-of-the-Box”, “With Configuration”, “With Custom Programming” or with a “Future Release”."}]
["4.C.07","CAD Event Creation","Functional","Event Creation\nWithout Dispatch","Must Have","Please list your solution's ability  for call takers to create events that do not require dispatch.",null,"Cannot Meet",{"$f":"IFERROR(VLOOKUP(H136,VendorResponseLookupTbl[], 2,0), \"\")","v":" The product cannot meet the requirement “Out-of-the-Box”, “With Configuration”, “With Custom Programming” or with a “Future Release”."}]
["4.C.08","CAD Event Creation","Functional","Event Creation\nRecurring Events","Must Have","Please list your solution's ability for call takers to create recurring events.",null,"Cannot Meet",{"$f":"IFERROR(VLOOKUP(H137,VendorResponseLookupTbl[], 2,0), \"\")","v":" The product cannot meet the requirement “Out-of-the-Box”, “With Configuration”, “With Custom Programming” or with a “Future Release”."}]
["4.C.09","CAD Event Creation","Functional","Event Creation\nScheduled Events","Must Have","Please list your solution's ability  for call takers to create scheduled events.",null,"Cannot Meet",{"$f":"IFERROR(VLOOKUP(H138,VendorResponseLookupTbl[], 2,0), \"\")","v":" The product cannot meet the requirement “Out-of-the-Box”, “With Configuration”, “With Custom Programming” or with a “Future Release”."}]
["4.D.00","Event Classification and Prioritization"]
["4.D.01","Event Classification and Prioritization","Functional","Defining Incident Type Codes","Must Have","Please list your solution's ability for customer to define incident type codes.",null,"Cannot Meet",{"$f":"IFERROR(VLOOKUP(H140,VendorResponseLookupTbl[], 2,0), \"\")","v":" The product cannot meet the requirement “Out-of-the-Box”, “With Configuration”, “With Custom Programming” or with a “Future Release”."}]
["4.D.02","Event Classification and Prioritization","Functional","Defining Priority and Response Criteria","Must Have","Please list your solution's ability to define priority and response criteria by agency, based upon:\n\na) Agency\nb) Geographical response area\nc) Response plans\nd) Deployment plans",null,"Cannot Meet",{"$f":"IFERROR(VLOOKUP(H141,VendorResponseLookupTbl[], 2,0), \"\")","v":" The product cannot meet the requirement “Out-of-the-Box”, “With Configuration”, “With Custom Programming” or with a “Future Release”."}]
["4.D.03","Event Classification and Prioritization","Functional","Drop-Down Lists\nIncident Codes","Must Have","Please list your solution's ability to display a drop-down list containing incident type codes and sub-type codes.",null,"Cannot Meet",{"$f":"IFERROR(VLOOKUP(H142,VendorResponseLookupTbl[], 2,0), \"\")","v":" The product cannot meet the requirement “Out-of-the-Box”, “With Configuration”, “With Custom Programming” or with a “Future Release”."}]
["4.D.04","Event Classification and Prioritization","Functional","Agency-Defined Code Lists","Must Have","Please list your solution's ability to display codes only for a given agency.",null,"Cannot Meet",{"$f":"IFERROR(VLOOKUP(H143,VendorResponseLookupTbl[], 2,0), \"\")","v":" The product cannot meet the requirement “Out-of-the-Box”, “With Configuration”, “With Custom Programming” or with a “Future Release”."}]
["4.D.05","Event Classification and Prioritization","Functional","Creating Test Calls","Must Have","Please list your solution's ability to create test calls that do not generate an incident number (so that the fire agency does not need to write a report).",null,"Cannot Meet",{"$f":"IFERROR(VLOOKUP(H144,VendorResponseLookupTbl[], 2,0), \"\")","v":" The product cannot meet the requirement “Out-of-the-Box”, “With Configuration”, “With Custom Programming” or with a “Future Release”."}]
["4.D.06","Event Classification and Prioritization","Functional","Drop-Down Lists\nShortened Codes","Must Have","Please list your solution's ability for drop-down list to display shortened codes.",null,"Cannot Meet",{"$f":"IFERROR(VLOOKUP(H145,VendorResponseLookupTbl[], 2,0), \"\")","v":" The product cannot meet the requirement “Out-of-the-Box”, “With Configuration”, “With Custom Programming” or with a “Future Release”."}]
["4.D.07","Event Classification and Prioritization","Functional","Full Code Display","Must Have","Please list your solution's ability for a User to hover over a shortened code to display the full code.",null,"Cannot Meet",{"$f":"IFERROR(VLOOKUP(H146,VendorResponseLookupTbl[], 2,0), \"\")","v":" The product cannot meet the requirement “Out-of-the-Box”, “With Configuration”, “With Custom Programming” or with a “Future Release”."}]
["4.D.08","Event Classification and Prioritization","Functional","Type Code Entry","Must Have","Please list your solution's ability to  enter a type code by:\n\na) Selecting from a drop down list within the incident type field\nb) Typing the code in the appropriate field\nc) Entering a command in the command line",null,"Cannot Meet",{"$f":"IFERROR(VLOOKUP(H147,VendorResponseLookupTbl[], 2,0), \"\")","v":" The product cannot meet the requirement “Out-of-the-Box”, “With Configuration”, “With Custom Programming” or with a “Future Release”."}]
["4.D.09","Event Classification and Prioritization","Functional","Disabling Obsolete Call Types","Must Have","Please list your solution's ability to  prevent obsolete call types from displaying in the drop down list.",null,"Cannot Meet",{"$f":"IFERROR(VLOOKUP(H148,VendorResponseLookupTbl[], 2,0), \"\")","v":" The product cannot meet the requirement “Out-of-the-Box”, “With Configuration”, “With Custom Programming” or with a “Future Release”."}]
["4.D.10","Event Classification and Prioritization","Functional","Job Aides per Type Code","Must Have","Please list your solution's ability to  retrieve a job aid (e.g., SOP) attached to an incident type code.",null,"Cannot Meet",{"$f":"IFERROR(VLOOKUP(H149,VendorResponseLookupTbl[], 2,0), \"\")","v":" The product cannot meet the requirement “Out-of-the-Box”, “With Configuration”, “With Custom Programming” or with a “Future Release”."}]
["4.D.11","Event Classification and Prioritization","Functional","Auto-Populate Fields\nBy Incident Type","Must Have","Please list your solution's ability to  auto populate the incident priority field based on the incident type.",null,"Cannot Meet",{"$f":"IFERROR(VLOOKUP(H150,VendorResponseLookupTbl[], 2,0), \"\")","v":" The product cannot meet the requirement “Out-of-the-Box”, “With Configuration”, “With Custom Programming” or with a “Future Release”."}]
["4.D.12","Event Classification and Prioritization","Functional","Override Incident Priority","Must Have","Please list your solution's ability for user to override incident priority.",null,"Cannot Meet",{"$f":"IFERROR(VLOOKUP(H151,VendorResponseLookupTbl[], 2,0), \"\")","v":" The product cannot meet the requirement “Out-of-the-Box”, “With Configuration”, “With Custom Programming” or with a “Future Release”."}]
["4.D.13","Event Classification and Prioritization","Functional","Audit Trails","Must Have","Please list your solution's ability to  log original and overridden incident priority.",null,"Cannot Meet",{"$f":"IFERROR(VLOOKUP(H152,VendorResponseLookupTbl[], 2,0), \"\")","v":" The product cannot meet the requirement “Out-of-the-Box”, “With Configuration”, “With Custom Programming” or with a “Future Release”."}]
["4.D.14","Event Classification and Prioritization","Functional","Upgrade/Downgrade\nIncident Classification","Must Have","Please list your solution's ability to upgrade or downgrade the incident classification during the course of managing the event.",null,"Cannot Meet",{"$f":"IFERROR(VLOOKUP(H153,VendorResponseLookupTbl[], 2,0), \"\")","v":" The product cannot meet the requirement “Out-of-the-Box”, “With Configuration”, “With Custom Programming” or with a “Future Release”."}]
["4.D.15","Event Classification and Prioritization","Functional","Incident Classifications and Priorities","Must Have","Please list your solution's ability to capture original and new incident classifications and priorities.",null,"Cannot Meet",{"$f":"IFERROR(VLOOKUP(H154,VendorResponseLookupTbl[], 2,0), \"\")","v":" The product cannot meet the requirement “Out-of-the-Box”, “With Configuration”, “With Custom Programming” or with a “Future Release”."}]
["4.D.16","Event Classification and Prioritization","Functional","Multiple Incident Types and Priorities","Must Have","Please list your solution's ability to capture multiple incident types and priorities for multidiscipline incidents.",null,"Cannot Meet",{"$f":"IFERROR(VLOOKUP(H155,VendorResponseLookupTbl[], 2,0), \"\")","v":" The product cannot meet the requirement “Out-of-the-Box”, “With Configuration”, “With Custom Programming” or with a “Future Release”."}]
["4.D.17","Event Classification and Prioritization","Functional","User-Defined Location Priority","Must Have","Please list your solution's ability  for an authorized user to assign a priority to a location for a user-defined period of time.",null,"Cannot Meet",{"$f":"IFERROR(VLOOKUP(H156,VendorResponseLookupTbl[], 2,0), \"\")","v":" The product cannot meet the requirement “Out-of-the-Box”, “With Configuration”, “With Custom Programming” or with a “Future Release”."}]
["4.D.18","Event Classification and Prioritization","Functional","Responding Agencies","Must Have","Please list your solution's ability to determine the responding agency and service area from the incident type code and incident location.",null,"Cannot Meet",{"$f":"IFERROR(VLOOKUP(H157,VendorResponseLookupTbl[], 2,0), \"\")","v":" The product cannot meet the requirement “Out-of-the-Box”, “With Configuration”, “With Custom Programming” or with a “Future Release”."}]
["4.D.19","Event Classification and Prioritization","Functional","Zoom to Event","Must Have","Please list your solution's ability to zoom to location on map upon creation of a new event.",null,"Cannot Meet",{"$f":"IFERROR(VLOOKUP(H158,VendorResponseLookupTbl[], 2,0), \"\")","v":" The product cannot meet the requirement “Out-of-the-Box”, “With Configuration”, “With Custom Programming” or with a “Future Release”."}]
["4.E.00","Location Verification"]
["4.E.01","Location Verification","Functional","Location and Address Verification","Must Have","Please list your solution's ability to verify locations for any address entered into the system (e.g., CAD incident address, field-entered, manual entry to research a location).",null,"Cannot Meet",{"$f":"IFERROR(VLOOKUP(H160,VendorResponseLookupTbl[], 2,0), \"\")","v":" The product cannot meet the requirement “Out-of-the-Box”, “With Configuration”, “With Custom Programming” or with a “Future Release”."}]
["4.E.02","Location Verification","Functional","Verification Outside of Thornton","Should Have","Please list your solution's ability to verify addresses outside of the City of Thornton (assuming in geofile source data).",null,"Cannot Meet",{"$f":"IFERROR(VLOOKUP(H161,VendorResponseLookupTbl[], 2,0), \"\")","v":" The product cannot meet the requirement “Out-of-the-Box”, “With Configuration”, “With Custom Programming” or with a “Future Release”."}]
["4.E.03","Location Verification","Functional","City and Jurisdiction Verification","Must Have","Please list your solution's ability to verify cities and jurisdictions.",null,"Cannot Meet",{"$f":"IFERROR(VLOOKUP(H162,VendorResponseLookupTbl[], 2,0), \"\")","v":" The product cannot meet the requirement “Out-of-the-Box”, “With Configuration”, “With Custom Programming” or with a “Future Release”."}]
["4.E.04","Location Verification","Functional","Class of Service Validation","Must Have","Please list your solution's ability to support call class of service location validation from cellular callers.",null,"Cannot Meet",{"$f":"IFERROR(VLOOKUP(H163,VendorResponseLookupTbl[], 2,0), \"\")","v":" The product cannot meet the requirement “Out-of-the-Box”, “With Configuration”, “With Custom Programming” or with a “Future Release”."}]
["4.E.05","Location Verification","Functional","ALI Location Verification","Must Have","Please list your solution's ability to use the ALI reported location address for address verification.",null,"Cannot Meet",{"$f":"IFERROR(VLOOKUP(H164,VendorResponseLookupTbl[], 2,0), \"\")","v":" The product cannot meet the requirement “Out-of-the-Box”, “With Configuration”, “With Custom Programming” or with a “Future Release”."}]
["4.E.06","Location Verification","Functional","Unverified Address\nEntry","Must Have","Please list your solution's ability to enter an unverified address.",null,"Cannot Meet",{"$f":"IFERROR(VLOOKUP(H165,VendorResponseLookupTbl[], 2,0), \"\")","v":" The product cannot meet the requirement “Out-of-the-Box”, “With Configuration”, “With Custom Programming” or with a “Future Release”."}]
["4.E.07","Location Verification","Functional","Unverified Address\nFlagging","Must Have","Please list your solution's ability to flag calls with unverified addresses.",null,"Cannot Meet",{"$f":"IFERROR(VLOOKUP(H166,VendorResponseLookupTbl[], 2,0), \"\")","v":" The product cannot meet the requirement “Out-of-the-Box”, “With Configuration”, “With Custom Programming” or with a “Future Release”."}]
["4.E.08","Location Verification","Functional","Unverified Address\nException Report","Must Have","Please list your solution's ability to create an exception report of unverified addresses.",null,"Cannot Meet",{"$f":"IFERROR(VLOOKUP(H167,VendorResponseLookupTbl[], 2,0), \"\")","v":" The product cannot meet the requirement “Out-of-the-Box”, “With Configuration”, “With Custom Programming” or with a “Future Release”."}]
["4.E.09","Location Verification","Functional","Enhanced Location Data","Must Have","Please list your solution's ability to query and utilize external enhanced location data from third party providers to obtain an more accurate location of a wireless caller.",null,"Cannot Meet",{"$f":"IFERROR(VLOOKUP(H168,VendorResponseLookupTbl[], 2,0), \"\")","v":" The product cannot meet the requirement “Out-of-the-Box”, “With Configuration”, “With Custom Programming” or with a “Future Release”."}]
["4.E.10","Location Verification","Functional","Closest Address Matching","Must Have","Please list your solution's ability to display closest address matches based on:\n\na) Block ranges\nb) Building names\nc) Business name\nd) Common place names\ne) Landmarks\nf) Intersections\ng) Phonetic spelling\nh) Soundex\ni) Street name",null,"Cannot Meet",{"$f":"IFERROR(VLOOKUP(H169,VendorResponseLookupTbl[], 2,0), \"\")","v":" The product cannot meet the requirement “Out-of-the-Box”, “With Configuration”, “With Custom Programming” or with a “Future Release”."}]
["4.E.11","Location Verification","Functional","Location Alternatives","Must Have","Please list your solution's ability to enter a street name and be presented with:\n\na) Aliases\nb) Associated address ranges\nc) List of cross streets",null,"Cannot Meet",{"$f":"IFERROR(VLOOKUP(H170,VendorResponseLookupTbl[], 2,0), \"\")","v":" The product cannot meet the requirement “Out-of-the-Box”, “With Configuration”, “With Custom Programming” or with a “Future Release”."}]
["4.E.12","Location Verification","Functional","Common Place Name Translation","Must Have","Please list your solution's ability to  translate common place names into valid addresses.",null,"Cannot Meet",{"$f":"IFERROR(VLOOKUP(H171,VendorResponseLookupTbl[], 2,0), \"\")","v":" The product cannot meet the requirement “Out-of-the-Box”, “With Configuration”, “With Custom Programming” or with a “Future Release”."}]
["4.E.13","Location Verification","Functional","Geographic Boundary Translation","Must Have","Please list your solution's ability to  translate call location to appropriate public safety geographical boundary (e.g., district, beat, sector).",null,"Cannot Meet",{"$f":"IFERROR(VLOOKUP(H172,VendorResponseLookupTbl[], 2,0), \"\")","v":" The product cannot meet the requirement “Out-of-the-Box”, “With Configuration”, “With Custom Programming” or with a “Future Release”."}]
["4.E.14","Location Verification","Functional","Alias Names to Addresses","Must Have","Please list your solution's ability to  translate alias names to actual street names or addresses.",null,"Cannot Meet",{"$f":"IFERROR(VLOOKUP(H173,VendorResponseLookupTbl[], 2,0), \"\")","v":" The product cannot meet the requirement “Out-of-the-Box”, “With Configuration”, “With Custom Programming” or with a “Future Release”."}]
["4.E.15","Location Verification","Functional","Notifications of Intersections","Must Have","Please list your solution's ability to notify user through a visual and/or audible flag if multiple street addresses/street names/intersections are found in geofile.",null,"Cannot Meet",{"$f":"IFERROR(VLOOKUP(H174,VendorResponseLookupTbl[], 2,0), \"\")","v":" The product cannot meet the requirement “Out-of-the-Box”, “With Configuration”, “With Custom Programming” or with a “Future Release”."}]
["4.E.16","Location Verification","Functional","Address Options","Must Have","Please list your solution's ability to offer a list of address options if multiple similar addresses/intersections/street names are found in geofile.",null,"Cannot Meet",{"$f":"IFERROR(VLOOKUP(H175,VendorResponseLookupTbl[], 2,0), \"\")","v":" The product cannot meet the requirement “Out-of-the-Box”, “With Configuration”, “With Custom Programming” or with a “Future Release”."}]
["4.E.17","Location Verification","Functional","Verification of Geo-coordinates","Must Have","Please list your solution's ability for call taker to click a location on the map and have the geo-coordinates translate into a verifiable address.",null,"Cannot Meet",{"$f":"IFERROR(VLOOKUP(H176,VendorResponseLookupTbl[], 2,0), \"\")","v":" The product cannot meet the requirement “Out-of-the-Box”, “With Configuration”, “With Custom Programming” or with a “Future Release”."}]
["4.E.18","Location Verification","Functional","Distinguishing Locations","Must Have","Please list your solution's ability for CAD map to use icons, colors or shapes to distinguish between:\n\na) Verified and unverified locations\nb) Exact and approximated locations",null,"Cannot Meet",{"$f":"IFERROR(VLOOKUP(H177,VendorResponseLookupTbl[], 2,0), \"\")","v":" The product cannot meet the requirement “Out-of-the-Box”, “With Configuration”, “With Custom Programming” or with a “Future Release”."}]
["4.E.19","Location Verification","Functional","Manual Override","Must Have","Please list your solution's ability to  manually override an address if it cannot be verified.",null,"Cannot Meet",{"$f":"IFERROR(VLOOKUP(H178,VendorResponseLookupTbl[], 2,0), \"\")","v":" The product cannot meet the requirement “Out-of-the-Box”, “With Configuration”, “With Custom Programming” or with a “Future Release”."}]
["4.E.20","Location Verification","Functional","Logging Locations","Must Have","Please list your solution's ability to log all locations that fail geofile validation.",null,"Cannot Meet",{"$f":"IFERROR(VLOOKUP(H179,VendorResponseLookupTbl[], 2,0), \"\")","v":" The product cannot meet the requirement “Out-of-the-Box”, “With Configuration”, “With Custom Programming” or with a “Future Release”."}]
["4.E.21","Location Verification","Functional","Manual Verification\nNo Event","Must Have","Please list your solution's ability to manually verify an address without creating an event.",null,"Cannot Meet",{"$f":"IFERROR(VLOOKUP(H180,VendorResponseLookupTbl[], 2,0), \"\")","v":" The product cannot meet the requirement “Out-of-the-Box”, “With Configuration”, “With Custom Programming” or with a “Future Release”."}]
["4.E.22","Location Verification","Functional","Location Search","Must Have","Please list your solution's ability to search the location where a new CAD event is entered, along with neighboring locations in an agency-defined radius, to determine if previous events occurred there and whether any hazard or tactical information is available in CAD about the new event’s location .",null,"Cannot Meet",{"$f":"IFERROR(VLOOKUP(H181,VendorResponseLookupTbl[], 2,0), \"\")","v":" The product cannot meet the requirement “Out-of-the-Box”, “With Configuration”, “With Custom Programming” or with a “Future Release”."}]
["4.E.23","Location Verification","Functional","Verification to Dispatch","Must Have","Please list your solution's ability for events with customer-defined incident types to be sent up immediately for dispatch upon verification of location.",null,"Cannot Meet",{"$f":"IFERROR(VLOOKUP(H182,VendorResponseLookupTbl[], 2,0), \"\")","v":" The product cannot meet the requirement “Out-of-the-Box”, “With Configuration”, “With Custom Programming” or with a “Future Release”."}]
["4.F.00","Premise Information Retrieval"]
["4.F.01","Premise Information Retrieval","Functional","Address Inquiry","Must Have","Please list your solution's ability to automatically initiate, upon address verification, an address inquiry to search for associated premise information in CAD.",null,"Cannot Meet",{"$f":"IFERROR(VLOOKUP(H184,VendorResponseLookupTbl[], 2,0), \"\")","v":" The product cannot meet the requirement “Out-of-the-Box”, “With Configuration”, “With Custom Programming” or with a “Future Release”."}]
["4.F.02","Premise Information Retrieval","Functional","Hazard Alerts","Must Have","Please list your solution's ability to alert user of the presence of hazards upon entering an address.",null,"Cannot Meet",{"$f":"IFERROR(VLOOKUP(H185,VendorResponseLookupTbl[], 2,0), \"\")","v":" The product cannot meet the requirement “Out-of-the-Box”, “With Configuration”, “With Custom Programming” or with a “Future Release”."}]
["4.F.03","Premise Information Retrieval","Functional","Alert Types","Must Have","Please list your solution's ability for alerts to include:\n\na) Audible alerts\nb) Visual flags",null,"Cannot Meet",{"$f":"IFERROR(VLOOKUP(H186,VendorResponseLookupTbl[], 2,0), \"\")","v":" The product cannot meet the requirement “Out-of-the-Box”, “With Configuration”, “With Custom Programming” or with a “Future Release”."}]
["4.F.04","Premise Information Retrieval","Functional","Hazard Drill-Down","Should Have","Please list your solution's ability to  click on a hazard to drill down for additional information.",null,"Cannot Meet",{"$f":"IFERROR(VLOOKUP(H187,VendorResponseLookupTbl[], 2,0), \"\")","v":" The product cannot meet the requirement “Out-of-the-Box”, “With Configuration”, “With Custom Programming” or with a “Future Release”."}]
["4.F.05","Premise Information Retrieval","Functional","Searching Premise Information","Must Have","Please list your solution's ability to search for premise information based on:\n\na) Location\nb) Block ranges\nc) Business name\nd) Complex (e.g., apartment building)\ne) Common place names\nf) Intersections\ng) Radius",null,"Cannot Meet",{"$f":"IFERROR(VLOOKUP(H188,VendorResponseLookupTbl[], 2,0), \"\")","v":" The product cannot meet the requirement “Out-of-the-Box”, “With Configuration”, “With Custom Programming” or with a “Future Release”."}]
["4.F.06","Premise Information Retrieval","Functional","Searching Premise Information\nNon-Incidents","Must Have","Please list your solution's ability to search for premise information on locations not associated with incidents.",null,"Cannot Meet",{"$f":"IFERROR(VLOOKUP(H189,VendorResponseLookupTbl[], 2,0), \"\")","v":" The product cannot meet the requirement “Out-of-the-Box”, “With Configuration”, “With Custom Programming” or with a “Future Release”."}]
["4.F.07","Premise Information Retrieval","Functional","Premise History\nAutomatic","Must Have","Please list your solution's ability to automatically show premise history related to a current incident.",null,"Cannot Meet",{"$f":"IFERROR(VLOOKUP(H190,VendorResponseLookupTbl[], 2,0), \"\")","v":" The product cannot meet the requirement “Out-of-the-Box”, “With Configuration”, “With Custom Programming” or with a “Future Release”."}]
["4.F.08","Premise Information Retrieval","Functional","Premise History\nNumber of Incidents","Must Have","Please list your solution's ability to  indicate the number of past incidents at a location.",null,"Cannot Meet",{"$f":"IFERROR(VLOOKUP(H191,VendorResponseLookupTbl[], 2,0), \"\")","v":" The product cannot meet the requirement “Out-of-the-Box”, “With Configuration”, “With Custom Programming” or with a “Future Release”."}]
["4.F.09","Premise Information Retrieval","Functional","Attaching CAD Information to Premise","Must Have","Please list your solution's ability to retrieve and attach to a CAD event any information associated with the premise (e.g., pre-plan information, Knox Box, access codes, previous calls for service).",null,"Cannot Meet",{"$f":"IFERROR(VLOOKUP(H192,VendorResponseLookupTbl[], 2,0), \"\")","v":" The product cannot meet the requirement “Out-of-the-Box”, “With Configuration”, “With Custom Programming” or with a “Future Release”."}]
["4.F.10","Premise Information Retrieval","Functional","Agency-Defined Hazard Radius","Must Have","Please list your solution's ability for map to display all known hazards within a agency-defined radius.",null,"Cannot Meet",{"$f":"IFERROR(VLOOKUP(H193,VendorResponseLookupTbl[], 2,0), \"\")","v":" The product cannot meet the requirement “Out-of-the-Box”, “With Configuration”, “With Custom Programming” or with a “Future Release”."}]
["4.F.11","Premise Information Retrieval","Functional","Visual Indicators","Must Have","Please list your solution's ability to provide a visual indicator of the type of premise information associated with a location.",null,"Cannot Meet",{"$f":"IFERROR(VLOOKUP(H194,VendorResponseLookupTbl[], 2,0), \"\")","v":" The product cannot meet the requirement “Out-of-the-Box”, “With Configuration”, “With Custom Programming” or with a “Future Release”."}]
["4.F.12","Premise Information Retrieval","Functional","Dispatcher Acknowledgement","Must Have","Please list your solution's ability to require dispatcher acknowledgement of a hazard.",null,"Cannot Meet",{"$f":"IFERROR(VLOOKUP(H195,VendorResponseLookupTbl[], 2,0), \"\")","v":" The product cannot meet the requirement “Out-of-the-Box”, “With Configuration”, “With Custom Programming” or with a “Future Release”."}]
["4.F.13","Premise Information Retrieval","Functional","Timestamping","Must Have","Please list your solution's ability to  timestamp when a dispatcher acknowledges a hazard.",null,"Cannot Meet",{"$f":"IFERROR(VLOOKUP(H196,VendorResponseLookupTbl[], 2,0), \"\")","v":" The product cannot meet the requirement “Out-of-the-Box”, “With Configuration”, “With Custom Programming” or with a “Future Release”."}]
["4.G.00","Duplicate Call Management"]
["4.G.01","Duplicate Call Management","Functional","Identifying Duplicate Events","Must Have","Please list your solution's ability  for system to identify potential duplicate events based on geographic and temporal parameters.",null,"Cannot Meet",{"$f":"IFERROR(VLOOKUP(H198,VendorResponseLookupTbl[], 2,0), \"\")","v":" The product cannot meet the requirement “Out-of-the-Box”, “With Configuration”, “With Custom Programming” or with a “Future Release”."}]
["4.G.02","Duplicate Call Management","Functional","Agency-Defined \nGeographic Parameters","Must Have","Please list your solution's ability for customer to configure the geographic parameters for identifying potential duplicate incidents.",null,"Cannot Meet",{"$f":"IFERROR(VLOOKUP(H199,VendorResponseLookupTbl[], 2,0), \"\")","v":" The product cannot meet the requirement “Out-of-the-Box”, “With Configuration”, “With Custom Programming” or with a “Future Release”."}]
["4.G.03","Duplicate Call Management","Functional","Agency-Defined \nTemporal Parameters","Must Have","Please list your solution's ability for customer to configure the temporal parameters for identifying potential duplicate incidents.",null,"Cannot Meet",{"$f":"IFERROR(VLOOKUP(H200,VendorResponseLookupTbl[], 2,0), \"\")","v":" The product cannot meet the requirement “Out-of-the-Box”, “With Configuration”, “With Custom Programming” or with a “Future Release”."}]
["4.G.04","Duplicate Call Management","Functional","Incident Location\nRelation to Other Incidents","Must Have","Please list your solution's ability to display, on a map, the incident location in relation to other active incidents on the map during the incident entry process.",null,"Cannot Meet",{"$f":"IFERROR(VLOOKUP(H201,VendorResponseLookupTbl[], 2,0), \"\")","v":" The product cannot meet the requirement “Out-of-the-Box”, “With Configuration”, “With Custom Programming” or with a “Future Release”."}]
["4.G.05","Duplicate Call Management","Functional","Pending Calls","Must Have","Please list your solution's ability to include pending calls in the potential duplicate call identification process.",null,"Cannot Meet",{"$f":"IFERROR(VLOOKUP(H202,VendorResponseLookupTbl[], 2,0), \"\")","v":" The product cannot meet the requirement “Out-of-the-Box”, “With Configuration”, “With Custom Programming” or with a “Future Release”."}]
["4.G.06","Duplicate Call Management","Functional","Closed Calls","Must Have","Please list your solution's ability to include recently closed calls in the potential duplicate call identification process.",null,"Cannot Meet",{"$f":"IFERROR(VLOOKUP(H203,VendorResponseLookupTbl[], 2,0), \"\")","v":" The product cannot meet the requirement “Out-of-the-Box”, “With Configuration”, “With Custom Programming” or with a “Future Release”."}]
["4.G.07","Duplicate Call Management","Functional","Field Initiated Calls","Must Have","Please list your solution's ability to include field-initiated calls in the potential duplicate call identification process.",null,"Cannot Meet",{"$f":"IFERROR(VLOOKUP(H204,VendorResponseLookupTbl[], 2,0), \"\")","v":" The product cannot meet the requirement “Out-of-the-Box”, “With Configuration”, “With Custom Programming” or with a “Future Release”."}]
["4.G.08","Duplicate Call Management","Functional","Duplicate Calls","Must Have","Please list your solution's ability for the user to do any of the following if a CAD incident is determined to be a duplicate call:\n\na) Add additional reporting parties to the original incident record with complete complainant information and additional incident comments\nb) Close a duplicate incident and cross-reference/link it to the original CAD incident\nc) Create an entirely new incident using existing address data",null,"Cannot Meet",{"$f":"IFERROR(VLOOKUP(H205,VendorResponseLookupTbl[], 2,0), \"\")","v":" The product cannot meet the requirement “Out-of-the-Box”, “With Configuration”, “With Custom Programming” or with a “Future Release”."}]
["4.G.09","Duplicate Call Management","Functional","Information Transfer","Must Have","Please list your solution's ability to  transfer any information entered into the new event into the original event upon cross-referencing the events.",null,"Cannot Meet",{"$f":"IFERROR(VLOOKUP(H206,VendorResponseLookupTbl[], 2,0), \"\")","v":" The product cannot meet the requirement “Out-of-the-Box”, “With Configuration”, “With Custom Programming” or with a “Future Release”."}]
["4.G.10","Duplicate Call Management","Functional","Unlinking Calls","Must Have","Please list your solution's ability to unlink mistakenly linked calls.",null,"Cannot Meet",{"$f":"IFERROR(VLOOKUP(H207,VendorResponseLookupTbl[], 2,0), \"\")","v":" The product cannot meet the requirement “Out-of-the-Box”, “With Configuration”, “With Custom Programming” or with a “Future Release”."}]
["4.G.11","Duplicate Call Management","Functional","Relinking Calls","Must Have","Please list your solution's ability to relink calls to the correct original call.",null,"Cannot Meet",{"$f":"IFERROR(VLOOKUP(H208,VendorResponseLookupTbl[], 2,0), \"\")","v":" The product cannot meet the requirement “Out-of-the-Box”, “With Configuration”, “With Custom Programming” or with a “Future Release”."}]
["4.G.12","Duplicate Call Management","Functional","Adding Information\nClosed Event","Must Have","Please list your solution's ability for call takers to add new information to a closed event record if the original event record associated with a duplicate CAD event is closed.",null,"Cannot Meet",{"$f":"IFERROR(VLOOKUP(H209,VendorResponseLookupTbl[], 2,0), \"\")","v":" The product cannot meet the requirement “Out-of-the-Box”, “With Configuration”, “With Custom Programming” or with a “Future Release”."}]
["4.G.13","Duplicate Call Management","Functional","Reopening a Closed Event","Must Have","Please list your solution's ability for users to re-open a closed event, add the new information, and route the event back through the dispatch process if the new information requires a dispatch of public safety resources.",null,"Cannot Meet",{"$f":"IFERROR(VLOOKUP(H210,VendorResponseLookupTbl[], 2,0), \"\")","v":" The product cannot meet the requirement “Out-of-the-Box”, “With Configuration”, “With Custom Programming” or with a “Future Release”."}]
["4.H.00","Multidiscipline Events"]
["4.H.01","Multidiscipline Events","Functional","Generating a Multidiscipline Event","Must Have","Please list your solution's ability to enter one type code to generate a multidiscipline event.",null,"Cannot Meet",{"$f":"IFERROR(VLOOKUP(H212,VendorResponseLookupTbl[], 2,0), \"\")","v":" The product cannot meet the requirement “Out-of-the-Box”, “With Configuration”, “With Custom Programming” or with a “Future Release”."}]
["4.H.02","Multidiscipline Events","Functional","Assignment of Types and Priorities","Must Have","Please list your solution's ability to assign different incident types and priorities to each discipline based on entry of a single type code.",null,"Cannot Meet",{"$f":"IFERROR(VLOOKUP(H213,VendorResponseLookupTbl[], 2,0), \"\")","v":" The product cannot meet the requirement “Out-of-the-Box”, “With Configuration”, “With Custom Programming” or with a “Future Release”."}]
["4.H.03","Multidiscipline Events","Functional","Assigning Priorities\nEach Discipline","Must Have","Please list your solution's ability to assign different priorities for the event for each discipline.",null,"Cannot Meet",{"$f":"IFERROR(VLOOKUP(H214,VendorResponseLookupTbl[], 2,0), \"\")","v":" The product cannot meet the requirement “Out-of-the-Box”, “With Configuration”, “With Custom Programming” or with a “Future Release”."}]
["4.H.04","Multidiscipline Events","Functional","Assigning Incident Types\nFire Call","Must Have","Please list your solution's ability to assign a different incident types when a fire unit is dispatched to an in-progress law enforcement call.",null,"Cannot Meet",{"$f":"IFERROR(VLOOKUP(H215,VendorResponseLookupTbl[], 2,0), \"\")","v":" The product cannot meet the requirement “Out-of-the-Box”, “With Configuration”, “With Custom Programming” or with a “Future Release”."}]
["4.H.05","Multidiscipline Events","Functional","Facilitation of Additional Disciplines","Must Have","Please list your solution's ability for call takers or dispatchers to spawn additional copies of an event to facilitate the dispatch of additional disciplines.",null,"Cannot Meet",{"$f":"IFERROR(VLOOKUP(H216,VendorResponseLookupTbl[], 2,0), \"\")","v":" The product cannot meet the requirement “Out-of-the-Box”, “With Configuration”, “With Custom Programming” or with a “Future Release”."}]
["4.H.06","Multidiscipline Events","Functional","Unique Event Numbering","Must Have","Please list your solution's ability to assign each copy of the event a unique event number appropriate for the respective discipline.",null,"Cannot Meet",{"$f":"IFERROR(VLOOKUP(H217,VendorResponseLookupTbl[], 2,0), \"\")","v":" The product cannot meet the requirement “Out-of-the-Box”, “With Configuration”, “With Custom Programming” or with a “Future Release”."}]
["4.H.07","Multidiscipline Events","Functional","Cross-Referencing","Must Have","Please list your solution's ability to  cross reference multidiscipline events.",null,"Cannot Meet",{"$f":"IFERROR(VLOOKUP(H218,VendorResponseLookupTbl[], 2,0), \"\")","v":" The product cannot meet the requirement “Out-of-the-Box”, “With Configuration”, “With Custom Programming” or with a “Future Release”."}]
["4.H.08","Multidiscipline Events","Functional","Sending Information","Must Have","Please list your solution's ability for call takers to send information to one or multiple responding agencies.",null,"Cannot Meet",{"$f":"IFERROR(VLOOKUP(H219,VendorResponseLookupTbl[], 2,0), \"\")","v":" The product cannot meet the requirement “Out-of-the-Box”, “With Configuration”, “With Custom Programming” or with a “Future Release”."}]
["4.I.00","Emergency Medical Dispatching (EMD)"]
["4.I.01","Emergency Medical Dispatching (EMD)","Functional","EMD Protocol","Must Have","Please list your solution's ability to launch an EMD protocol application from within CAD.",null,"Cannot Meet",{"$f":"IFERROR(VLOOKUP(H221,VendorResponseLookupTbl[], 2,0), \"\")","v":" The product cannot meet the requirement “Out-of-the-Box”, “With Configuration”, “With Custom Programming” or with a “Future Release”."}]
["4.I.02","Emergency Medical Dispatching (EMD)","Functional","Manual Protocol Launch","Must Have","Please list your solution's ability to manually (e.g., press of a button) launch the protocol session .",null,"Cannot Meet",{"$f":"IFERROR(VLOOKUP(H222,VendorResponseLookupTbl[], 2,0), \"\")","v":" The product cannot meet the requirement “Out-of-the-Box”, “With Configuration”, “With Custom Programming” or with a “Future Release”."}]
["4.I.03","Emergency Medical Dispatching (EMD)","Functional","Determinate Code\nPopulate Type Code","Must Have","Please list your solution's ability to populate the event type code field with a determinate code.",null,"Cannot Meet",{"$f":"IFERROR(VLOOKUP(H223,VendorResponseLookupTbl[], 2,0), \"\")","v":" The product cannot meet the requirement “Out-of-the-Box”, “With Configuration”, “With Custom Programming” or with a “Future Release”."}]
["4.I.04","Emergency Medical Dispatching (EMD)","Functional","Determinate Code\nUpdated Code","Must Have","Please list your solution's ability to update the event type code with an updated determinate code as required during the session.",null,"Cannot Meet",{"$f":"IFERROR(VLOOKUP(H224,VendorResponseLookupTbl[], 2,0), \"\")","v":" The product cannot meet the requirement “Out-of-the-Box”, “With Configuration”, “With Custom Programming” or with a “Future Release”."}]
["4.I.05","Emergency Medical Dispatching (EMD)","Functional","Determinate Code\nOverriding","Must Have","Please list your solution's ability to  override an determinate code created by the EMD protocol session.",null,"Cannot Meet",{"$f":"IFERROR(VLOOKUP(H225,VendorResponseLookupTbl[], 2,0), \"\")","v":" The product cannot meet the requirement “Out-of-the-Box”, “With Configuration”, “With Custom Programming” or with a “Future Release”."}]
["4.I.06","Emergency Medical Dispatching (EMD)","Functional","Notification of Changed Code","Must Have","Please list your solution's ability for the system to notify dispatchers and responders that the event type code has changed.",null,"Cannot Meet",{"$f":"IFERROR(VLOOKUP(H226,VendorResponseLookupTbl[], 2,0), \"\")","v":" The product cannot meet the requirement “Out-of-the-Box”, “With Configuration”, “With Custom Programming” or with a “Future Release”."}]
["4.I.07","Emergency Medical Dispatching (EMD)","Functional","Saved Work","Must Have","Please list your solution's ability  for a call taker to leave the protocol session (return to CAD) and come back to the same place upon returning to the session.",null,"Cannot Meet",{"$f":"IFERROR(VLOOKUP(H227,VendorResponseLookupTbl[], 2,0), \"\")","v":" The product cannot meet the requirement “Out-of-the-Box”, “With Configuration”, “With Custom Programming” or with a “Future Release”."}]
["4.I.08","Emergency Medical Dispatching (EMD)","Functional","Importing Protocol","Must Have","Please list your solution's ability to import protocol sessions into the event record.",null,"Cannot Meet",{"$f":"IFERROR(VLOOKUP(H228,VendorResponseLookupTbl[], 2,0), \"\")","v":" The product cannot meet the requirement “Out-of-the-Box”, “With Configuration”, “With Custom Programming” or with a “Future Release”."}]
["4.I.09","Emergency Medical Dispatching (EMD)","Functional","Configuring Imports","Must Have","Please list your solution's ability to  configure the elements that are imported into the event record.",null,"Cannot Meet",{"$f":"IFERROR(VLOOKUP(H229,VendorResponseLookupTbl[], 2,0), \"\")","v":" The product cannot meet the requirement “Out-of-the-Box”, “With Configuration”, “With Custom Programming” or with a “Future Release”."}]
["5.A","Dispatching"]
["5.A.00","Event Display"]
["5.A.01","Event Display","Functional","Windows\nAgency-Defined","Must Have","Please list your solution's ability to provide configurable windows to display events.",null,"Cannot Meet",{"$f":"IFERROR(VLOOKUP(H232,VendorResponseLookupTbl[], 2,0), \"\")","v":" The product cannot meet the requirement “Out-of-the-Box”, “With Configuration”, “With Custom Programming” or with a “Future Release”."}]
["5.A.02","Event Display","Functional","Windows\nFiltering","Must Have","Please list your solution's ability to filter the event windows by:\n\na) Discipline\nb) Dispatch group\nc) Event status (active, pending, closed)",null,"Cannot Meet",{"$f":"IFERROR(VLOOKUP(H233,VendorResponseLookupTbl[], 2,0), \"\")","v":" The product cannot meet the requirement “Out-of-the-Box”, “With Configuration”, “With Custom Programming” or with a “Future Release”."}]
["5.A.03","Event Display","Functional","Windows\nSplitting","Must Have","Please list your solution's ability to split windows by event status.",null,"Cannot Meet",{"$f":"IFERROR(VLOOKUP(H234,VendorResponseLookupTbl[], 2,0), \"\")","v":" The product cannot meet the requirement “Out-of-the-Box”, “With Configuration”, “With Custom Programming” or with a “Future Release”."}]
["5.A.04","Event Display","Functional","Event Alerts","Must Have","Please list your solution's ability to provide alerts (visible or audible per user preference) when a new event appears in the queue for a user’s area.",null,"Cannot Meet",{"$f":"IFERROR(VLOOKUP(H235,VendorResponseLookupTbl[], 2,0), \"\")","v":" The product cannot meet the requirement “Out-of-the-Box”, “With Configuration”, “With Custom Programming” or with a “Future Release”."}]
["5.A.05","Event Display","Functional","Color Coding\nBy Priority","Must Have","Please list your solution's ability to configure application to color code events by priority.",null,"Cannot Meet",{"$f":"IFERROR(VLOOKUP(H236,VendorResponseLookupTbl[], 2,0), \"\")","v":" The product cannot meet the requirement “Out-of-the-Box”, “With Configuration”, “With Custom Programming” or with a “Future Release”."}]
["5.A.06","Event Display","Functional","Color Coding\nBy Time Length","Must Have","Please list your solution's ability to color code events by length of time since the event was created.",null,"Cannot Meet",{"$f":"IFERROR(VLOOKUP(H237,VendorResponseLookupTbl[], 2,0), \"\")","v":" The product cannot meet the requirement “Out-of-the-Box”, “With Configuration”, “With Custom Programming” or with a “Future Release”."}]
["5.A.07","Event Display","Functional","Information Displayed","Must Have","Please list your solution's ability to display all information entered for an event upon selection of the event.",null,"Cannot Meet",{"$f":"IFERROR(VLOOKUP(H238,VendorResponseLookupTbl[], 2,0), \"\")","v":" The product cannot meet the requirement “Out-of-the-Box”, “With Configuration”, “With Custom Programming” or with a “Future Release”."}]
["5.A.08","Event Display","Functional","Refreshing an Event","Must Have","Please list your solution's ability to refresh displayed event as new information is entered by a call taker, another dispatcher or field units.",null,"Cannot Meet",{"$f":"IFERROR(VLOOKUP(H239,VendorResponseLookupTbl[], 2,0), \"\")","v":" The product cannot meet the requirement “Out-of-the-Box”, “With Configuration”, “With Custom Programming” or with a “Future Release”."}]
["5.A.09","Event Display","Functional","Alerts\nNew Information ","Must Have","Please list your solution's ability to alert users working on an event when new information is available.",null,"Cannot Meet",{"$f":"IFERROR(VLOOKUP(H240,VendorResponseLookupTbl[], 2,0), \"\")","v":" The product cannot meet the requirement “Out-of-the-Box”, “With Configuration”, “With Custom Programming” or with a “Future Release”."}]
["5.A.10","Event Display","Functional","Alerts\nAgency-Defined Words","Must Have","Please list your solution's ability to alert dispatchers when customer-defined trigger words are present in event notes (e.g., gun).",null,"Cannot Meet",{"$f":"IFERROR(VLOOKUP(H241,VendorResponseLookupTbl[], 2,0), \"\")","v":" The product cannot meet the requirement “Out-of-the-Box”, “With Configuration”, “With Custom Programming” or with a “Future Release”."}]
["5.A.11","Event Display","Functional","Multiple Events","Must Have","Please list your solution's ability to have multiple events open at one time.",null,"Cannot Meet",{"$f":"IFERROR(VLOOKUP(H242,VendorResponseLookupTbl[], 2,0), \"\")","v":" The product cannot meet the requirement “Out-of-the-Box”, “With Configuration”, “With Custom Programming” or with a “Future Release”."}]
["5.A.12","Event Display","Functional","Auto-Removal of Events","Must Have","Please list your solution's ability to automatically remove an event from the display when it is closed.",null,"Cannot Meet",{"$f":"IFERROR(VLOOKUP(H243,VendorResponseLookupTbl[], 2,0), \"\")","v":" The product cannot meet the requirement “Out-of-the-Box”, “With Configuration”, “With Custom Programming” or with a “Future Release”."}]
["5.A.13","Event Display","Functional","Event Display","Must Have","Please list your solution's ability to show events on the CAD mapping display.",null,"Cannot Meet",{"$f":"IFERROR(VLOOKUP(H244,VendorResponseLookupTbl[], 2,0), \"\")","v":" The product cannot meet the requirement “Out-of-the-Box”, “With Configuration”, “With Custom Programming” or with a “Future Release”."}]
["5.A.14","Event Display","Functional","Incident Location\nRetrieval","Must Have","Please list your solution's ability to display incident location on map when incident is retrieved.",null,"Cannot Meet",{"$f":"IFERROR(VLOOKUP(H245,VendorResponseLookupTbl[], 2,0), \"\")","v":" The product cannot meet the requirement “Out-of-the-Box”, “With Configuration”, “With Custom Programming” or with a “Future Release”."}]
["5.A.15","Event Display","Functional","Incident Information\nRetrieval","Must Have","Please list your solution's ability to obtain detailed incident information by double-clicking on map location.",null,"Cannot Meet",{"$f":"IFERROR(VLOOKUP(H246,VendorResponseLookupTbl[], 2,0), \"\")","v":" The product cannot meet the requirement “Out-of-the-Box”, “With Configuration”, “With Custom Programming” or with a “Future Release”."}]
["5.A.16","Event Display","Functional","Unit IDs","Must Have","Please list your solution's ability to display on-scene unit ID with incident number and call type.",null,"Cannot Meet",{"$f":"IFERROR(VLOOKUP(H247,VendorResponseLookupTbl[], 2,0), \"\")","v":" The product cannot meet the requirement “Out-of-the-Box”, “With Configuration”, “With Custom Programming” or with a “Future Release”."}]
["5.A.17","Event Display","Functional","Hover/Click Functionality","Must Have","Please list your solution's ability to  hover/click on map and display:\n\na) Incident location\nb) Incident number\nc) Units assigned to call",null,"Cannot Meet",{"$f":"IFERROR(VLOOKUP(H248,VendorResponseLookupTbl[], 2,0), \"\")","v":" The product cannot meet the requirement “Out-of-the-Box”, “With Configuration”, “With Custom Programming” or with a “Future Release”."}]
["5.A.18","Event Display","Functional","Query Generation","Must Have","Please list your solution's ability to  click on a map, and generate a query based on the selected address.",null,"Cannot Meet",{"$f":"IFERROR(VLOOKUP(H249,VendorResponseLookupTbl[], 2,0), \"\")","v":" The product cannot meet the requirement “Out-of-the-Box”, “With Configuration”, “With Custom Programming” or with a “Future Release”."}]
["5.B.00","Unit Recommendations"]
["5.B.01","Unit Recommendations","Functional","Unit Assignment Recommendations","Must Have","Please list your solution's ability for system to recommend units for assignment to an event.",null,"Cannot Meet",{"$f":"IFERROR(VLOOKUP(H251,VendorResponseLookupTbl[], 2,0), \"\")","v":" The product cannot meet the requirement “Out-of-the-Box”, “With Configuration”, “With Custom Programming” or with a “Future Release”."}]
["5.B.02","Unit Recommendations","Functional","Agency-Defined\nUnit Assignments","Must Have","Please list your solution's ability  for customer to configure the algorithm for unit assignment so that unit recommendations are based on any combination of:\n\na) Agency\nb) Discipline\nc) Incident type\nd) Unit location\ne) Unit assignment (sector or station)\nf) Established response plans for incident type and/or location\ng) Unit status\nh) Unit staffing characteristics\ni) Special circumstances (e.g., large events)\nj) Incident location/point address\nk) Location type (e.g., school, multi-level structure)\nl) Resource availability (e.g., staffing levels)",null,"Cannot Meet",{"$f":"IFERROR(VLOOKUP(H252,VendorResponseLookupTbl[], 2,0), \"\")","v":" The product cannot meet the requirement “Out-of-the-Box”, “With Configuration”, “With Custom Programming” or with a “Future Release”."}]
["5.B.03","Unit Recommendations","Functional","Toggle On/Off Automation","Must Have","Please list your solution's ability for customer to turn on or off automated unit recommendations by discipline.",null,"Cannot Meet",{"$f":"IFERROR(VLOOKUP(H253,VendorResponseLookupTbl[], 2,0), \"\")","v":" The product cannot meet the requirement “Out-of-the-Box”, “With Configuration”, “With Custom Programming” or with a “Future Release”."}]
["5.B.04","Unit Recommendations","Functional","Re-Recommendations","Must Have","Please list your solution's ability to re-recommend closest units (e.g., a new unit comes into service).",null,"Cannot Meet",{"$f":"IFERROR(VLOOKUP(H254,VendorResponseLookupTbl[], 2,0), \"\")","v":" The product cannot meet the requirement “Out-of-the-Box”, “With Configuration”, “With Custom Programming” or with a “Future Release”."}]
["5.B.05","Unit Recommendations","Functional","Temporary Road Closures","Must Have","Please list your solution's ability for closest unit recommendations to take into account temporary road closures.",null,"Cannot Meet",{"$f":"IFERROR(VLOOKUP(H255,VendorResponseLookupTbl[], 2,0), \"\")","v":" The product cannot meet the requirement “Out-of-the-Box”, “With Configuration”, “With Custom Programming” or with a “Future Release”."}]
["5.B.06","Unit Recommendations","Functional","Estimated Response Times","Must Have","Please list your solution's ability to display the estimated response time to the event location based on the unit's current location.",null,"Cannot Meet",{"$f":"IFERROR(VLOOKUP(H256,VendorResponseLookupTbl[], 2,0), \"\")","v":" The product cannot meet the requirement “Out-of-the-Box”, “With Configuration”, “With Custom Programming” or with a “Future Release”."}]
["5.B.07","Unit Recommendations","Functional","Insufficient Unit Notification","Must Have","Please list your solution's ability to  notify dispatcher when there are not enough units to fulfill the dispatch requirements.",null,"Cannot Meet",{"$f":"IFERROR(VLOOKUP(H257,VendorResponseLookupTbl[], 2,0), \"\")","v":" The product cannot meet the requirement “Out-of-the-Box”, “With Configuration”, “With Custom Programming” or with a “Future Release”."}]
["5.B.08","Unit Recommendations","Functional","Cross-Staffing Assignment","Must Have","Please list your solution's ability to recommend units based on the cross-staffing assignment location.",null,"Cannot Meet",{"$f":"IFERROR(VLOOKUP(H258,VendorResponseLookupTbl[], 2,0), \"\")","v":" The product cannot meet the requirement “Out-of-the-Box”, “With Configuration”, “With Custom Programming” or with a “Future Release”."}]
["5.B.09","Unit Recommendations","Functional","Static Unit Recommendations","Must Have","Please list your solution's ability to generate static unit recommendations based upon the established response plans.",null,"Cannot Meet",{"$f":"IFERROR(VLOOKUP(H259,VendorResponseLookupTbl[], 2,0), \"\")","v":" The product cannot meet the requirement “Out-of-the-Box”, “With Configuration”, “With Custom Programming” or with a “Future Release”."}]
["5.B.10","Unit Recommendations","Functional","Dynamic-Based Unit Recommendations","Should Have","Please list your solution's ability to  generate dynamic-based unit recommendations using AVL to include:\n\na) The closest, most appropriate unit\nb) Hybrid recommendations that combine the positional data with business rules for each incident/event type that modify the order in which units are considered for dispatch (e.g., first due area)\nc) Incorporation of temporary restrictions (e.g., temporarily closed streets, perimeters, ongoing incidents)",null,"Cannot Meet",{"$f":"IFERROR(VLOOKUP(H260,VendorResponseLookupTbl[], 2,0), \"\")","v":" The product cannot meet the requirement “Out-of-the-Box”, “With Configuration”, “With Custom Programming” or with a “Future Release”."}]
["5.B.11","Unit Recommendations","Functional","Manual Recommendations","Must Have","Please list your solution's ability to manually generate recommendations based upon requested unit type(s).",null,"Cannot Meet",{"$f":"IFERROR(VLOOKUP(H261,VendorResponseLookupTbl[], 2,0), \"\")","v":" The product cannot meet the requirement “Out-of-the-Box”, “With Configuration”, “With Custom Programming” or with a “Future Release”."}]
["5.B.12","Unit Recommendations","Functional","Temporary Unit Resources","Should Have","Please list your solution's ability to support temporary designated unit resource types (e.g., paramedic engine) when developing recommendations.",null,"Cannot Meet",{"$f":"IFERROR(VLOOKUP(H262,VendorResponseLookupTbl[], 2,0), \"\")","v":" The product cannot meet the requirement “Out-of-the-Box”, “With Configuration”, “With Custom Programming” or with a “Future Release”."}]
["5.B.13","Unit Recommendations","Functional","Acceptance or Override Recommendations","Must Have","Please list your solution's ability for dispatchers to accept or override system recommendations.",null,"Cannot Meet",{"$f":"IFERROR(VLOOKUP(H263,VendorResponseLookupTbl[], 2,0), \"\")","v":" The product cannot meet the requirement “Out-of-the-Box”, “With Configuration”, “With Custom Programming” or with a “Future Release”."}]
["5.B.14","Unit Recommendations","Functional","Audit Trail","Must Have","Please list your solution's ability  for system to log recommendations and associated manual overrides.",null,"Cannot Meet",{"$f":"IFERROR(VLOOKUP(H264,VendorResponseLookupTbl[], 2,0), \"\")","v":" The product cannot meet the requirement “Out-of-the-Box”, “With Configuration”, “With Custom Programming” or with a “Future Release”."}]
["5.C.00","Unit Assignment"]
["5.C.01","Unit Assignment","Functional","Assigning Units","Must Have","Please list your solution's ability to assign units to events by:\n\na) Accepting the proposed application recommended units\nb) Selecting and dispatching units other than those recommended by the application\nc) Selecting some, but not all, of the recommended units\nd) Drag-and-drop from unit status monitors",null,"Cannot Meet",{"$f":"IFERROR(VLOOKUP(H266,VendorResponseLookupTbl[], 2,0), \"\")","v":" The product cannot meet the requirement “Out-of-the-Box”, “With Configuration”, “With Custom Programming” or with a “Future Release”."}]
["5.C.02","Unit Assignment","Functional","Event Updates","Must Have","Please list your solution's ability for CAD application to do the following upon assignment of units to events: \n\na) Remove the event from the pending queue\nb) Send the event to the assigned unit's mobile computer\nc) Start the status timers\nd) Update the status display\ne) Initiate paging, if applicable",null,"Cannot Meet",{"$f":"IFERROR(VLOOKUP(H267,VendorResponseLookupTbl[], 2,0), \"\")","v":" The product cannot meet the requirement “Out-of-the-Box”, “With Configuration”, “With Custom Programming” or with a “Future Release”."}]
["5.C.03","Unit Assignment","Functional","Primary Officer\nDesignation","Must Have","Please list your solution's ability to  designate a primary officer.",null,"Cannot Meet",{"$f":"IFERROR(VLOOKUP(H268,VendorResponseLookupTbl[], 2,0), \"\")","v":" The product cannot meet the requirement “Out-of-the-Box”, “With Configuration”, “With Custom Programming” or with a “Future Release”."}]
["5.C.04","Unit Assignment","Functional","Primary Officer\nChanges","Must Have","Please list your solution's ability to change the assigned primary officer.",null,"Cannot Meet",{"$f":"IFERROR(VLOOKUP(H269,VendorResponseLookupTbl[], 2,0), \"\")","v":" The product cannot meet the requirement “Out-of-the-Box”, “With Configuration”, “With Custom Programming” or with a “Future Release”."}]
["5.C.05","Unit Assignment","Functional","Primary Officer\nMultiple","Must Have","Please list your solution's ability to designate multiple primary officers if an event leads to multiple reports.",null,"Cannot Meet",{"$f":"IFERROR(VLOOKUP(H270,VendorResponseLookupTbl[], 2,0), \"\")","v":" The product cannot meet the requirement “Out-of-the-Box”, “With Configuration”, “With Custom Programming” or with a “Future Release”."}]
["5.C.06","Unit Assignment","Functional","Unit History per Incident","Must Have","Please list your solution's ability for unit histories to reflect the dispatch and any further action taken by units while assigned to the incident.",null,"Cannot Meet",{"$f":"IFERROR(VLOOKUP(H271,VendorResponseLookupTbl[], 2,0), \"\")","v":" The product cannot meet the requirement “Out-of-the-Box”, “With Configuration”, “With Custom Programming” or with a “Future Release”."}]
["5.C.07","Unit Assignment","Functional","Updating Events","Must Have","Please list your solution's ability to update events with all unit IDs assigned to the incident and any changes in their statuses during the incident.",null,"Cannot Meet",{"$f":"IFERROR(VLOOKUP(H272,VendorResponseLookupTbl[], 2,0), \"\")","v":" The product cannot meet the requirement “Out-of-the-Box”, “With Configuration”, “With Custom Programming” or with a “Future Release”."}]
["5.C.08","Unit Assignment","Functional","Reassignment of a Unit","Must Have","Please list your solution's ability to preempt a unit from an event and reassign the unit to a new event.",null,"Cannot Meet",{"$f":"IFERROR(VLOOKUP(H273,VendorResponseLookupTbl[], 2,0), \"\")","v":" The product cannot meet the requirement “Out-of-the-Box”, “With Configuration”, “With Custom Programming” or with a “Future Release”."}]
["5.C.09","Unit Assignment","Functional","Pending Event Queue","Must Have","Please list your solution's ability to return CAD event to the pending event queue if all units are removed from an active incident.",null,"Cannot Meet",{"$f":"IFERROR(VLOOKUP(H274,VendorResponseLookupTbl[], 2,0), \"\")","v":" The product cannot meet the requirement “Out-of-the-Box”, “With Configuration”, “With Custom Programming” or with a “Future Release”."}]
["5.C.10","Unit Assignment","Functional","Logon/Rostering Status","Must Have","Please list your solution's ability to assign units to events regardless of logon and rostering status.",null,"Cannot Meet",{"$f":"IFERROR(VLOOKUP(H275,VendorResponseLookupTbl[], 2,0), \"\")","v":" The product cannot meet the requirement “Out-of-the-Box”, “With Configuration”, “With Custom Programming” or with a “Future Release”."}]
["5.C.11","Unit Assignment","Functional","Off/Extra Duty Assignments","Must Have","Please list your solution's ability to assign temporary unit IDs for temporary assignments:\n\na) Off-duty officers encountering an incident\nb) Extra-duty assignments",null,"Cannot Meet",{"$f":"IFERROR(VLOOKUP(H276,VendorResponseLookupTbl[], 2,0), \"\")","v":" The product cannot meet the requirement “Out-of-the-Box”, “With Configuration”, “With Custom Programming” or with a “Future Release”."}]
["5.D.00","Call Stacking/Queuing"]
["5.D.01","Call Stacking/Queuing","Functional","Assigning Multiple Events","Must Have","Please list your solution's ability for dispatcher to assign multiple events to a given unit or resource.",null,"Cannot Meet",{"$f":"IFERROR(VLOOKUP(H278,VendorResponseLookupTbl[], 2,0), \"\")","v":" The product cannot meet the requirement “Out-of-the-Box”, “With Configuration”, “With Custom Programming” or with a “Future Release”."}]
["5.D.02","Call Stacking/Queuing","Functional","Holding an Event","Must Have","Please list your solution's ability to hold an event:\n\na) For a specified unit\nb) For an unspecified unit\nc) For a specific time in the future\nd) For a predetermined period of time\ne) For a manually entered period time",null,"Cannot Meet",{"$f":"IFERROR(VLOOKUP(H279,VendorResponseLookupTbl[], 2,0), \"\")","v":" The product cannot meet the requirement “Out-of-the-Box”, “With Configuration”, “With Custom Programming” or with a “Future Release”."}]
["5.D.03","Call Stacking/Queuing","Functional","Picking an Event","Must Have","Please list your solution's ability for units to pick from the assigned batch of events upon closing the current incident .",null,"Cannot Meet",{"$f":"IFERROR(VLOOKUP(H280,VendorResponseLookupTbl[], 2,0), \"\")","v":" The product cannot meet the requirement “Out-of-the-Box”, “With Configuration”, “With Custom Programming” or with a “Future Release”."}]
["5.D.04","Call Stacking/Queuing","Functional","Automatic Notification to Units","Must Have","Please list your solution's ability for units to automatically receive information for the next incident upon closing the current incident .",null,"Cannot Meet",{"$f":"IFERROR(VLOOKUP(H281,VendorResponseLookupTbl[], 2,0), \"\")","v":" The product cannot meet the requirement “Out-of-the-Box”, “With Configuration”, “With Custom Programming” or with a “Future Release”."}]
["5.D.05","Call Stacking/Queuing","Functional","Stacked Calls\nAutomatic Assignment","Must Have","Please list your solution's ability to automatically assign a stacked call to a specified unit upon clearing the current call.",null,"Cannot Meet",{"$f":"IFERROR(VLOOKUP(H282,VendorResponseLookupTbl[], 2,0), \"\")","v":" The product cannot meet the requirement “Out-of-the-Box”, “With Configuration”, “With Custom Programming” or with a “Future Release”."}]
["5.D.06","Call Stacking/Queuing","Functional","Stacked Calls\nLimiting Types","Must Have","Please list your solution's ability to  limit the types of calls that can be stacked.",null,"Cannot Meet",{"$f":"IFERROR(VLOOKUP(H283,VendorResponseLookupTbl[], 2,0), \"\")","v":" The product cannot meet the requirement “Out-of-the-Box”, “With Configuration”, “With Custom Programming” or with a “Future Release”."}]
["5.D.07","Call Stacking/Queuing","Functional","Stacked Calls\nReallocation","Must Have","Please list your solution's ability  for dispatchers to re-allocate stacked calls to other available units.",null,"Cannot Meet",{"$f":"IFERROR(VLOOKUP(H284,VendorResponseLookupTbl[], 2,0), \"\")","v":" The product cannot meet the requirement “Out-of-the-Box”, “With Configuration”, “With Custom Programming” or with a “Future Release”."}]
["5.E.00","Call Preemption"]
["5.E.01","Call Preemption","Functional","Unit Reassignment","Should Have","Please list your solution's ability to pull a unit off an incident and reassign the unit to a new incident.",null,"Cannot Meet",{"$f":"IFERROR(VLOOKUP(H286,VendorResponseLookupTbl[], 2,0), \"\")","v":" The product cannot meet the requirement “Out-of-the-Box”, “With Configuration”, “With Custom Programming” or with a “Future Release”."}]
["5.E.02","Call Preemption","Functional","Pending Event Queue","Should Have","Please list your solution's ability to return CAD incident to the pending dispatch queue if all units are removed from an active incident.",null,"Cannot Meet",{"$f":"IFERROR(VLOOKUP(H287,VendorResponseLookupTbl[], 2,0), \"\")","v":" The product cannot meet the requirement “Out-of-the-Box”, “With Configuration”, “With Custom Programming” or with a “Future Release”."}]
["5.E.03","Call Preemption","Functional","Visual Indicators","Should Have","Please list your solution's ability to visually indicate a preempted call (e.g., color code).",null,"Cannot Meet",{"$f":"IFERROR(VLOOKUP(H288,VendorResponseLookupTbl[], 2,0), \"\")","v":" The product cannot meet the requirement “Out-of-the-Box”, “With Configuration”, “With Custom Programming” or with a “Future Release”."}]
["5.E.04","Call Preemption","Functional","Swapping Incidents","Should Have","Please list your solution's ability for dispatch to swap incidents between two units with a single command.",null,"Cannot Meet",{"$f":"IFERROR(VLOOKUP(H289,VendorResponseLookupTbl[], 2,0), \"\")","v":" The product cannot meet the requirement “Out-of-the-Box”, “With Configuration”, “With Custom Programming” or with a “Future Release”."}]
["5.F.00","Perimeters"]
["5.F.01","Perimeters","Functional","Perimeter Posting","Should Have","Please list your solution's ability for dispatchers to assign units to perimeter posts.",null,"Cannot Meet",{"$f":"IFERROR(VLOOKUP(H291,VendorResponseLookupTbl[], 2,0), \"\")","v":" The product cannot meet the requirement “Out-of-the-Box”, “With Configuration”, “With Custom Programming” or with a “Future Release”."}]
["5.F.02","Perimeters","Functional","Multiple Locations \nSame Event","Should Have","Please list your solution's ability to support multiple unit locations within the same event.",null,"Cannot Meet",{"$f":"IFERROR(VLOOKUP(H292,VendorResponseLookupTbl[], 2,0), \"\")","v":" The product cannot meet the requirement “Out-of-the-Box”, “With Configuration”, “With Custom Programming” or with a “Future Release”."}]
["5.F.03","Perimeters","Functional","Drag and Drop Units","Should Have","Please list your solution's ability for dispatchers to drag and drop units assigned to an event onto map locations and have their location within the event update to the perimeter assignment.",null,"Cannot Meet",{"$f":"IFERROR(VLOOKUP(H293,VendorResponseLookupTbl[], 2,0), \"\")","v":" The product cannot meet the requirement “Out-of-the-Box”, “With Configuration”, “With Custom Programming” or with a “Future Release”."}]
["5.G.00","Event Updates"]
["5.G.01","Event Updates","Functional","Initial and Final Call Types","Should Have","Please list your solution's ability to  track initial and final call type in the CAD incident.",null,"Cannot Meet",{"$f":"IFERROR(VLOOKUP(H295,VendorResponseLookupTbl[], 2,0), \"\")","v":" The product cannot meet the requirement “Out-of-the-Box”, “With Configuration”, “With Custom Programming” or with a “Future Release”."}]
["5.G.02","Event Updates","Functional","Tracking Type Changes","Should Have","Please list your solution's ability to track all call type changes in the CAD incident record.",null,"Cannot Meet",{"$f":"IFERROR(VLOOKUP(H296,VendorResponseLookupTbl[], 2,0), \"\")","v":" The product cannot meet the requirement “Out-of-the-Box”, “With Configuration”, “With Custom Programming” or with a “Future Release”."}]
["5.G.03","Event Updates","Functional","Adding Information\nCAD Incident","Must Have","Please list your solution's ability for any authorized user to add information to a CAD incident.",null,"Cannot Meet",{"$f":"IFERROR(VLOOKUP(H297,VendorResponseLookupTbl[], 2,0), \"\")","v":" The product cannot meet the requirement “Out-of-the-Box”, “With Configuration”, “With Custom Programming” or with a “Future Release”."}]
["5.G.04","Event Updates","Functional","Premise History and Call Type","Must Have","Please list your solution's ability to track initial and final call type in the premise history for the call location.",null,"Cannot Meet",{"$f":"IFERROR(VLOOKUP(H298,VendorResponseLookupTbl[], 2,0), \"\")","v":" The product cannot meet the requirement “Out-of-the-Box”, “With Configuration”, “With Custom Programming” or with a “Future Release”."}]
["5.G.05","Event Updates","Functional","Adding Information\nCommand Line","Must Have","Please list your solution's ability to add information to an existing CAD event record from the command line without retrieving the CAD event.",null,"Cannot Meet",{"$f":"IFERROR(VLOOKUP(H299,VendorResponseLookupTbl[], 2,0), \"\")","v":" The product cannot meet the requirement “Out-of-the-Box”, “With Configuration”, “With Custom Programming” or with a “Future Release”."}]
["5.G.06","Event Updates","Functional","Simultaneous User Incident Information","Must Have","Please list your solution's ability or one or more users to simultaneously add incident information to an incident.",null,"Cannot Meet",{"$f":"IFERROR(VLOOKUP(H300,VendorResponseLookupTbl[], 2,0), \"\")","v":" The product cannot meet the requirement “Out-of-the-Box”, “With Configuration”, “With Custom Programming” or with a “Future Release”."}]
["5.G.07","Event Updates","Functional","Refreshing an Event","Must Have","Please list your solution's ability for open event screens to refresh upon addition of new information.",null,"Cannot Meet",{"$f":"IFERROR(VLOOKUP(H301,VendorResponseLookupTbl[], 2,0), \"\")","v":" The product cannot meet the requirement “Out-of-the-Box”, “With Configuration”, “With Custom Programming” or with a “Future Release”."}]
["5.G.08","Event Updates","Functional","New Information Available","Must Have","Please list your solution's ability to provide an indication in event windows that new information is available for an event.",null,"Cannot Meet",{"$f":"IFERROR(VLOOKUP(H302,VendorResponseLookupTbl[], 2,0), \"\")","v":" The product cannot meet the requirement “Out-of-the-Box”, “With Configuration”, “With Custom Programming” or with a “Future Release”."}]
["5.G.09","Event Updates","Functional","Automatic Identification","Must Have","Please list your solution's ability to automatically identify (e.g., ID stamp) the operator adding information to a call.",null,"Cannot Meet",{"$f":"IFERROR(VLOOKUP(H303,VendorResponseLookupTbl[], 2,0), \"\")","v":" The product cannot meet the requirement “Out-of-the-Box”, “With Configuration”, “With Custom Programming” or with a “Future Release”."}]
["5.G.10","Event Updates","Functional","Timestamps","Must Have","Please list your solution's ability to display a timestamp for all updates to the CAD event.",null,"Cannot Meet",{"$f":"IFERROR(VLOOKUP(H304,VendorResponseLookupTbl[], 2,0), \"\")","v":" The product cannot meet the requirement “Out-of-the-Box”, “With Configuration”, “With Custom Programming” or with a “Future Release”."}]
["5.G.11","Event Updates","Functional","Post-Call Comment Addition","Must Have","Please list your solution's ability for call taker comments added after a call has been dispatched to automatically update the dispatcher screen (without user intervention).",null,"Cannot Meet",{"$f":"IFERROR(VLOOKUP(H305,VendorResponseLookupTbl[], 2,0), \"\")","v":" The product cannot meet the requirement “Out-of-the-Box”, “With Configuration”, “With Custom Programming” or with a “Future Release”."}]
["5.G.12","Event Updates","Functional","Simultaneous Taker and Dispatcher Work","Must Have","Please list your solution's ability for call taker and dispatcher to work on the same event simultaneously.",null,"Cannot Meet",{"$f":"IFERROR(VLOOKUP(H306,VendorResponseLookupTbl[], 2,0), \"\")","v":" The product cannot meet the requirement “Out-of-the-Box”, “With Configuration”, “With Custom Programming” or with a “Future Release”."}]
["5.G.13","Event Updates","Functional","Viewing Additional Details","Must Have","Please list your solution's ability for additional details to be immediately available for viewing by personnel working on the event.",null,"Cannot Meet",{"$f":"IFERROR(VLOOKUP(H307,VendorResponseLookupTbl[], 2,0), \"\")","v":" The product cannot meet the requirement “Out-of-the-Box”, “With Configuration”, “With Custom Programming” or with a “Future Release”."}]
["5.G.14","Event Updates","Functional","Notification to Dispatchers","Must Have","Please list your solution's ability to alert dispatchers working an event to additional information as it is entered by call takers, other dispatchers or field units.",null,"Cannot Meet",{"$f":"IFERROR(VLOOKUP(H308,VendorResponseLookupTbl[], 2,0), \"\")","v":" The product cannot meet the requirement “Out-of-the-Box”, “With Configuration”, “With Custom Programming” or with a “Future Release”."}]
["5.G.15","Event Updates","Functional","Tracking Multiple Officers","Must Have","Please list your solution's ability to track multiple officer locations.",null,"Cannot Meet",{"$f":"IFERROR(VLOOKUP(H309,VendorResponseLookupTbl[], 2,0), \"\")","v":" The product cannot meet the requirement “Out-of-the-Box”, “With Configuration”, “With Custom Programming” or with a “Future Release”."}]
["5.G.16","Event Updates","Functional","Tracking Multiple Officers\nUpdates","Must Have","Please list your solution's ability to  track location updates for multiple officers if they are located in different locations.",null,"Cannot Meet",{"$f":"IFERROR(VLOOKUP(H310,VendorResponseLookupTbl[], 2,0), \"\")","v":" The product cannot meet the requirement “Out-of-the-Box”, “With Configuration”, “With Custom Programming” or with a “Future Release”."}]
["5.G.17","Event Updates","Functional","Agency-Configured Displays","Must Have","Please list your solution's ability to configure the system to display the most current information either at the top of the display or at the bottom of the display.",null,"Cannot Meet",{"$f":"IFERROR(VLOOKUP(H311,VendorResponseLookupTbl[], 2,0), \"\")","v":" The product cannot meet the requirement “Out-of-the-Box”, “With Configuration”, “With Custom Programming” or with a “Future Release”."}]
["5.G.18","Event Updates","Functional","Order of Displayed Information\nUser Type","Must Have","Please list your solution's ability to vary the order of the information displayed by user type (e.g., field unit, dispatcher, call taker).",null,"Cannot Meet",{"$f":"IFERROR(VLOOKUP(H312,VendorResponseLookupTbl[], 2,0), \"\")","v":" The product cannot meet the requirement “Out-of-the-Box”, “With Configuration”, “With Custom Programming” or with a “Future Release”."}]
["5.G.19","Event Updates","Functional","Order of Displayed Information\nDiscipline","Must Have","Please list your solution's ability to  vary the order of the information displayed by discipline (e.g., fire/medical or police).",null,"Cannot Meet",{"$f":"IFERROR(VLOOKUP(H313,VendorResponseLookupTbl[], 2,0), \"\")","v":" The product cannot meet the requirement “Out-of-the-Box”, “With Configuration”, “With Custom Programming” or with a “Future Release”."}]
["5.G.20","Event Updates","Functional","Adding Disciplines","Must Have","Please list your solution's ability for dispatchers to add disciplines to an existing incident.",null,"Cannot Meet",{"$f":"IFERROR(VLOOKUP(H314,VendorResponseLookupTbl[], 2,0), \"\")","v":" The product cannot meet the requirement “Out-of-the-Box”, “With Configuration”, “With Custom Programming” or with a “Future Release”."}]
["5.G.21","Event Updates","Functional","Unique Transport Destinations","Must Have","Please list your solution's ability to capture unique transport destination locations for each unit assigned to a call.",null,"Cannot Meet",{"$f":"IFERROR(VLOOKUP(H315,VendorResponseLookupTbl[], 2,0), \"\")","v":" The product cannot meet the requirement “Out-of-the-Box”, “With Configuration”, “With Custom Programming” or with a “Future Release”."}]
["5.G.22","Event Updates","Functional","Mileage per Transport","Must Have","Please list your solution's ability to capture starting and ending mileage for each transport destination location.",null,"Cannot Meet",{"$f":"IFERROR(VLOOKUP(H316,VendorResponseLookupTbl[], 2,0), \"\")","v":" The product cannot meet the requirement “Out-of-the-Box”, “With Configuration”, “With Custom Programming” or with a “Future Release”."}]
["5.H.00","Event Control"]
["5.H.01","Event Control","Functional","User Control of Group","Should Have","Please list your solution's ability  for a user to take control of a dispatch group.",null,"Cannot Meet",{"$f":"IFERROR(VLOOKUP(H318,VendorResponseLookupTbl[], 2,0), \"\")","v":" The product cannot meet the requirement “Out-of-the-Box”, “With Configuration”, “With Custom Programming” or with a “Future Release”."}]
["5.H.02","Event Control","Functional","Redirecting Open Incidents","Should Have","Please list your solution's ability to  redirect open incidents in CAD system to different dispatch groups based on:\n\na) Incident type\nb) Location\nc) Current dispatch group\nd) Event status",null,"Cannot Meet",{"$f":"IFERROR(VLOOKUP(H319,VendorResponseLookupTbl[], 2,0), \"\")","v":" The product cannot meet the requirement “Out-of-the-Box”, “With Configuration”, “With Custom Programming” or with a “Future Release”."}]
["5.I.00","Closed Event Management"]
["5.I.01","Closed Event Management","Functional","Reopening Closed Events","Must Have"," Please list your solution's ability to reopen closed events.",null,"Cannot Meet",{"$f":"IFERROR(VLOOKUP(H321,VendorResponseLookupTbl[], 2,0), \"\")","v":" The product cannot meet the requirement “Out-of-the-Box”, “With Configuration”, “With Custom Programming” or with a “Future Release”."}]
["5.I.02","Closed Event Management","Functional","Reopening Closed Events\nNo Historical Data Loss","Must Have","Please list your solution's ability to reopen a closed events without losing previously recorded date and timestamps.",null,"Cannot Meet",{"$f":"IFERROR(VLOOKUP(H322,VendorResponseLookupTbl[], 2,0), \"\")","v":" The product cannot meet the requirement “Out-of-the-Box”, “With Configuration”, “With Custom Programming” or with a “Future Release”."}]
["5.I.03","Closed Event Management","Functional","Calculating Event Duration","Must Have","Please list your solution's ability to  calculate event duration to include only the times the call is open (e.g., exclude the time it was closed from the calculation).",null,"Cannot Meet",{"$f":"IFERROR(VLOOKUP(H323,VendorResponseLookupTbl[], 2,0), \"\")","v":" The product cannot meet the requirement “Out-of-the-Box”, “With Configuration”, “With Custom Programming” or with a “Future Release”."}]
["5.I.04","Closed Event Management","Functional","Linking Events to Case Numbers","Must Have","Please list your solution's ability to  link a follow-up event to the case number for the original event.",null,"Cannot Meet",{"$f":"IFERROR(VLOOKUP(H324,VendorResponseLookupTbl[], 2,0), \"\")","v":" The product cannot meet the requirement “Out-of-the-Box”, “With Configuration”, “With Custom Programming” or with a “Future Release”."}]
["5.I.05","Closed Event Management","Functional","Units Assigned \nReopened Events","Must Have","Please list your solution's ability to assign units to reopened events.",null,"Cannot Meet",{"$f":"IFERROR(VLOOKUP(H325,VendorResponseLookupTbl[], 2,0), \"\")","v":" The product cannot meet the requirement “Out-of-the-Box”, “With Configuration”, “With Custom Programming” or with a “Future Release”."}]
["5.I.06","Closed Event Management","Functional","Closed Call\nAdding Comments","Must Have","Please list your solution's ability for dispatchers to add comments to a CAD call record after the call is closed without reopening the incident.",null,"Cannot Meet",{"$f":"IFERROR(VLOOKUP(H326,VendorResponseLookupTbl[], 2,0), \"\")","v":" The product cannot meet the requirement “Out-of-the-Box”, “With Configuration”, “With Custom Programming” or with a “Future Release”."}]
["5.I.07","Closed Event Management","Functional","Closed Call\nAdding Case Numbers","Must Have","Please list your solution's ability to add case numbers to closed events without reopening the event.",null,"Cannot Meet",{"$f":"IFERROR(VLOOKUP(H327,VendorResponseLookupTbl[], 2,0), \"\")","v":" The product cannot meet the requirement “Out-of-the-Box”, “With Configuration”, “With Custom Programming” or with a “Future Release”."}]
["5.I.08","Closed Event Management","Functional","Closed Call\nChanging Disposition","Must Have","Please list your solution's ability to change disposition for closed events without reopening the event.",null,"Cannot Meet",{"$f":"IFERROR(VLOOKUP(H328,VendorResponseLookupTbl[], 2,0), \"\")","v":" The product cannot meet the requirement “Out-of-the-Box”, “With Configuration”, “With Custom Programming” or with a “Future Release”."}]
["5.I.09","Closed Event Management","Functional","Cross-Referencing Closed Event to Other Event","Must Have","Please list your solution's ability to  cross-reference a closed event to a pending or new event.",null,"Cannot Meet",{"$f":"IFERROR(VLOOKUP(H329,VendorResponseLookupTbl[], 2,0), \"\")","v":" The product cannot meet the requirement “Out-of-the-Box”, “With Configuration”, “With Custom Programming” or with a “Future Release”."}]
["5.J.00","Timers"]
["5.J.01","Timers","Functional","Predefined Timers","Must Have","Please list your solution's ability to  provide predefined timers to alert dispatchers to situations requiring their attention.",null,"Cannot Meet",{"$f":"IFERROR(VLOOKUP(H331,VendorResponseLookupTbl[], 2,0), \"\")","v":" The product cannot meet the requirement “Out-of-the-Box”, “With Configuration”, “With Custom Programming” or with a “Future Release”."}]
["5.J.02","Timers","Functional","Agency-Configured Incident Timers","Must Have","Please list your solution's ability to configure incident timers and alerts based on customer-defined parameters (e.g., type of incident, unit arrival time, priority status) and times.",null,"Cannot Meet",{"$f":"IFERROR(VLOOKUP(H332,VendorResponseLookupTbl[], 2,0), \"\")","v":" The product cannot meet the requirement “Out-of-the-Box”, “With Configuration”, “With Custom Programming” or with a “Future Release”."}]
["5.J.03","Timers","Functional","Timer Associations","Must Have","Please list your solution's ability to associate timers with:\n\na) Unit status\nb) Incident type",null,"Cannot Meet",{"$f":"IFERROR(VLOOKUP(H333,VendorResponseLookupTbl[], 2,0), \"\")","v":" The product cannot meet the requirement “Out-of-the-Box”, “With Configuration”, “With Custom Programming” or with a “Future Release”."}]
["5.J.04","Timers","Functional","Alert to Expired Timer","Must Have","Please list your solution's ability to alert user to the expiration of the timer via:\n\na) Audible alert\nb) Visual alert",null,"Cannot Meet",{"$f":"IFERROR(VLOOKUP(H334,VendorResponseLookupTbl[], 2,0), \"\")","v":" The product cannot meet the requirement “Out-of-the-Box”, “With Configuration”, “With Custom Programming” or with a “Future Release”."}]
["5.J.05","Timers","Functional","Repeating Alerts","Must Have","Please list your solution's ability to configure the alerts to repeat at agency-defined intervals until the timer has been reset.",null,"Cannot Meet",{"$f":"IFERROR(VLOOKUP(H335,VendorResponseLookupTbl[], 2,0), \"\")","v":" The product cannot meet the requirement “Out-of-the-Box”, “With Configuration”, “With Custom Programming” or with a “Future Release”."}]
["5.J.06","Timers","Functional","Manual Alert Settings","Must Have","Please list your solution's ability to  manually set incident timers and alerts.",null,"Cannot Meet",{"$f":"IFERROR(VLOOKUP(H336,VendorResponseLookupTbl[], 2,0), \"\")","v":" The product cannot meet the requirement “Out-of-the-Box”, “With Configuration”, “With Custom Programming” or with a “Future Release”."}]
["5.J.07","Timers","Functional","Acknowledgement of Timers","Must Have","Please list your solution's ability to record acknowledgement of timer alert.",null,"Cannot Meet",{"$f":"IFERROR(VLOOKUP(H337,VendorResponseLookupTbl[], 2,0), \"\")","v":" The product cannot meet the requirement “Out-of-the-Box”, “With Configuration”, “With Custom Programming” or with a “Future Release”."}]
["5.J.08","Timers","Functional","Expired Timer Options","Must Have","Please list your solution's ability to provide the following options when a status timer expires:\n\na) Modify to new time value\nb) Reset to default value\nc) Stop timer",null,"Cannot Meet",{"$f":"IFERROR(VLOOKUP(H338,VendorResponseLookupTbl[], 2,0), \"\")","v":" The product cannot meet the requirement “Out-of-the-Box”, “With Configuration”, “With Custom Programming” or with a “Future Release”."}]
["5.J.09","Timers","Functional","Triggering Timers\nCheck-ins/Call Types","Must Have","Please list your solution's ability to  trigger timers for check-ins based on call types (traffic stops or domestic violence incidents).",null,"Cannot Meet",{"$f":"IFERROR(VLOOKUP(H339,VendorResponseLookupTbl[], 2,0), \"\")","v":" The product cannot meet the requirement “Out-of-the-Box”, “With Configuration”, “With Custom Programming” or with a “Future Release”."}]
["5.J.10","Timers","Functional","Timer Length\nIncident Type","Must Have","Please list your solution's ability for customer to determine the length of timers based on incident type.",null,"Cannot Meet",{"$f":"IFERROR(VLOOKUP(H340,VendorResponseLookupTbl[], 2,0), \"\")","v":" The product cannot meet the requirement “Out-of-the-Box”, “With Configuration”, “With Custom Programming” or with a “Future Release”."}]
["5.J.11","Timers","Functional","Timer Checks\nFire Operations","Must Have","Please list your solution's ability to provide timers to support checks during fire operations (e.g., personnel accountability report checks, time in environment checks and patient contact time).",null,"Cannot Meet",{"$f":"IFERROR(VLOOKUP(H341,VendorResponseLookupTbl[], 2,0), \"\")","v":" The product cannot meet the requirement “Out-of-the-Box”, “With Configuration”, “With Custom Programming” or with a “Future Release”."}]
["5.J.12","Timers","Functional","Agency-Configured\nAdditional Timers","Must Have","Please list your solution's ability for customer to configure additional timers to accommodate unique business practices.",null,"Cannot Meet",{"$f":"IFERROR(VLOOKUP(H342,VendorResponseLookupTbl[], 2,0), \"\")","v":" The product cannot meet the requirement “Out-of-the-Box”, “With Configuration”, “With Custom Programming” or with a “Future Release”."}]
["5.K.00","Event Disposition"]
["5.K.01","Event Disposition","Functional","Agency-Defined\nDisposition Codes","Must Have","Please list your solution's ability  for the customer to define incident disposition codes.",null,"Cannot Meet",{"$f":"IFERROR(VLOOKUP(H344,VendorResponseLookupTbl[], 2,0), \"\")","v":" The product cannot meet the requirement “Out-of-the-Box”, “With Configuration”, “With Custom Programming” or with a “Future Release”."}]
["5.K.02","Event Disposition","Functional","Business Rules","Must Have","Please list your solution's ability to define business rules for who can assign a disposition under different circumstances.",null,"Cannot Meet",{"$f":"IFERROR(VLOOKUP(H345,VendorResponseLookupTbl[], 2,0), \"\")","v":" The product cannot meet the requirement “Out-of-the-Box”, “With Configuration”, “With Custom Programming” or with a “Future Release”."}]
["5.K.03","Event Disposition","Functional","Alerts for Disposition","Must Have","Please list your solution's ability to provide alerts when the only unit on an event assigns a disposition (to prevent a unit from inadvertently closing an event when the event should be returned to the pending queue).",null,"Cannot Meet",{"$f":"IFERROR(VLOOKUP(H346,VendorResponseLookupTbl[], 2,0), \"\")","v":" The product cannot meet the requirement “Out-of-the-Box”, “With Configuration”, “With Custom Programming” or with a “Future Release”."}]
["5.K.04","Event Disposition","Functional","Agency-Defined\nSubsequent Actions","Must Have","Please list your solution's ability for agency-defined disposition codes to trigger subsequent actions (e.g., transfer of data to a data warehouse, report required).",null,"Cannot Meet",{"$f":"IFERROR(VLOOKUP(H347,VendorResponseLookupTbl[], 2,0), \"\")","v":" The product cannot meet the requirement “Out-of-the-Box”, “With Configuration”, “With Custom Programming” or with a “Future Release”."}]
["5.K.05","Event Disposition","Functional","User Comments\nDisposition Codes","Must Have","Please list your solution's ability for users to input comments along with a disposition code.",null,"Cannot Meet",{"$f":"IFERROR(VLOOKUP(H348,VendorResponseLookupTbl[], 2,0), \"\")","v":" The product cannot meet the requirement “Out-of-the-Box”, “With Configuration”, “With Custom Programming” or with a “Future Release”."}]
["5.K.06","Event Disposition","Functional","Default Disposition Codes","Must Have","Please list your solution's ability to automatically assign default disposition codes by event type.",null,"Cannot Meet",{"$f":"IFERROR(VLOOKUP(H349,VendorResponseLookupTbl[], 2,0), \"\")","v":" The product cannot meet the requirement “Out-of-the-Box”, “With Configuration”, “With Custom Programming” or with a “Future Release”."}]
["5.K.07","Event Disposition","Functional","Restricting Disposition Codes","Must Have","Please list your solution's ability to  restrict the disposition code(s) by call type (e.g., assault call type can not be closed \"services rendered\").",null,"Cannot Meet",{"$f":"IFERROR(VLOOKUP(H350,VendorResponseLookupTbl[], 2,0), \"\")","v":" The product cannot meet the requirement “Out-of-the-Box”, “With Configuration”, “With Custom Programming” or with a “Future Release”."}]
["5.K.08","Event Disposition","Functional","Unlimited Text Character Field","Must Have","Please list your solution's ability to enter comments of unlimited-length along with a disposition.",null,"Cannot Meet",{"$f":"IFERROR(VLOOKUP(H351,VendorResponseLookupTbl[], 2,0), \"\")","v":" The product cannot meet the requirement “Out-of-the-Box”, “With Configuration”, “With Custom Programming” or with a “Future Release”."}]
["6.A","Unit Management"]
["6.A.00","Rostering/Logon"]
["6.A.01","Rostering/Logon","Functional","Roster Definition","Must Have","Please list your solution's ability to define rosters.",null,"Cannot Meet",{"$f":"IFERROR(VLOOKUP(H354,VendorResponseLookupTbl[], 2,0), \"\")","v":" The product cannot meet the requirement “Out-of-the-Box”, “With Configuration”, “With Custom Programming” or with a “Future Release”."}]
["6.A.02","Rostering/Logon","Functional","Roster Record Information","Must Have","Please list your solution's ability for roster records to include:\n\na) Agency ID\nb) Unit ID\nc) Employee ID(s)\nd) Radio ID(s)\ne) Special Skill(s) (e.g., Hostage Negotiator, Spanish speaker)\nf) Special equipment based on individual qualifications (e.g., shotgun, long run)\ng) Riding position (e.g., nozzle, pipe, hydrant)",null,"Cannot Meet",{"$f":"IFERROR(VLOOKUP(H355,VendorResponseLookupTbl[], 2,0), \"\")","v":" The product cannot meet the requirement “Out-of-the-Box”, “With Configuration”, “With Custom Programming” or with a “Future Release”."}]
["6.A.03","Rostering/Logon","Functional","Importing Rosters","Must Have","Please list your solution's ability to import rosters from a third-party application.",null,"Cannot Meet",{"$f":"IFERROR(VLOOKUP(H356,VendorResponseLookupTbl[], 2,0), \"\")","v":" The product cannot meet the requirement “Out-of-the-Box”, “With Configuration”, “With Custom Programming” or with a “Future Release”."}]
["6.A.04","Rostering/Logon","Functional","Maintaining Rosters","Must Have","Please list your solution's ability to maintain rosters by:\n\na) Agency\nb) Division/Department (e.g., patrol, investigations)\nc) Shift\nd) Special details (e.g., bike detail assigned to Lake George)",null,"Cannot Meet",{"$f":"IFERROR(VLOOKUP(H357,VendorResponseLookupTbl[], 2,0), \"\")","v":" The product cannot meet the requirement “Out-of-the-Box”, “With Configuration”, “With Custom Programming” or with a “Future Release”."}]
["6.A.05","Rostering/Logon","Functional","Special Groups","Must Have","Please list your solution's ability to  create special groups and assign units to those groups for the purpose of tracking them separately from other geographically-based groups.",null,"Cannot Meet",{"$f":"IFERROR(VLOOKUP(H358,VendorResponseLookupTbl[], 2,0), \"\")","v":" The product cannot meet the requirement “Out-of-the-Box”, “With Configuration”, “With Custom Programming” or with a “Future Release”."}]
["6.A.06","Rostering/Logon","Functional","Logging Units","Must Have","Please list your solution's ability to  log one or more units on-duty/off-duty with a single command.",null,"Cannot Meet",{"$f":"IFERROR(VLOOKUP(H359,VendorResponseLookupTbl[], 2,0), \"\")","v":" The product cannot meet the requirement “Out-of-the-Box”, “With Configuration”, “With Custom Programming” or with a “Future Release”."}]
["6.A.07","Rostering/Logon","Functional","Placement in Roster","Must Have","Please list your solution's ability to place all units in a previously defined roster on or off-duty with a single command.",null,"Cannot Meet",{"$f":"IFERROR(VLOOKUP(H360,VendorResponseLookupTbl[], 2,0), \"\")","v":" The product cannot meet the requirement “Out-of-the-Box”, “With Configuration”, “With Custom Programming” or with a “Future Release”."}]
["6.A.08","Rostering/Logon","Functional","Notification of In-Service Units","Must Have","Please list your solution's ability to place a roster on-duty with units remaining unavailable or not recommended for calls until they notify the dispatcher that they are in service.",null,"Cannot Meet",{"$f":"IFERROR(VLOOKUP(H361,VendorResponseLookupTbl[], 2,0), \"\")","v":" The product cannot meet the requirement “Out-of-the-Box”, “With Configuration”, “With Custom Programming” or with a “Future Release”."}]
["6.A.09","Rostering/Logon","Functional","Creating a Temporary Unit","Must Have","Please list your solution's ability to create a temporary unit for a resource that does not have a permanent CAD profile (e.g., a resource from Denver loaned for a call).",null,"Cannot Meet",{"$f":"IFERROR(VLOOKUP(H362,VendorResponseLookupTbl[], 2,0), \"\")","v":" The product cannot meet the requirement “Out-of-the-Box”, “With Configuration”, “With Custom Programming” or with a “Future Release”."}]
["6.A.10","Rostering/Logon","Functional","Tracking Mutual Aid Units","Must Have","Please list your solution's ability to track mutual aid units that do not have a permanent CAD profile.",null,"Cannot Meet",{"$f":"IFERROR(VLOOKUP(H363,VendorResponseLookupTbl[], 2,0), \"\")","v":" The product cannot meet the requirement “Out-of-the-Box”, “With Configuration”, “With Custom Programming” or with a “Future Release”."}]
["6.A.11","Rostering/Logon","Functional","Single Unit Exceptions","Must Have","Please list your solution's ability to allow for single unit exceptions when placing a roster on or off duty.",null,"Cannot Meet",{"$f":"IFERROR(VLOOKUP(H364,VendorResponseLookupTbl[], 2,0), \"\")","v":" The product cannot meet the requirement “Out-of-the-Box”, “With Configuration”, “With Custom Programming” or with a “Future Release”."}]
["6.A.12","Rostering/Logon","Functional","Fire Apparatus","Must Have","Please list your solution's ability to log a fire apparatus into service without tying individuals to the apparatus.",null,"Cannot Meet",{"$f":"IFERROR(VLOOKUP(H365,VendorResponseLookupTbl[], 2,0), \"\")","v":" The product cannot meet the requirement “Out-of-the-Box”, “With Configuration”, “With Custom Programming” or with a “Future Release”."}]
["6.A.13","Rostering/Logon","Functional","Individual Skills","Must Have","Please list your solution's ability to  track individual skills and qualifications.",null,"Cannot Meet",{"$f":"IFERROR(VLOOKUP(H366,VendorResponseLookupTbl[], 2,0), \"\")","v":" The product cannot meet the requirement “Out-of-the-Box”, “With Configuration”, “With Custom Programming” or with a “Future Release”."}]
["6.A.14","Rostering/Logon","Functional","Identifying Fire Units","Must Have","Please list your solution's ability to identify fire units by special equipment (e.g., rescue tools).",null,"Cannot Meet",{"$f":"IFERROR(VLOOKUP(H367,VendorResponseLookupTbl[], 2,0), \"\")","v":" The product cannot meet the requirement “Out-of-the-Box”, “With Configuration”, “With Custom Programming” or with a “Future Release”."}]
["6.A.15","Rostering/Logon","Functional","Specific Units for Service","Must Have","Please list your solution's ability to designate a unit available for only certain types of calls.",null,"Cannot Meet",{"$f":"IFERROR(VLOOKUP(H368,VendorResponseLookupTbl[], 2,0), \"\")","v":" The product cannot meet the requirement “Out-of-the-Box”, “With Configuration”, “With Custom Programming” or with a “Future Release”."}]
["6.A.16","Rostering/Logon","Functional","Mobile Unit Logins","Must Have","Please list your solution's ability for mobile units to log themselves onto CAD.",null,"Cannot Meet",{"$f":"IFERROR(VLOOKUP(H369,VendorResponseLookupTbl[], 2,0), \"\")","v":" The product cannot meet the requirement “Out-of-the-Box”, “With Configuration”, “With Custom Programming” or with a “Future Release”."}]
["6.A.17","Rostering/Logon","Functional","Associating Personnel\nMobile Units","Must Have","Please list your solution's ability for personnel to be associated with any mobile unit (e.g., vehicle, apparatus).",null,"Cannot Meet",{"$f":"IFERROR(VLOOKUP(H370,VendorResponseLookupTbl[], 2,0), \"\")","v":" The product cannot meet the requirement “Out-of-the-Box”, “With Configuration”, “With Custom Programming” or with a “Future Release”."}]
["6.A.18","Rostering/Logon","Functional","Associating Personnel\nMultiple Individuals","Must Have","Please list your solution's ability to associate multiple individuals with a unit.",null,"Cannot Meet",{"$f":"IFERROR(VLOOKUP(H371,VendorResponseLookupTbl[], 2,0), \"\")","v":" The product cannot meet the requirement “Out-of-the-Box”, “With Configuration”, “With Custom Programming” or with a “Future Release”."}]
["6.A.19","Rostering/Logon","Functional","Without Mobile Computer\nIdentify Unit","Must Have","Please list your solution's ability to  indicate a unit that does not have a mobile computer.",null,"Cannot Meet",{"$f":"IFERROR(VLOOKUP(H372,VendorResponseLookupTbl[], 2,0), \"\")","v":" The product cannot meet the requirement “Out-of-the-Box”, “With Configuration”, “With Custom Programming” or with a “Future Release”."}]
["6.A.20","Rostering/Logon","Functional","Without Mobile Computer\nManage Unit","Must Have","Please list your solution's ability to manage units without a mobile computer.",null,"Cannot Meet",{"$f":"IFERROR(VLOOKUP(H373,VendorResponseLookupTbl[], 2,0), \"\")","v":" The product cannot meet the requirement “Out-of-the-Box”, “With Configuration”, “With Custom Programming” or with a “Future Release”."}]
["6.A.21","Rostering/Logon","Functional","Back Into Service","Must Have","Please list your solution's ability to place an apparatus back in service when it is within a customer-defined radius of its station.",null,"Cannot Meet",{"$f":"IFERROR(VLOOKUP(H374,VendorResponseLookupTbl[], 2,0), \"\")","v":" The product cannot meet the requirement “Out-of-the-Box”, “With Configuration”, “With Custom Programming” or with a “Future Release”."}]
["6.A.22","Rostering/Logon","Functional","Changing Unit Status","Must Have","Please list your solution's ability to change the status of a unit regardless of logged on status (e.g., assign to a call without being logged in).",null,"Cannot Meet",{"$f":"IFERROR(VLOOKUP(H375,VendorResponseLookupTbl[], 2,0), \"\")","v":" The product cannot meet the requirement “Out-of-the-Box”, “With Configuration”, “With Custom Programming” or with a “Future Release”."}]
["6.B.00","Unit Status Display"]
["6.B.01","Unit Status Display","Functional","Agency-Configurations\nUnit Displays","Must Have","Please list your solution's ability to provide configurable windows to display units.",null,"Cannot Meet",{"$f":"IFERROR(VLOOKUP(H377,VendorResponseLookupTbl[], 2,0), \"\")","v":" The product cannot meet the requirement “Out-of-the-Box”, “With Configuration”, “With Custom Programming” or with a “Future Release”."}]
["6.B.02","Unit Status Display","Functional","Filter Units","Must Have","Please list your solution's ability to filter the unit status windows by:\n\na) Discipline\nb) Agency\nc) Dispatch area\nd) Unit status\ne) Special assignment or special detail",null,"Cannot Meet",{"$f":"IFERROR(VLOOKUP(H378,VendorResponseLookupTbl[], 2,0), \"\")","v":" The product cannot meet the requirement “Out-of-the-Box”, “With Configuration”, “With Custom Programming” or with a “Future Release”."}]
["6.B.03","Unit Status Display","Functional","Split Windows","Must Have","Please list your solution's ability to split windows by:\n\na) Discipline\nb) Agency\nc) Dispatch area\nd) Unit Status\ne) Special assignment or special detail",null,"Cannot Meet",{"$f":"IFERROR(VLOOKUP(H379,VendorResponseLookupTbl[], 2,0), \"\")","v":" The product cannot meet the requirement “Out-of-the-Box”, “With Configuration”, “With Custom Programming” or with a “Future Release”."}]
["6.B.04","Unit Status Display","Functional","Displaying Information","Must Have","Please list your solution's ability to display the following unit information:\n\na) Call type\nb) Current incident number\nc) Incident location\nd) Current unit location\ne) Status\nf) Elapsed time in status\ng) Radio ID\nh) Unit ID/call sign\ni) Unit name\nj) Specialty or skill",null,"Cannot Meet",{"$f":"IFERROR(VLOOKUP(H380,VendorResponseLookupTbl[], 2,0), \"\")","v":" The product cannot meet the requirement “Out-of-the-Box”, “With Configuration”, “With Custom Programming” or with a “Future Release”."}]
["6.B.05","Unit Status Display","Functional","User-Configurations\nDisplayed Information","Must Have","Please list your solution's ability for a user to configure the information that is displayed on the unit status screen.",null,"Cannot Meet",{"$f":"IFERROR(VLOOKUP(H381,VendorResponseLookupTbl[], 2,0), \"\")","v":" The product cannot meet the requirement “Out-of-the-Box”, “With Configuration”, “With Custom Programming” or with a “Future Release”."}]
["6.B.06","Unit Status Display","Functional","Unit Login\nTemporary","Must Have","Please list your solution's ability for system to indicate a unit that is temporarily logged on.",null,"Cannot Meet",{"$f":"IFERROR(VLOOKUP(H382,VendorResponseLookupTbl[], 2,0), \"\")","v":" The product cannot meet the requirement “Out-of-the-Box”, “With Configuration”, “With Custom Programming” or with a “Future Release”."}]
["6.B.07","Unit Status Display","Functional","Air Only Units","Must Have","Please list your solution's ability to  indicate units that are not equipped with a mobile device (on air only).",null,"Cannot Meet",{"$f":"IFERROR(VLOOKUP(H383,VendorResponseLookupTbl[], 2,0), \"\")","v":" The product cannot meet the requirement “Out-of-the-Box”, “With Configuration”, “With Custom Programming” or with a “Future Release”."}]
["6.B.08","Unit Status Display","Functional","Default Availability","Must Have","Please list your solution's ability to associate a default availability with each status (e.g., unit available when in particular status).",null,"Cannot Meet",{"$f":"IFERROR(VLOOKUP(H384,VendorResponseLookupTbl[], 2,0), \"\")","v":" The product cannot meet the requirement “Out-of-the-Box”, “With Configuration”, “With Custom Programming” or with a “Future Release”."}]
["6.B.09","Unit Status Display","Functional","Sorting Displayed Data","Must Have","Please list your solution's ability to sort displayed data by any unit information (e.g., station, shift, incident, unit, location, status).",null,"Cannot Meet",{"$f":"IFERROR(VLOOKUP(H385,VendorResponseLookupTbl[], 2,0), \"\")","v":" The product cannot meet the requirement “Out-of-the-Box”, “With Configuration”, “With Custom Programming” or with a “Future Release”."}]
["6.B.10","Unit Status Display","Functional","Visual Indicators","Must Have","Please list your solution's ability to  visually differentiate, through color, text and/or symbol, units in varying status or conditions.",null,"Cannot Meet",{"$f":"IFERROR(VLOOKUP(H386,VendorResponseLookupTbl[], 2,0), \"\")","v":" The product cannot meet the requirement “Out-of-the-Box”, “With Configuration”, “With Custom Programming” or with a “Future Release”."}]
["6.B.11","Unit Status Display","Functional","Displaying Unit Location","Must Have","Please list your solution's ability to display unit locations on the CAD map.",null,"Cannot Meet",{"$f":"IFERROR(VLOOKUP(H387,VendorResponseLookupTbl[], 2,0), \"\")","v":" The product cannot meet the requirement “Out-of-the-Box”, “With Configuration”, “With Custom Programming” or with a “Future Release”."}]
["6.C.00","Unit Activity Tracking"]
["6.C.01","Unit Activity Tracking","Functional","Timestamps","Must Have","Please list your solution's ability to  log and time stamp transactions associated with units:\n\na) Unit status changes\nb) Unit locations\nc) Taking or releasing control of a dispatch group",null,"Cannot Meet",{"$f":"IFERROR(VLOOKUP(H389,VendorResponseLookupTbl[], 2,0), \"\")","v":" The product cannot meet the requirement “Out-of-the-Box”, “With Configuration”, “With Custom Programming” or with a “Future Release”."}]
["6.C.02","Unit Activity Tracking","Functional","Recording Assignments","Should Have","Please list your solution's ability to record unit assignments.",null,"Cannot Meet",{"$f":"IFERROR(VLOOKUP(H390,VendorResponseLookupTbl[], 2,0), \"\")","v":" The product cannot meet the requirement “Out-of-the-Box”, “With Configuration”, “With Custom Programming” or with a “Future Release”."}]
["6.C.03","Unit Activity Tracking","Functional","Recording Locations","Must Have","Please list your solution's ability to record unit locations.",null,"Cannot Meet",{"$f":"IFERROR(VLOOKUP(H391,VendorResponseLookupTbl[], 2,0), \"\")","v":" The product cannot meet the requirement “Out-of-the-Box”, “With Configuration”, “With Custom Programming” or with a “Future Release”."}]
["6.C.04","Unit Activity Tracking","Functional","Recording Status Changes","Must Have","Please list your solution's ability to  record unit status changes.",null,"Cannot Meet",{"$f":"IFERROR(VLOOKUP(H392,VendorResponseLookupTbl[], 2,0), \"\")","v":" The product cannot meet the requirement “Out-of-the-Box”, “With Configuration”, “With Custom Programming” or with a “Future Release”."}]
["6.C.05","Unit Activity Tracking","Functional","Time Tracking","Must Have","Please list your solution's ability to  track the time that units are in each status.",null,"Cannot Meet",{"$f":"IFERROR(VLOOKUP(H393,VendorResponseLookupTbl[], 2,0), \"\")","v":" The product cannot meet the requirement “Out-of-the-Box”, “With Configuration”, “With Custom Programming” or with a “Future Release”."}]
["6.C.06","Unit Activity Tracking","Functional","Audit Trails","Must Have","Please list your solution's ability to record and timestamp any change in unit location.",null,"Cannot Meet",{"$f":"IFERROR(VLOOKUP(H394,VendorResponseLookupTbl[], 2,0), \"\")","v":" The product cannot meet the requirement “Out-of-the-Box”, “With Configuration”, “With Custom Programming” or with a “Future Release”."}]
["6.C.07","Unit Activity Tracking","Functional","Multiple Units\nDifferent Locations","Must Have","Please list your solution's ability to record different locations for each unit within the same event when two or more units are assigned to the same vehicle or apparatus.",null,"Cannot Meet",{"$f":"IFERROR(VLOOKUP(H395,VendorResponseLookupTbl[], 2,0), \"\")","v":" The product cannot meet the requirement “Out-of-the-Box”, “With Configuration”, “With Custom Programming” or with a “Future Release”."}]
["6.C.08","Unit Activity Tracking","Functional","Unit Tracking and Validation","Must Have","Please list your solution's ability to  capture, validate and track units that are assigned to the same incident but operating at different locations from the primary or initial location.",null,"Cannot Meet",{"$f":"IFERROR(VLOOKUP(H396,VendorResponseLookupTbl[], 2,0), \"\")","v":" The product cannot meet the requirement “Out-of-the-Box”, “With Configuration”, “With Custom Programming” or with a “Future Release”."}]
["6.C.09","Unit Activity Tracking","Functional","Multiple Transport Destinations","Must Have","Please list your solution's ability to capture multiple transport destinations.",null,"Cannot Meet",{"$f":"IFERROR(VLOOKUP(H397,VendorResponseLookupTbl[], 2,0), \"\")","v":" The product cannot meet the requirement “Out-of-the-Box”, “With Configuration”, “With Custom Programming” or with a “Future Release”."}]
["6.C.10","Unit Activity Tracking","Functional","Recording Mileage","Could Have","Please list your solution's ability to record starting and ending mileage.",null,"Cannot Meet",{"$f":"IFERROR(VLOOKUP(H398,VendorResponseLookupTbl[], 2,0), \"\")","v":" The product cannot meet the requirement “Out-of-the-Box”, “With Configuration”, “With Custom Programming” or with a “Future Release”."}]
["6.C.11","Unit Activity Tracking","Functional","Recording Multiple Arrival Times","Should Have","Please list your solution's ability to record multiple arrival times associated with different statuses (e.g., arrival at a staging area, arrival at the scene).",null,"Cannot Meet",{"$f":"IFERROR(VLOOKUP(H399,VendorResponseLookupTbl[], 2,0), \"\")","v":" The product cannot meet the requirement “Out-of-the-Box”, “With Configuration”, “With Custom Programming” or with a “Future Release”."}]
["6.C.12","Unit Activity Tracking","Functional","Recording Multiple Units","Must Have","Please list your solution's ability to  record multiple units arriving:\n\na) At one time (all at once)\nb) at different times",null,"Cannot Meet",{"$f":"IFERROR(VLOOKUP(H400,VendorResponseLookupTbl[], 2,0), \"\")","v":" The product cannot meet the requirement “Out-of-the-Box”, “With Configuration”, “With Custom Programming” or with a “Future Release”."}]
["6.C.13","Unit Activity Tracking","Functional","Automatic Proximity Marking","Should Have","Please list your solution's ability to automatically mark a unit on-scene when it comes within a certain number of feet of the incident location (with AVL functionality).",null,"Cannot Meet",{"$f":"IFERROR(VLOOKUP(H401,VendorResponseLookupTbl[], 2,0), \"\")","v":" The product cannot meet the requirement “Out-of-the-Box”, “With Configuration”, “With Custom Programming” or with a “Future Release”."}]
["6.C.14","Unit Activity Tracking","Functional","Updating Unit Status","Must Have","Please list your solution's ability to update unit status via:\n\na) Command line\nb) Drop down menu\nc) AVL based on radius from specified locations",null,"Cannot Meet",{"$f":"IFERROR(VLOOKUP(H402,VendorResponseLookupTbl[], 2,0), \"\")","v":" The product cannot meet the requirement “Out-of-the-Box”, “With Configuration”, “With Custom Programming” or with a “Future Release”."}]
["6.D.00","Unit Clearance"]
["6.D.01","Unit Clearance","Functional","Clearing Units\nSingle","Must Have","Please list your solution's ability to clear one unit from a CAD event while allowing the other assigned units to remain on the call.",null,"Cannot Meet",{"$f":"IFERROR(VLOOKUP(H404,VendorResponseLookupTbl[], 2,0), \"\")","v":" The product cannot meet the requirement “Out-of-the-Box”, “With Configuration”, “With Custom Programming” or with a “Future Release”."}]
["6.D.02","Unit Clearance","Functional","Clearing Units\nMultiple","Must Have","Please list your solution's ability to clear multiple units from an event.",null,"Cannot Meet",{"$f":"IFERROR(VLOOKUP(H405,VendorResponseLookupTbl[], 2,0), \"\")","v":" The product cannot meet the requirement “Out-of-the-Box”, “With Configuration”, “With Custom Programming” or with a “Future Release”."}]
["6.D.03","Unit Clearance","Functional","User Confirmation","Should Have","Please list your solution's ability to request user confirmation prior to clearing the last unit from an event.",null,"Cannot Meet",{"$f":"IFERROR(VLOOKUP(H406,VendorResponseLookupTbl[], 2,0), \"\")","v":" The product cannot meet the requirement “Out-of-the-Box”, “With Configuration”, “With Custom Programming” or with a “Future Release”."}]
["6.D.04","Unit Clearance","Functional","Alert Responding Units","Should Have","Please list your solution's ability to alert responding units when additional units are cleared or added to a call.",null,"Cannot Meet",{"$f":"IFERROR(VLOOKUP(H407,VendorResponseLookupTbl[], 2,0), \"\")","v":" The product cannot meet the requirement “Out-of-the-Box”, “With Configuration”, “With Custom Programming” or with a “Future Release”."}]
["6.D.05","Unit Clearance","Functional","Required Disposition","Should Have","Please list your solution's ability to require a disposition to be entered prior to clearing the primary unit from a CAD incident.",null,"Cannot Meet",{"$f":"IFERROR(VLOOKUP(H408,VendorResponseLookupTbl[], 2,0), \"\")","v":" The product cannot meet the requirement “Out-of-the-Box”, “With Configuration”, “With Custom Programming” or with a “Future Release”."}]
["7.A","Fire and Medical Dispatching"]
["7.A.00","Fire and Medical Dispatching"]
["7.A.01","Run Cards and Response Plans","Functional","Defining Response Plans\nMust Have","Must Have","Please list your solution's ability to define response plans based on:\n\na) Call type\nb) Apparatus type\nc) Unit type\nd) Primary unit capabilities\ne) Mutual aid availability",null,"Cannot Meet",{"$f":"IFERROR(VLOOKUP(H411,VendorResponseLookupTbl[], 2,0), \"\")","v":" The product cannot meet the requirement “Out-of-the-Box”, “With Configuration”, “With Custom Programming” or with a “Future Release”."}]
["7.A.02","Run Cards and Response Plans","Functional","Defining Response Plans\nShould Have","Should Have","Please list your solution's ability to define response plans based on:\n\na) Secondary unit capabilities\nb) Resource group\nc) Target hazard\nd) Premise requirements\ne) Time-of-day",null,"Cannot Meet",{"$f":"IFERROR(VLOOKUP(H412,VendorResponseLookupTbl[], 2,0), \"\")","v":" The product cannot meet the requirement “Out-of-the-Box”, “With Configuration”, “With Custom Programming” or with a “Future Release”."}]
["7.A.03","Run Cards and Response Plans","Functional","Defining Response Plans\nCould Have","Could Have","Please list your solution's ability to define response plans based on:\n\na) Personnel capabilities\nb) Day-of-week\nc) Environmental conditions",null,"Cannot Meet",{"$f":"IFERROR(VLOOKUP(H413,VendorResponseLookupTbl[], 2,0), \"\")","v":" The product cannot meet the requirement “Out-of-the-Box”, “With Configuration”, “With Custom Programming” or with a “Future Release”."}]
["7.A.04","Run Cards and Response Plans","Functional","Supporting Static Response Plans","Must Have","Please list your solution's ability to support static response plans that identify the number, type or specific units that respond to an incident of a specified type, and the order in which they respond.",null,"Cannot Meet",{"$f":"IFERROR(VLOOKUP(H414,VendorResponseLookupTbl[], 2,0), \"\")","v":" The product cannot meet the requirement “Out-of-the-Box”, “With Configuration”, “With Custom Programming” or with a “Future Release”."}]
["7.A.05","Run Cards and Response Plans","Functional","Supporting Dynamic Response Plans","Should Have","Please list your solution's ability to support dynamic response plans that identify the number, type or specific units that respond to an incident of a specified type, and the order in which they respond.",null,"Cannot Meet",{"$f":"IFERROR(VLOOKUP(H415,VendorResponseLookupTbl[], 2,0), \"\")","v":" The product cannot meet the requirement “Out-of-the-Box”, “With Configuration”, “With Custom Programming” or with a “Future Release”."}]
["7.A.06","Run Cards and Response Plans","Functional","Supporting Business Logic","Should Have","Please list your solution's ability to support business logic in the response plans (e.g., only send fire suppression equipment to an EMS run if the estimated EMS response time exceeds n minutes).",null,"Cannot Meet",{"$f":"IFERROR(VLOOKUP(H416,VendorResponseLookupTbl[], 2,0), \"\")","v":" The product cannot meet the requirement “Out-of-the-Box”, “With Configuration”, “With Custom Programming” or with a “Future Release”."}]
["7.A.07","Run Cards and Response Plans","Functional","Response Plans\nSwapping Units","Should Have","Please list your solution's ability  for response plans to include rules to swap or add units needed based on time or distance to the incident .",null,"Cannot Meet",{"$f":"IFERROR(VLOOKUP(H417,VendorResponseLookupTbl[], 2,0), \"\")","v":" The product cannot meet the requirement “Out-of-the-Box”, “With Configuration”, “With Custom Programming” or with a “Future Release”."}]
["7.A.08","Run Cards and Response Plans","Functional","Supporting Hybrid Response Plans","Should Have","Please list your solution's ability to support hybrid response plans where some units are identified as static and the remainder are dynamic.",null,"Cannot Meet",{"$f":"IFERROR(VLOOKUP(H418,VendorResponseLookupTbl[], 2,0), \"\")","v":" The product cannot meet the requirement “Out-of-the-Box”, “With Configuration”, “With Custom Programming” or with a “Future Release”."}]
["7.A.09","Run Cards and Response Plans","Functional","Minimum Alarm Levels","Should Have","Please list your solution's ability to support a minimum of ten (10) alarm levels.",null,"Cannot Meet",{"$f":"IFERROR(VLOOKUP(H419,VendorResponseLookupTbl[], 2,0), \"\")","v":" The product cannot meet the requirement “Out-of-the-Box”, “With Configuration”, “With Custom Programming” or with a “Future Release”."}]
["7.A.10","Run Cards and Response Plans","Functional","TOD Adjustments","Could Have","Please list your solution's ability to adjust response plans by time-of-day.",null,"Cannot Meet",{"$f":"IFERROR(VLOOKUP(H420,VendorResponseLookupTbl[], 2,0), \"\")","v":" The product cannot meet the requirement “Out-of-the-Box”, “With Configuration”, “With Custom Programming” or with a “Future Release”."}]
["7.A.11","Run Cards and Response Plans","Functional","DOW Adjustments","Could Have","Please list your solution's ability to adjust response plans by day-of-week.",null,"Cannot Meet",{"$f":"IFERROR(VLOOKUP(H421,VendorResponseLookupTbl[], 2,0), \"\")","v":" The product cannot meet the requirement “Out-of-the-Box”, “With Configuration”, “With Custom Programming” or with a “Future Release”."}]
["7.A.12","Run Cards and Response Plans","Functional","Default Incident Commander","Could Have","Please list your solution's ability to designate a default Incident Commander.",null,"Cannot Meet",{"$f":"IFERROR(VLOOKUP(H422,VendorResponseLookupTbl[], 2,0), \"\")","v":" The product cannot meet the requirement “Out-of-the-Box”, “With Configuration”, “With Custom Programming” or with a “Future Release”."}]
["7.A.13","Run Cards and Response Plans","Functional","Designated Assignments","Should Have","Please list your solution's ability to  include designated cover or move-up assignments in the response plans for each alarm level.",null,"Cannot Meet",{"$f":"IFERROR(VLOOKUP(H423,VendorResponseLookupTbl[], 2,0), \"\")","v":" The product cannot meet the requirement “Out-of-the-Box”, “With Configuration”, “With Custom Programming” or with a “Future Release”."}]
["7.A.14","Run Cards and Response Plans","Functional","Temporary Response Plans","Should Have","Please list your solution's ability to  create a temporary response plan for special events or circumstances.",null,"Cannot Meet",{"$f":"IFERROR(VLOOKUP(H424,VendorResponseLookupTbl[], 2,0), \"\")","v":" The product cannot meet the requirement “Out-of-the-Box”, “With Configuration”, “With Custom Programming” or with a “Future Release”."}]
["7.B.00","Additional Attributes"]
["7.B.01","Additional Attributes","Functional","Units","Must Have","Please list your solution's ability to  track and display agency-defined attributes of Units.",null,"Cannot Meet",{"$f":"IFERROR(VLOOKUP(H426,VendorResponseLookupTbl[], 2,0), \"\")","v":" The product cannot meet the requirement “Out-of-the-Box”, “With Configuration”, “With Custom Programming” or with a “Future Release”."}]
["7.B.02","Additional Attributes","Functional","Personnel","Could Have","Please list your solution's ability to  track and display agency-defined attributes of Personnel.",null,"Cannot Meet",{"$f":"IFERROR(VLOOKUP(H427,VendorResponseLookupTbl[], 2,0), \"\")","v":" The product cannot meet the requirement “Out-of-the-Box”, “With Configuration”, “With Custom Programming” or with a “Future Release”."}]
["7.B.03","Additional Attributes","Functional","Agency-Defined \nUnit Recommendations","Must Have","Please list your solution's ability to support using the agency-defined attributes in the unit recommendation process.",null,"Cannot Meet",{"$f":"IFERROR(VLOOKUP(H428,VendorResponseLookupTbl[], 2,0), \"\")","v":" The product cannot meet the requirement “Out-of-the-Box”, “With Configuration”, “With Custom Programming” or with a “Future Release”."}]
["7.B.04","Additional Attributes","Functional","Auto-Aid Units","Must Have","Please list your solution's ability to assign attributes to auto-aid units.",null,"Cannot Meet",{"$f":"IFERROR(VLOOKUP(H429,VendorResponseLookupTbl[], 2,0), \"\")","v":" The product cannot meet the requirement “Out-of-the-Box”, “With Configuration”, “With Custom Programming” or with a “Future Release”."}]
["7.C.00","Cross-Staffing"]
["7.C.01","Cross-Staffing","Functional","Supporting Cross-Staffing","Should Have","Please list your solution's ability to support:\n\na) Station cross-staffing\nb) Unit cross-staffing\nc) Crew count",null,"Cannot Meet",{"$f":"IFERROR(VLOOKUP(H431,VendorResponseLookupTbl[], 2,0), \"\")","v":" The product cannot meet the requirement “Out-of-the-Box”, “With Configuration”, “With Custom Programming” or with a “Future Release”."}]
["7.C.02","Cross-Staffing","Functional","Joint Staffing","Should Have","Please list your solution's ability for crews to jointly staff more than one available unit.",null,"Cannot Meet",{"$f":"IFERROR(VLOOKUP(H432,VendorResponseLookupTbl[], 2,0), \"\")","v":" The product cannot meet the requirement “Out-of-the-Box”, “With Configuration”, “With Custom Programming” or with a “Future Release”."}]
["7.C.03","Cross-Staffing","Functional","Single Unit  ","Could Have","Please list your solution's ability for multiple units to cross-staff a single unit.",null,"Cannot Meet",{"$f":"IFERROR(VLOOKUP(H433,VendorResponseLookupTbl[], 2,0), \"\")","v":" The product cannot meet the requirement “Out-of-the-Box”, “With Configuration”, “With Custom Programming” or with a “Future Release”."}]
["7.C.04","Cross-Staffing","Functional","Out-of-Service","Should Have","Please list your solution's ability to place a unit out of service when cross-staffed crew are assigned to a different unit.",null,"Cannot Meet",{"$f":"IFERROR(VLOOKUP(H434,VendorResponseLookupTbl[], 2,0), \"\")","v":" The product cannot meet the requirement “Out-of-the-Box”, “With Configuration”, “With Custom Programming” or with a “Future Release”."}]
["7.C.05","Cross-Staffing","Functional","Minimum Staffing","Should Have","Please list your solution's ability for unit availability to be based on minimum unit staffing.",null,"Cannot Meet",{"$f":"IFERROR(VLOOKUP(H435,VendorResponseLookupTbl[], 2,0), \"\")","v":" The product cannot meet the requirement “Out-of-the-Box”, “With Configuration”, “With Custom Programming” or with a “Future Release”."}]
["7.D.00","Mutual Aid"]
["7.D.01","Mutual Aid","Functional","Automatic Mutual Aid","Must Have","Please list your solution's ability to support automatic mutual aid within response plans.",null,"Cannot Meet",{"$f":"IFERROR(VLOOKUP(H437,VendorResponseLookupTbl[], 2,0), \"\")","v":" The product cannot meet the requirement “Out-of-the-Box”, “With Configuration”, “With Custom Programming” or with a “Future Release”."}]
["7.D.02","Mutual Aid","Functional","Requested Mutual Aid ","Must Have","Please list your solution's ability to support requested mutual aid within response plans.",null,"Cannot Meet",{"$f":"IFERROR(VLOOKUP(H438,VendorResponseLookupTbl[], 2,0), \"\")","v":" The product cannot meet the requirement “Out-of-the-Box”, “With Configuration”, “With Custom Programming” or with a “Future Release”."}]
["7.D.03","Mutual Aid","Functional","Call Type","Must Have","Please list your solution's ability to  support automatic mutual aid within response plans based on Call type.",null,"Cannot Meet",{"$f":"IFERROR(VLOOKUP(H439,VendorResponseLookupTbl[], 2,0), \"\")","v":" The product cannot meet the requirement “Out-of-the-Box”, “With Configuration”, “With Custom Programming” or with a “Future Release”."}]
["7.D.04","Mutual Aid","Functional","TOD and DOW","Could Have","Please list your solution's ability to  support automatic mutual aid within response plans based on:\n\na) Time of day\nb) Day of week",null,"Cannot Meet",{"$f":"IFERROR(VLOOKUP(H440,VendorResponseLookupTbl[], 2,0), \"\")","v":" The product cannot meet the requirement “Out-of-the-Box”, “With Configuration”, “With Custom Programming” or with a “Future Release”."}]
["7.D.05","Mutual Aid","Functional","Availability and Location","Should Have","Please list your solution's ability to  support automatic mutual aid within response plans based on:\n\na) Resource availability (e.g., staffing levels, availability of volunteer resources)\nb) Premise location",null,"Cannot Meet",{"$f":"IFERROR(VLOOKUP(H441,VendorResponseLookupTbl[], 2,0), \"\")","v":" The product cannot meet the requirement “Out-of-the-Box”, “With Configuration”, “With Custom Programming” or with a “Future Release”."}]
["7.D.06","Mutual Aid","Functional","By Agency","Must Have","Please list your solution's ability to  maintain resource availability for mutual aid partners by agency.",null,"Cannot Meet",{"$f":"IFERROR(VLOOKUP(H442,VendorResponseLookupTbl[], 2,0), \"\")","v":" The product cannot meet the requirement “Out-of-the-Box”, “With Configuration”, “With Custom Programming” or with a “Future Release”."}]
["7.D.07","Mutual Aid","Functional","Resources","Must Have","Please list your solution's ability to uniquely identify mutual aid resources in the CAD system.",null,"Cannot Meet",{"$f":"IFERROR(VLOOKUP(H443,VendorResponseLookupTbl[], 2,0), \"\")","v":" The product cannot meet the requirement “Out-of-the-Box”, “With Configuration”, “With Custom Programming” or with a “Future Release”."}]
["7.D.08","Mutual Aid","Functional","Recommendations","Must Have","Please list your solution's ability to generate unit recommendations for mutual aid requests by requesting agency.",null,"Cannot Meet",{"$f":"IFERROR(VLOOKUP(H444,VendorResponseLookupTbl[], 2,0), \"\")","v":" The product cannot meet the requirement “Out-of-the-Box”, “With Configuration”, “With Custom Programming” or with a “Future Release”."}]
["7.D.09","Mutual Aid","Functional","Tracking Usage","Should Have","Please list your solution's ability to track resource usage for mutual aid units.",null,"Cannot Meet",{"$f":"IFERROR(VLOOKUP(H445,VendorResponseLookupTbl[], 2,0), \"\")","v":" The product cannot meet the requirement “Out-of-the-Box”, “With Configuration”, “With Custom Programming” or with a “Future Release”."}]
["7.E.00","Incident Channel Assignment"]
["7.E.01","Incident Channel Assignment","Functional","Dedicated Fields","Must Have","Please list your solution's ability to provide a dedicated field to capture incident channel assignment.",null,"Cannot Meet",{"$f":"IFERROR(VLOOKUP(H447,VendorResponseLookupTbl[], 2,0), \"\")","v":" The product cannot meet the requirement “Out-of-the-Box”, “With Configuration”, “With Custom Programming” or with a “Future Release”."}]
["7.E.02","Incident Channel Assignment","Functional","Talk Groups","Must Have","Please list your solution's ability to recommend radio system talk groups and include the accepted recommendation in the dispatch information.",null,"Cannot Meet",{"$f":"IFERROR(VLOOKUP(H448,VendorResponseLookupTbl[], 2,0), \"\")","v":" The product cannot meet the requirement “Out-of-the-Box”, “With Configuration”, “With Custom Programming” or with a “Future Release”."}]
["7.E.03","Incident Channel Assignment","Functional","Modifying Recommendations","Should Have","Please list your solution's ability to modify the recommendation provided by the system prior to acceptance.",null,"Cannot Meet",{"$f":"IFERROR(VLOOKUP(H449,VendorResponseLookupTbl[], 2,0), \"\")","v":" The product cannot meet the requirement “Out-of-the-Box”, “With Configuration”, “With Custom Programming” or with a “Future Release”."}]
["7.E.04","Incident Channel Assignment","Functional","Automatic Recommendations","Should Have","Please list your solution's ability to automatically recommend talk groups at the discretion of the dispatcher (e.g., dispatcher can assign additional talk groups as required to support incident needs).",null,"Cannot Meet",{"$f":"IFERROR(VLOOKUP(H450,VendorResponseLookupTbl[], 2,0), \"\")","v":" The product cannot meet the requirement “Out-of-the-Box”, “With Configuration”, “With Custom Programming” or with a “Future Release”."}]
["7.E.05","Incident Channel Assignment","Functional","Unavailable","Should Have","Please list your solution's ability to designate a talk group or channel as unavailable.",null,"Cannot Meet",{"$f":"IFERROR(VLOOKUP(H451,VendorResponseLookupTbl[], 2,0), \"\")","v":" The product cannot meet the requirement “Out-of-the-Box”, “With Configuration”, “With Custom Programming” or with a “Future Release”."}]
["7.E.06","Incident Channel Assignment","Functional","Assignment","Should Have","Please list your solution's ability to assign any talk group or channel or an incident.",null,"Cannot Meet",{"$f":"IFERROR(VLOOKUP(H452,VendorResponseLookupTbl[], 2,0), \"\")","v":" The product cannot meet the requirement “Out-of-the-Box”, “With Configuration”, “With Custom Programming” or with a “Future Release”."}]
["7.E.07","Incident Channel Assignment","Functional","Display Current Status","Could Have","Please list your solution's ability to display the current status and assignments of all talk groups.",null,"Cannot Meet",{"$f":"IFERROR(VLOOKUP(H453,VendorResponseLookupTbl[], 2,0), \"\")","v":" The product cannot meet the requirement “Out-of-the-Box”, “With Configuration”, “With Custom Programming” or with a “Future Release”."}]
["7.E.08","Incident Channel Assignment","Functional","Assigning a Function","Should Have","Please list your solution's ability to assign a function to a talk group (e.g., water supply, staging, transport).",null,"Cannot Meet",{"$f":"IFERROR(VLOOKUP(H454,VendorResponseLookupTbl[], 2,0), \"\")","v":" The product cannot meet the requirement “Out-of-the-Box”, “With Configuration”, “With Custom Programming” or with a “Future Release”."}]
["7.E.09","Incident Channel Assignment","Functional","Release of Assignment","Should Have","Please list your solution's ability to release any talk groups assigned to an incident when an incident is closed .",null,"Cannot Meet",{"$f":"IFERROR(VLOOKUP(H455,VendorResponseLookupTbl[], 2,0), \"\")","v":" The product cannot meet the requirement “Out-of-the-Box”, “With Configuration”, “With Custom Programming” or with a “Future Release”."}]
["7.F.00","Fire Resource Alerting"]
["7.F.01","Fire Resource Alerting","Functional","Notification  ","Must Have","Please list your solution's ability to notify units assigned to a response via:\n\na) Fire Station Altering (FSA) system\nb) Station desktop clients\nc) Mobile devices\nd) Cellular or paging devices\ne) Active911\nf) TableCommand",null,"Cannot Meet",{"$f":"IFERROR(VLOOKUP(H457,VendorResponseLookupTbl[], 2,0), \"\")","v":" The product cannot meet the requirement “Out-of-the-Box”, “With Configuration”, “With Custom Programming” or with a “Future Release”."}]
["7.F.02","Fire Resource Alerting","Functional","Manual Activation","Should Have","Please list your solution's ability to manually activate the FSA system from within CAD without an associated dispatch.",null,"Cannot Meet",{"$f":"IFERROR(VLOOKUP(H458,VendorResponseLookupTbl[], 2,0), \"\")","v":" The product cannot meet the requirement “Out-of-the-Box”, “With Configuration”, “With Custom Programming” or with a “Future Release”."}]
["7.F.03","Fire Resource Alerting","Functional","Acknowledgements","Should Have","Please list your solution's ability to support transmitting and receiving acknowledgments between the FSA and CAD systems for inclusion in the CAD record.",null,"Cannot Meet",{"$f":"IFERROR(VLOOKUP(H459,VendorResponseLookupTbl[], 2,0), \"\")","v":" The product cannot meet the requirement “Out-of-the-Box”, “With Configuration”, “With Custom Programming” or with a “Future Release”."}]
["8.A","Call Handling and Dispatching Support Tools"]
["8.A.00","Premise/Hazard File Maintenance","Functional"]
["8.A.01","Premise/Hazard File Maintenance","Functional","History Files","Must Have","Please list your solution's ability to update/create CAD premise history files.",null,"Cannot Meet",{"$f":"IFERROR(VLOOKUP(H462,VendorResponseLookupTbl[], 2,0), \"\")","v":" The product cannot meet the requirement “Out-of-the-Box”, “With Configuration”, “With Custom Programming” or with a “Future Release”."}]
["8.A.02","Premise/Hazard File Maintenance","Functional","Viewing Access","Should Have","Please list your solution's ability to  authorize or restrict the viewing of premise and history by:\n\na) Agency\nb) User ID\nc) Role\nd) Location\ne) Events\nf) Any combination of the above",null,"Cannot Meet",{"$f":"IFERROR(VLOOKUP(H463,VendorResponseLookupTbl[], 2,0), \"\")","v":" The product cannot meet the requirement “Out-of-the-Box”, “With Configuration”, “With Custom Programming” or with a “Future Release”."}]
["8.A.03","Premise/Hazard File Maintenance","Functional","Automatic Updates","Must Have","Please list your solution's ability  for system to automatically update premise history when an event is created.",null,"Cannot Meet",{"$f":"IFERROR(VLOOKUP(H464,VendorResponseLookupTbl[], 2,0), \"\")","v":" The product cannot meet the requirement “Out-of-the-Box”, “With Configuration”, “With Custom Programming” or with a “Future Release”."}]
["8.A.04","Premise/Hazard File Maintenance","Functional","Purging Information","Must Have","Please list your solution's ability to purge premise information from a location (e.g., if it is known that the tenant/owner generating the event(s) has moved).",null,"Cannot Meet",{"$f":"IFERROR(VLOOKUP(H465,VendorResponseLookupTbl[], 2,0), \"\")","v":" The product cannot meet the requirement “Out-of-the-Box”, “With Configuration”, “With Custom Programming” or with a “Future Release”."}]
["8.A.05","Premise/Hazard File Maintenance","Functional","Updating Location","Must Have","Please list your solution's ability to update the location of a premise history record without having to re-enter all of the information.",null,"Cannot Meet",{"$f":"IFERROR(VLOOKUP(H466,VendorResponseLookupTbl[], 2,0), \"\")","v":" The product cannot meet the requirement “Out-of-the-Box”, “With Configuration”, “With Custom Programming” or with a “Future Release”."}]
["8.A.06","Premise/Hazard File Maintenance","Functional","File Attachment","Should Have","Please list your solution's ability to attach files to a premise record (e.g., floor plans, building diagrams, special instructions, photo/picture, department created image).",null,"Cannot Meet",{"$f":"IFERROR(VLOOKUP(H467,VendorResponseLookupTbl[], 2,0), \"\")","v":" The product cannot meet the requirement “Out-of-the-Box”, “With Configuration”, “With Custom Programming” or with a “Future Release”."}]
["8.A.07","Premise/Hazard File Maintenance","Functional","Hyperlinks Included","Should Have","Please list your solution's ability to include a hyperlink to an external resource in the premise record.",null,"Cannot Meet",{"$f":"IFERROR(VLOOKUP(H468,VendorResponseLookupTbl[], 2,0), \"\")","v":" The product cannot meet the requirement “Out-of-the-Box”, “With Configuration”, “With Custom Programming” or with a “Future Release”."}]
["8.A.08","Premise/Hazard File Maintenance","Functional","Multiple Addresses","Should Have","Please list your solution's ability for premise information to apply to multiple addresses.",null,"Cannot Meet",{"$f":"IFERROR(VLOOKUP(H469,VendorResponseLookupTbl[], 2,0), \"\")","v":" The product cannot meet the requirement “Out-of-the-Box”, “With Configuration”, “With Custom Programming” or with a “Future Release”."}]
["8.A.09","Premise/Hazard File Maintenance","Functional","Geographic Areas","Should Have","Please list your solution's ability for premise information to apply to a geographic area.",null,"Cannot Meet",{"$f":"IFERROR(VLOOKUP(H470,VendorResponseLookupTbl[], 2,0), \"\")","v":" The product cannot meet the requirement “Out-of-the-Box”, “With Configuration”, “With Custom Programming” or with a “Future Release”."}]
["8.A.10","Premise/Hazard File Maintenance","Functional","Granularity","Should Have","Please list your solution's ability to configure the granularity of the premise history return (e.g., building, apartment number, floor).",null,"Cannot Meet",{"$f":"IFERROR(VLOOKUP(H471,VendorResponseLookupTbl[], 2,0), \"\")","v":" The product cannot meet the requirement “Out-of-the-Box”, “With Configuration”, “With Custom Programming” or with a “Future Release”."}]
["8.A.11","Premise/Hazard File Maintenance","Functional","Data Entry Screens","Should Have","Please list your solution's ability to provide data entry screens for entering premise information.",null,"Cannot Meet",{"$f":"IFERROR(VLOOKUP(H472,VendorResponseLookupTbl[], 2,0), \"\")","v":" The product cannot meet the requirement “Out-of-the-Box”, “With Configuration”, “With Custom Programming” or with a “Future Release”."}]
["8.A.12","Premise/Hazard File Maintenance","Functional","Continuous Format","Should Have","Please list your solution's ability to maintain format of collected entry screen information on all displays.",null,"Cannot Meet",{"$f":"IFERROR(VLOOKUP(H473,VendorResponseLookupTbl[], 2,0), \"\")","v":" The product cannot meet the requirement “Out-of-the-Box”, “With Configuration”, “With Custom Programming” or with a “Future Release”."}]
["8.A.13","Premise/Hazard File Maintenance","Functional","Classifying Premise Information","Must Have","Please list your solution's ability to  capture and maintain (classify) specific premise information, including but not limited to the following:\n\na) Alarm/access information (e.g., door entry code, Knox Box location)\nb) Emergency contact information\nc) Hazardous conditions\nd) Medical information\ne)Previous events based on at least the following:\n     i) Address/Location\n    ii) Contact information\n   iii) Date and time\n   iv) Event number\n    v) Event type",null,"Cannot Meet",{"$f":"IFERROR(VLOOKUP(H474,VendorResponseLookupTbl[], 2,0), \"\")","v":" The product cannot meet the requirement “Out-of-the-Box”, “With Configuration”, “With Custom Programming” or with a “Future Release”."}]
["8.A.14","Premise/Hazard File Maintenance","Functional","Group of Addresses","Must Have","Please list your solution's ability to capture and maintain specific premise information by groups of addresses (e.g., all apartments in an apartment complex, all houses in a subdivision).",null,"Cannot Meet",{"$f":"IFERROR(VLOOKUP(H475,VendorResponseLookupTbl[], 2,0), \"\")","v":" The product cannot meet the requirement “Out-of-the-Box”, “With Configuration”, “With Custom Programming” or with a “Future Release”."}]
["8.A.15","Premise/Hazard File Maintenance","Functional","Agency-Defined \nStorage of Information","Must Have","Please list your solution's ability to store premise information for a customer-defined length of time.",null,"Cannot Meet",{"$f":"IFERROR(VLOOKUP(H476,VendorResponseLookupTbl[], 2,0), \"\")","v":" The product cannot meet the requirement “Out-of-the-Box”, “With Configuration”, “With Custom Programming” or with a “Future Release”."}]
["8.A.16","Premise/Hazard File Maintenance","Functional","Specific Apartment Numbers","Must Have","Please list your solution's ability to store premise information for a specific apartment unit/suite number.",null,"Cannot Meet",{"$f":"IFERROR(VLOOKUP(H477,VendorResponseLookupTbl[], 2,0), \"\")","v":" The product cannot meet the requirement “Out-of-the-Box”, “With Configuration”, “With Custom Programming” or with a “Future Release”."}]
["8.A.17","Premise/Hazard File Maintenance","Functional","Date Range Validation","Must Have","Please list your solution's ability to  define valid date ranges for time-limited premise information at a given location (e.g., information valid between <start date> and <end date>).",null,"Cannot Meet",{"$f":"IFERROR(VLOOKUP(H478,VendorResponseLookupTbl[], 2,0), \"\")","v":" The product cannot meet the requirement “Out-of-the-Box”, “With Configuration”, “With Custom Programming” or with a “Future Release”."}]
["8.A.18","Premise/Hazard File Maintenance","Functional","Archiving Information","Must Have","Please list your solution's ability to archive expired premise file information.",null,"Cannot Meet",{"$f":"IFERROR(VLOOKUP(H479,VendorResponseLookupTbl[], 2,0), \"\")","v":" The product cannot meet the requirement “Out-of-the-Box”, “With Configuration”, “With Custom Programming” or with a “Future Release”."}]
["8.A.19","Premise/Hazard File Maintenance","Functional","Modifying Records","Must Have","Please list your solution's ability to include in a premise record the following information when premise information is added or changed:\n\na) Expiration date\nb) Unit ID of person entering information",null,"Cannot Meet",{"$f":"IFERROR(VLOOKUP(H480,VendorResponseLookupTbl[], 2,0), \"\")","v":" The product cannot meet the requirement “Out-of-the-Box”, “With Configuration”, “With Custom Programming” or with a “Future Release”."}]
["8.A.20","Premise/Hazard File Maintenance","Functional","File Access","Should Have","Please list your solution's ability to access files attached to a premise record:\n\na) In CAD environment\nb) in Mobile environment",null,"Cannot Meet",{"$f":"IFERROR(VLOOKUP(H481,VendorResponseLookupTbl[], 2,0), \"\")","v":" The product cannot meet the requirement “Out-of-the-Box”, “With Configuration”, “With Custom Programming” or with a “Future Release”."}]
["8.A.21","Premise/Hazard File Maintenance","Functional","Hazard and Alert Entry","Must Have","Please list your solution's ability to enter hazards and alerts associated with:\n\na) Persons\nb) Specific locations\nc) Address ranges\nd) Phone Number\ne) Vehicles",null,"Cannot Meet",{"$f":"IFERROR(VLOOKUP(H482,VendorResponseLookupTbl[], 2,0), \"\")","v":" The product cannot meet the requirement “Out-of-the-Box”, “With Configuration”, “With Custom Programming” or with a “Future Release”."}]
["8.A.22","Premise/Hazard File Maintenance","Functional","Hazard Information Recording","Must Have","Please list your solution's ability to record with an entered hazard:\n\na) Expiration date\nb) Time and date stamp at time of entry\nc) ID of person entering information",null,"Cannot Meet",{"$f":"IFERROR(VLOOKUP(H483,VendorResponseLookupTbl[], 2,0), \"\")","v":" The product cannot meet the requirement “Out-of-the-Box”, “With Configuration”, “With Custom Programming” or with a “Future Release”."}]
["8.A.23","Premise/Hazard File Maintenance","Functional","File Attachment","Must Have","Please list your solution's ability to attach a file to a hazard.",null,"Cannot Meet",{"$f":"IFERROR(VLOOKUP(H484,VendorResponseLookupTbl[], 2,0), \"\")","v":" The product cannot meet the requirement “Out-of-the-Box”, “With Configuration”, “With Custom Programming” or with a “Future Release”."}]
["8.A.24","Premise/Hazard File Maintenance","Functional","Expiration Dates","Must Have","Please list your solution's ability to assign expiration dates to hazards.",null,"Cannot Meet",{"$f":"IFERROR(VLOOKUP(H485,VendorResponseLookupTbl[], 2,0), \"\")","v":" The product cannot meet the requirement “Out-of-the-Box”, “With Configuration”, “With Custom Programming” or with a “Future Release”."}]
["8.A.25","Premise/Hazard File Maintenance","Functional","List Creation","Must Have","Please list your solution's ability to create lists of hazards by category.",null,"Cannot Meet",{"$f":"IFERROR(VLOOKUP(H486,VendorResponseLookupTbl[], 2,0), \"\")","v":" The product cannot meet the requirement “Out-of-the-Box”, “With Configuration”, “With Custom Programming” or with a “Future Release”."}]
["8.A.26","Premise/Hazard File Maintenance","Functional","Printing Lists","Must Have","Please list your solution's ability to print hazards and hazard lists.",null,"Cannot Meet",{"$f":"IFERROR(VLOOKUP(H487,VendorResponseLookupTbl[], 2,0), \"\")","v":" The product cannot meet the requirement “Out-of-the-Box”, “With Configuration”, “With Custom Programming” or with a “Future Release”."}]
["8.A.27","Premise/Hazard File Maintenance","Functional","Applying to Multiple Addresses","Must Have","Please list your solution's ability to apply hazard files to multiple addresses (e.g., for all addresses within an apartment building).",null,"Cannot Meet",{"$f":"IFERROR(VLOOKUP(H488,VendorResponseLookupTbl[], 2,0), \"\")","v":" The product cannot meet the requirement “Out-of-the-Box”, “With Configuration”, “With Custom Programming” or with a “Future Release”."}]
["8.A.28","Premise/Hazard File Maintenance","Functional","Report Generation\nHazards","Must Have","Please list your solution's ability to  generate a report of hazards based upon age (e.g., older than 1 year).",null,"Cannot Meet",{"$f":"IFERROR(VLOOKUP(H489,VendorResponseLookupTbl[], 2,0), \"\")","v":" The product cannot meet the requirement “Out-of-the-Box”, “With Configuration”, “With Custom Programming” or with a “Future Release”."}]
["8.A.29","Premise/Hazard File Maintenance","Functional","Assigning an Expiration Date","Must Have","Please list your solution's ability to assign an \"expiration date\" to hazard information.",null,"Cannot Meet",{"$f":"IFERROR(VLOOKUP(H490,VendorResponseLookupTbl[], 2,0), \"\")","v":" The product cannot meet the requirement “Out-of-the-Box”, “With Configuration”, “With Custom Programming” or with a “Future Release”."}]
["8.A.30","Premise/Hazard File Maintenance","Functional","Report Generation\nHazard Dates","Must Have","Please list your solution's ability to  run a report for expired or about to expire hazard dates.",null,"Cannot Meet",{"$f":"IFERROR(VLOOKUP(H491,VendorResponseLookupTbl[], 2,0), \"\")","v":" The product cannot meet the requirement “Out-of-the-Box”, “With Configuration”, “With Custom Programming” or with a “Future Release”."}]
["8.A.31","Premise/Hazard File Maintenance","Functional","Alarm File","Must Have","Please list your solution's ability to support and maintain a catalogued alarm file.",null,"Cannot Meet",{"$f":"IFERROR(VLOOKUP(H492,VendorResponseLookupTbl[], 2,0), \"\")","v":" The product cannot meet the requirement “Out-of-the-Box”, “With Configuration”, “With Custom Programming” or with a “Future Release”."}]
["8.A.32","Premise/Hazard File Maintenance","Functional","Query External Systems","Must Have","Please list your solution's ability to query external systems for additional premise information (e.g. building department, inspectional services).",null,"Cannot Meet",{"$f":"IFERROR(VLOOKUP(H493,VendorResponseLookupTbl[], 2,0), \"\")","v":" The product cannot meet the requirement “Out-of-the-Box”, “With Configuration”, “With Custom Programming” or with a “Future Release”."}]
["8.A.33","Premise/Hazard File Maintenance","Functional","Security and Retention","Must Have","Please list your solution's ability to maintain data classification for security and retention attributes.",null,"Cannot Meet",{"$f":"IFERROR(VLOOKUP(H494,VendorResponseLookupTbl[], 2,0), \"\")","v":" The product cannot meet the requirement “Out-of-the-Box”, “With Configuration”, “With Custom Programming” or with a “Future Release”."}]
["8.A.34","Premise/Hazard File Maintenance","Functional","Public-Facing Module","Must Have","Please list your solution's ability to provide a public-facing module whereby members of the public can request home checks for designated periods of time.",null,"Cannot Meet",{"$f":"IFERROR(VLOOKUP(H495,VendorResponseLookupTbl[], 2,0), \"\")","v":" The product cannot meet the requirement “Out-of-the-Box”, “With Configuration”, “With Custom Programming” or with a “Future Release”."}]
["8.B.00","CCIC/NCIC Queries"]
["8.B.01","CCIC/NCIC Queries","Functional","Initiating Queries","Must Have","Please list your solution's ability to initiate CCIC/NCIC queries from within CAD.",null,"Cannot Meet",{"$f":"IFERROR(VLOOKUP(H497,VendorResponseLookupTbl[], 2,0), \"\")","v":" The product cannot meet the requirement “Out-of-the-Box”, “With Configuration”, “With Custom Programming” or with a “Future Release”."}]
["8.B.02","CCIC/NCIC Queries","Functional","Alert Configuration","Must Have","Please list your solution's ability to  configure alerts for returns containing customer-identified key words.",null,"Cannot Meet",{"$f":"IFERROR(VLOOKUP(H498,VendorResponseLookupTbl[], 2,0), \"\")","v":" The product cannot meet the requirement “Out-of-the-Box”, “With Configuration”, “With Custom Programming” or with a “Future Release”."}]
["8.B.03","CCIC/NCIC Queries","Functional","Agency-Defined\nKey Words","Must Have","Please list your solution's ability for customer-identified key words to be highlighted in NCIC returns.",null,"Cannot Meet",{"$f":"IFERROR(VLOOKUP(H499,VendorResponseLookupTbl[], 2,0), \"\")","v":" The product cannot meet the requirement “Out-of-the-Box”, “With Configuration”, “With Custom Programming” or with a “Future Release”."}]
["8.B.04","CCIC/NCIC Queries","Functional","RMS Queries","Must Have","Please list your solution's ability to query the Police RMS from within the CAD application.",null,"Cannot Meet",{"$f":"IFERROR(VLOOKUP(H500,VendorResponseLookupTbl[], 2,0), \"\")","v":" The product cannot meet the requirement “Out-of-the-Box”, “With Configuration”, “With Custom Programming” or with a “Future Release”."}]
["8.B.05","CCIC/NCIC Queries","Functional","Automatic Queries","Must Have","Please list your solution's ability to generate an automatic query based upon the entry type (e.g., entering a motor vehicle license plate).",null,"Cannot Meet",{"$f":"IFERROR(VLOOKUP(H501,VendorResponseLookupTbl[], 2,0), \"\")","v":" The product cannot meet the requirement “Out-of-the-Box”, “With Configuration”, “With Custom Programming” or with a “Future Release”."}]
["8.B.06","CCIC/NCIC Queries","Functional","Impact Prevention","Must Have","Please list your solution's ability to prevent CAD queries or searches from impacting dispatch operations performance.",null,"Cannot Meet",{"$f":"IFERROR(VLOOKUP(H502,VendorResponseLookupTbl[], 2,0), \"\")","v":" The product cannot meet the requirement “Out-of-the-Box”, “With Configuration”, “With Custom Programming” or with a “Future Release”."}]
["8.B.07","CCIC/NCIC Queries","Functional","NCIC Population","Must Have","Please list your solution's ability to populate the NCIC query mask with data in the event record:\n\na) Person information \nb) Vehicle information",null,"Cannot Meet",{"$f":"IFERROR(VLOOKUP(H503,VendorResponseLookupTbl[], 2,0), \"\")","v":" The product cannot meet the requirement “Out-of-the-Box”, “With Configuration”, “With Custom Programming” or with a “Future Release”."}]
["8.B.08","CCIC/NCIC Queries","Functional","License Plate Query","Must Have","Please list your solution's ability to automatically run a registered vehicle owner upon return of a license plate query.",null,"Cannot Meet",{"$f":"IFERROR(VLOOKUP(H504,VendorResponseLookupTbl[], 2,0), \"\")","v":" The product cannot meet the requirement “Out-of-the-Box”, “With Configuration”, “With Custom Programming” or with a “Future Release”."}]
["8.B.09","CCIC/NCIC Queries","Functional","Query Alert","Must Have","Please list your solution's ability to provide an alert if a return contains a positive hit (e.g., stolen vehicle, felony warrant).",null,"Cannot Meet",{"$f":"IFERROR(VLOOKUP(H505,VendorResponseLookupTbl[], 2,0), \"\")","v":" The product cannot meet the requirement “Out-of-the-Box”, “With Configuration”, “With Custom Programming” or with a “Future Release”."}]
["8.B.10","CCIC/NCIC Queries","Functional","Attaching Queries","Must Have","Please list your solution's ability to attach queries and results to a call if the query was initiated within a call.",null,"Cannot Meet",{"$f":"IFERROR(VLOOKUP(H506,VendorResponseLookupTbl[], 2,0), \"\")","v":" The product cannot meet the requirement “Out-of-the-Box”, “With Configuration”, “With Custom Programming” or with a “Future Release”."}]
["8.B.11","CCIC/NCIC Queries","Functional","Viewing Results","Must Have","Please list your solution's ability to see the results of officer-run CCIC/NCIC queries if the returns include a \"hit\".",null,"Cannot Meet",{"$f":"IFERROR(VLOOKUP(H507,VendorResponseLookupTbl[], 2,0), \"\")","v":" The product cannot meet the requirement “Out-of-the-Box”, “With Configuration”, “With Custom Programming” or with a “Future Release”."}]
["8.C.00","Notifications"]
["8.C.01","Notifications","Functional","Sending Notifications","Must Have","Please list your solution's ability to send notifications via SMTP.",null,"Cannot Meet",{"$f":"IFERROR(VLOOKUP(H509,VendorResponseLookupTbl[], 2,0), \"\")","v":" The product cannot meet the requirement “Out-of-the-Box”, “With Configuration”, “With Custom Programming” or with a “Future Release”."}]
["8.C.02","Notifications","Functional","Associating Notifications","Must Have","Please list your solution's ability to associate notifications with: \n\na) Specific incident types\nb) Alarm levels\nc) Incident locations\nd) Time of day\ne) Day of week",null,"Cannot Meet",{"$f":"IFERROR(VLOOKUP(H510,VendorResponseLookupTbl[], 2,0), \"\")","v":" The product cannot meet the requirement “Out-of-the-Box”, “With Configuration”, “With Custom Programming” or with a “Future Release”."}]
["8.C.03","Notifications","Functional","Notification Recipients","Must Have","Please list your solution's ability to send notifications to:\n\na) Individuals\nb) Groups\nc) Roles (individuals may change depending on who is on shift)",null,"Cannot Meet",{"$f":"IFERROR(VLOOKUP(H511,VendorResponseLookupTbl[], 2,0), \"\")","v":" The product cannot meet the requirement “Out-of-the-Box”, “With Configuration”, “With Custom Programming” or with a “Future Release”."}]
["8.D.00","Job Aids"]
["8.D.01","Job Aids","Functional","Agency-Defined \nJob Aides","Must Have","Please list your solution's ability to display customer-developed job aids (e.g., SOP, checklist).",null,"Cannot Meet",{"$f":"IFERROR(VLOOKUP(H513,VendorResponseLookupTbl[], 2,0), \"\")","v":" The product cannot meet the requirement “Out-of-the-Box”, “With Configuration”, “With Custom Programming” or with a “Future Release”."}]
["8.D.02","Job Aids","Functional","Automatic Display","Must Have","Please list your solution's ability to automatically display job aids at event creation or other trigger points based upon:\n\na) Event type\nb) Location\nc) Change of alarm level\nd) Emergency alarm activation\ne) Disposition type\nf) Other customer-defined criteria",null,"Cannot Meet",{"$f":"IFERROR(VLOOKUP(H514,VendorResponseLookupTbl[], 2,0), \"\")","v":" The product cannot meet the requirement “Out-of-the-Box”, “With Configuration”, “With Custom Programming” or with a “Future Release”."}]
["8.D.03","Job Aids","Functional","Searchable Index Storage","Must Have","Please list your solution's ability to store information in a searchable index (\"info file\").",null,"Cannot Meet",{"$f":"IFERROR(VLOOKUP(H515,VendorResponseLookupTbl[], 2,0), \"\")","v":" The product cannot meet the requirement “Out-of-the-Box”, “With Configuration”, “With Custom Programming” or with a “Future Release”."}]
["8.D.04","Job Aids","Functional","Editing Help Files","Must Have","Please list your solution's ability to edit (with appropriate privileges) online help files.",null,"Cannot Meet",{"$f":"IFERROR(VLOOKUP(H516,VendorResponseLookupTbl[], 2,0), \"\")","v":" The product cannot meet the requirement “Out-of-the-Box”, “With Configuration”, “With Custom Programming” or with a “Future Release”."}]
["8.D.05","Job Aids","Functional","Searchable Index Access","Must Have","Please list your solution's ability to access the searchable index from within the CAD application.",null,"Cannot Meet",{"$f":"IFERROR(VLOOKUP(H517,VendorResponseLookupTbl[], 2,0), \"\")","v":" The product cannot meet the requirement “Out-of-the-Box”, “With Configuration”, “With Custom Programming” or with a “Future Release”."}]
["8.D.06","Job Aids","Functional","Maintaining Contacts","Must Have","Please list your solution's ability to maintain a list of contacts (names and contact information).",null,"Cannot Meet",{"$f":"IFERROR(VLOOKUP(H518,VendorResponseLookupTbl[], 2,0), \"\")","v":" The product cannot meet the requirement “Out-of-the-Box”, “With Configuration”, “With Custom Programming” or with a “Future Release”."}]
["8.D.07","Job Aids","Functional","Creating New Contacts","Must Have","Please list your solution's ability to create new contacts.",null,"Cannot Meet",{"$f":"IFERROR(VLOOKUP(H519,VendorResponseLookupTbl[], 2,0), \"\")","v":" The product cannot meet the requirement “Out-of-the-Box”, “With Configuration”, “With Custom Programming” or with a “Future Release”."}]
["8.D.08","Job Aids","Functional","Searching Contacts","Should Have","Please list your solution's ability to search the contact list.",null,"Cannot Meet",{"$f":"IFERROR(VLOOKUP(H520,VendorResponseLookupTbl[], 2,0), \"\")","v":" The product cannot meet the requirement “Out-of-the-Box”, “With Configuration”, “With Custom Programming” or with a “Future Release”."}]
["8.D.09","Job Aids","Functional","Generating Outbound Calls","Should Have","Please list your solution's ability to click on a contact to generate an outbound call.",null,"Cannot Meet",{"$f":"IFERROR(VLOOKUP(H521,VendorResponseLookupTbl[], 2,0), \"\")","v":" The product cannot meet the requirement “Out-of-the-Box”, “With Configuration”, “With Custom Programming” or with a “Future Release”."}]
["8.D.10","Job Aids","Functional","Help Files","Should Have","Please list your solution's ability to provide context-specific help files.",null,"Cannot Meet",{"$f":"IFERROR(VLOOKUP(H522,VendorResponseLookupTbl[], 2,0), \"\")","v":" The product cannot meet the requirement “Out-of-the-Box”, “With Configuration”, “With Custom Programming” or with a “Future Release”."}]
["8.D.11","Job Aids","Functional","Embedded Hyperlinks","Should Have","Please list your solution's ability to  embed hyperlinks in the job aids.",null,"Cannot Meet",{"$f":"IFERROR(VLOOKUP(H523,VendorResponseLookupTbl[], 2,0), \"\")","v":" The product cannot meet the requirement “Out-of-the-Box”, “With Configuration”, “With Custom Programming” or with a “Future Release”."}]
["8.D.12","Job Aids","Functional","File Attachment","Should Have","Please list your solution's ability to attach files to the job aids (e.g., documents, videos and photos).",null,"Cannot Meet",{"$f":"IFERROR(VLOOKUP(H524,VendorResponseLookupTbl[], 2,0), \"\")","v":" The product cannot meet the requirement “Out-of-the-Box”, “With Configuration”, “With Custom Programming” or with a “Future Release”."}]
["8.D.13","Job Aids","Functional","Officer Information","Must Have","Please list your solution's ability to provide access to officer information:\n\na) Name\nb) Contact Information",null,"Cannot Meet",{"$f":"IFERROR(VLOOKUP(H525,VendorResponseLookupTbl[], 2,0), \"\")","v":" The product cannot meet the requirement “Out-of-the-Box”, “With Configuration”, “With Custom Programming” or with a “Future Release”."}]
["8.D.14","Job Aids","Functional","Officer Information\nUpdating","Must Have","Please list your solution's ability for officers to update their contact information.",null,"Cannot Meet",{"$f":"IFERROR(VLOOKUP(H526,VendorResponseLookupTbl[], 2,0), \"\")","v":" The product cannot meet the requirement “Out-of-the-Box”, “With Configuration”, “With Custom Programming” or with a “Future Release”."}]
["8.D.15","Job Aids","Functional","Officer Information\nRetrieval","Must Have","Please list your solution's ability to right click on a unit in CAD and retrieve officer information (officer name and contact information).",null,"Cannot Meet",{"$f":"IFERROR(VLOOKUP(H527,VendorResponseLookupTbl[], 2,0), \"\")","v":" The product cannot meet the requirement “Out-of-the-Box”, “With Configuration”, “With Custom Programming” or with a “Future Release”."}]
["8.E.00","Remote Access"]
["8.E.01","Remote Access","Functional","External Access","Should Have","Please list your solution's ability to support web-based remote access of the CAD application by users outside of the communications center.",null,"Cannot Meet",{"$f":"IFERROR(VLOOKUP(H529,VendorResponseLookupTbl[], 2,0), \"\")","v":" The product cannot meet the requirement “Out-of-the-Box”, “With Configuration”, “With Custom Programming” or with a “Future Release”."}]
["8.E.02","Remote Access","Functional","Control of Access","Should Have","Please list your solution's ability to  provide security provisions to control remote access of the CAD application.",null,"Cannot Meet",{"$f":"IFERROR(VLOOKUP(H530,VendorResponseLookupTbl[], 2,0), \"\")","v":" The product cannot meet the requirement “Out-of-the-Box”, “With Configuration”, “With Custom Programming” or with a “Future Release”."}]
["8.E.03","Remote Access","Functional","Role-Based Access Controls","Should Have","Please list your solution's ability for security provisions to include permission-based views of CAD system data by:\n\na) Workstations\nb) Roles\nc) Individuals",null,"Cannot Meet",{"$f":"IFERROR(VLOOKUP(H531,VendorResponseLookupTbl[], 2,0), \"\")","v":" The product cannot meet the requirement “Out-of-the-Box”, “With Configuration”, “With Custom Programming” or with a “Future Release”."}]
["8.F.00","CAD Catch-Up"]
["8.F.01","CAD Catch-Up","Functional","Manual Data Entry","Must Have","Please list your solution's ability to manually enter information that was missed due to an interruption in CAD services:\n\na) Activity data\nb) Call comments\nc) Activities timestamps",null,"Cannot Meet",{"$f":"IFERROR(VLOOKUP(H533,VendorResponseLookupTbl[], 2,0), \"\")","v":" The product cannot meet the requirement “Out-of-the-Box”, “With Configuration”, “With Custom Programming” or with a “Future Release”."}]
["8.F.02","CAD Catch-Up","Functional","Timestamps","Must Have","Please list your solution's ability to  capture system-generated timestamps reflecting the time an operator retroactively entered information as well as manually entered timestamps.",null,"Cannot Meet",{"$f":"IFERROR(VLOOKUP(H534,VendorResponseLookupTbl[], 2,0), \"\")","v":" The product cannot meet the requirement “Out-of-the-Box”, “With Configuration”, “With Custom Programming” or with a “Future Release”."}]
["8.G.00","Be-On-The-Lookouts (BOLOs)"]
["8.G.01","Be-On-The-Lookouts (BOLOs)","Functional","Creation/Maintenance","Must Have","Please list your solution's ability to create and maintain BOLOs.",null,"Cannot Meet",{"$f":"IFERROR(VLOOKUP(H536,VendorResponseLookupTbl[], 2,0), \"\")","v":" The product cannot meet the requirement “Out-of-the-Box”, “With Configuration”, “With Custom Programming” or with a “Future Release”."}]
["8.G.02","Be-On-The-Lookouts (BOLOs)","Functional","Audit Trails","Must Have","Please list your solution's ability to provide an audit trail for BOLOs.",null,"Cannot Meet",{"$f":"IFERROR(VLOOKUP(H537,VendorResponseLookupTbl[], 2,0), \"\")","v":" The product cannot meet the requirement “Out-of-the-Box”, “With Configuration”, “With Custom Programming” or with a “Future Release”."}]
["8.G.03","Be-On-The-Lookouts (BOLOs)","Functional","Field Personnel Creation","Must Have","Please list your solution's ability for field personnel to create BOLOs.",null,"Cannot Meet",{"$f":"IFERROR(VLOOKUP(H538,VendorResponseLookupTbl[], 2,0), \"\")","v":" The product cannot meet the requirement “Out-of-the-Box”, “With Configuration”, “With Custom Programming” or with a “Future Release”."}]
["8.G.04","Be-On-The-Lookouts (BOLOs)","Functional","Data Fields","Must Have","Please list your solution's ability to provide the following fields for a BOLO record:\n\na) Date issued\nb) BOLO expiration date\nc) Nature of the BOLO\nd) BOLO priority\ne) Subject information\nf) Vehicle information\ng) Narrative",null,"Cannot Meet",{"$f":"IFERROR(VLOOKUP(H539,VendorResponseLookupTbl[], 2,0), \"\")","v":" The product cannot meet the requirement “Out-of-the-Box”, “With Configuration”, “With Custom Programming” or with a “Future Release”."}]
["8.G.05","Be-On-The-Lookouts (BOLOs)","Functional","Search Functionality","Must Have","Please list your solution's ability to search for BOLO based upon any of the above-mentioned items.",null,"Cannot Meet",{"$f":"IFERROR(VLOOKUP(H540,VendorResponseLookupTbl[], 2,0), \"\")","v":" The product cannot meet the requirement “Out-of-the-Box”, “With Configuration”, “With Custom Programming” or with a “Future Release”."}]
["8.G.06","Be-On-The-Lookouts (BOLOs)","Functional","Multiple Persons","Should Have","Please list your solution's ability to accommodate multiple subjects in a BOLO.",null,"Cannot Meet",{"$f":"IFERROR(VLOOKUP(H541,VendorResponseLookupTbl[], 2,0), \"\")","v":" The product cannot meet the requirement “Out-of-the-Box”, “With Configuration”, “With Custom Programming” or with a “Future Release”."}]
["8.G.07","Be-On-The-Lookouts (BOLOs)","Functional","Multiple Vehicles","Should Have","Please list your solution's ability to accommodate multiple vehicles in a BOLO.",null,"Cannot Meet",{"$f":"IFERROR(VLOOKUP(H542,VendorResponseLookupTbl[], 2,0), \"\")","v":" The product cannot meet the requirement “Out-of-the-Box”, “With Configuration”, “With Custom Programming” or with a “Future Release”."}]
["8.G.08","Be-On-The-Lookouts (BOLOs)","Functional","File Attachment","Should Have","Please list your solution's ability to  attach a file to a BOLO.",null,"Cannot Meet",{"$f":"IFERROR(VLOOKUP(H543,VendorResponseLookupTbl[], 2,0), \"\")","v":" The product cannot meet the requirement “Out-of-the-Box”, “With Configuration”, “With Custom Programming” or with a “Future Release”."}]
["8.G.09","Be-On-The-Lookouts (BOLOs)","Functional","Embedding Photos","Should Have","Please list your solution's ability to  embed a photo in a BOLO.",null,"Cannot Meet",{"$f":"IFERROR(VLOOKUP(H544,VendorResponseLookupTbl[], 2,0), \"\")","v":" The product cannot meet the requirement “Out-of-the-Box”, “With Configuration”, “With Custom Programming” or with a “Future Release”."}]
["8.G.10","Be-On-The-Lookouts (BOLOs)","Functional","Updating Notices","Should Have","Please list your solution's ability to update a BOLO.",null,"Cannot Meet",{"$f":"IFERROR(VLOOKUP(H545,VendorResponseLookupTbl[], 2,0), \"\")","v":" The product cannot meet the requirement “Out-of-the-Box”, “With Configuration”, “With Custom Programming” or with a “Future Release”."}]
["8.G.11","Be-On-The-Lookouts (BOLOs)","Functional","Time Limits","Should Have","Please list your solution's ability to set time limits for BOLO retention.",null,"Cannot Meet",{"$f":"IFERROR(VLOOKUP(H546,VendorResponseLookupTbl[], 2,0), \"\")","v":" The product cannot meet the requirement “Out-of-the-Box”, “With Configuration”, “With Custom Programming” or with a “Future Release”."}]
["8.G.12","Be-On-The-Lookouts (BOLOs)","Functional","Report Generation\nExpired BOLOs","Should Have","Please list your solution's ability to generate, at user-defined times, reports listing expired BOLOs.",null,"Cannot Meet",{"$f":"IFERROR(VLOOKUP(H547,VendorResponseLookupTbl[], 2,0), \"\")","v":" The product cannot meet the requirement “Out-of-the-Box”, “With Configuration”, “With Custom Programming” or with a “Future Release”."}]
["8.G.13","Be-On-The-Lookouts (BOLOs)","Functional","Agency-Defined \nNotifications","Should Have","Please list your solution's ability to designate groups or individuals to whom BOLOs should be sent.",null,"Cannot Meet",{"$f":"IFERROR(VLOOKUP(H548,VendorResponseLookupTbl[], 2,0), \"\")","v":" The product cannot meet the requirement “Out-of-the-Box”, “With Configuration”, “With Custom Programming” or with a “Future Release”."}]
["8.G.14","Be-On-The-Lookouts (BOLOs)","Functional","Retaining BOLOs","Should Have","Please list your solution's ability to retain BOLOs until designated groups or individuals log on unless BOLO has expired.",null,"Cannot Meet",{"$f":"IFERROR(VLOOKUP(H549,VendorResponseLookupTbl[], 2,0), \"\")","v":" The product cannot meet the requirement “Out-of-the-Box”, “With Configuration”, “With Custom Programming” or with a “Future Release”."}]
["8.G.15","Be-On-The-Lookouts (BOLOs)","Functional","Linking Addresses","Should Have","Please list your solution's ability to link BOLOs to an address such that the BOLO is retrieved when that address is referenced (e.g., in a call for service or report).",null,"Cannot Meet",{"$f":"IFERROR(VLOOKUP(H550,VendorResponseLookupTbl[], 2,0), \"\")","v":" The product cannot meet the requirement “Out-of-the-Box”, “With Configuration”, “With Custom Programming” or with a “Future Release”."}]
["8.G.16","Be-On-The-Lookouts (BOLOs)","Functional","Linking CAD Incidents","Should Have","Please list your solution's ability to  link BOLOs to a CAD incident.",null,"Cannot Meet",{"$f":"IFERROR(VLOOKUP(H551,VendorResponseLookupTbl[], 2,0), \"\")","v":" The product cannot meet the requirement “Out-of-the-Box”, “With Configuration”, “With Custom Programming” or with a “Future Release”."}]
["8.G.17","Be-On-The-Lookouts (BOLOs)","Functional","Viewing History","Should Have","Please list your solution's ability to view history of recently created BOLOs.",null,"Cannot Meet",{"$f":"IFERROR(VLOOKUP(H552,VendorResponseLookupTbl[], 2,0), \"\")","v":" The product cannot meet the requirement “Out-of-the-Box”, “With Configuration”, “With Custom Programming” or with a “Future Release”."}]
["8.G.18","Be-On-The-Lookouts (BOLOs)","Functional","Archiving  ","Should Have","Please list your solution's ability to archive expired BOLO records.",null,"Cannot Meet",{"$f":"IFERROR(VLOOKUP(H553,VendorResponseLookupTbl[], 2,0), \"\")","v":" The product cannot meet the requirement “Out-of-the-Box”, “With Configuration”, “With Custom Programming” or with a “Future Release”."}]
["8.G.19","Be-On-The-Lookouts (BOLOs)","Functional","Searching Expired Records","Should Have","Please list your solution's ability to search expired BOLO records.",null,"Cannot Meet",{"$f":"IFERROR(VLOOKUP(H554,VendorResponseLookupTbl[], 2,0), \"\")","v":" The product cannot meet the requirement “Out-of-the-Box”, “With Configuration”, “With Custom Programming” or with a “Future Release”."}]
["8.G.20","Be-On-The-Lookouts (BOLOs)","Functional","Forwarding Notices","Should Have","Please list your solution's ability to forward BOLOs to other jurisdictions.",null,"Cannot Meet",{"$f":"IFERROR(VLOOKUP(H555,VendorResponseLookupTbl[], 2,0), \"\")","v":" The product cannot meet the requirement “Out-of-the-Box”, “With Configuration”, “With Custom Programming” or with a “Future Release”."}]
["8.G.21","Be-On-The-Lookouts (BOLOs)","Functional","Creation from Master Name Index","Should Have","Please list your solution's ability to create a BOLO from a record returned from a search in the Master Name Index.",null,"Cannot Meet",{"$f":"IFERROR(VLOOKUP(H556,VendorResponseLookupTbl[], 2,0), \"\")","v":" The product cannot meet the requirement “Out-of-the-Box”, “With Configuration”, “With Custom Programming” or with a “Future Release”."}]
["8.G.22","Be-On-The-Lookouts (BOLOs)","Functional","Linking to Master Name Index","Should Have","Please list your solution's ability to link individuals in BOLOs to a Master Name Record.",null,"Cannot Meet",{"$f":"IFERROR(VLOOKUP(H557,VendorResponseLookupTbl[], 2,0), \"\")","v":" The product cannot meet the requirement “Out-of-the-Box”, “With Configuration”, “With Custom Programming” or with a “Future Release”."}]
["8.H.00","Contractor Rotation List"]
["8.H.01","Contractor Rotation List","Functional","Maintaining Lists","Should Have","Please list your solution's ability to maintain rotation lists for multiple types of contractors.",null,"Cannot Meet",{"$f":"IFERROR(VLOOKUP(H559,VendorResponseLookupTbl[], 2,0), \"\")","v":" The product cannot meet the requirement “Out-of-the-Box”, “With Configuration”, “With Custom Programming” or with a “Future Release”."}]
["8.H.02","Contractor Rotation List","Functional","Unlimited Number of Vendors","Should Have","Please list your solution's ability to maintain an unlimited number of vendors on the each rotation list.",null,"Cannot Meet",{"$f":"IFERROR(VLOOKUP(H560,VendorResponseLookupTbl[], 2,0), \"\")","v":" The product cannot meet the requirement “Out-of-the-Box”, “With Configuration”, “With Custom Programming” or with a “Future Release”."}]
["8.H.03","Contractor Rotation List","Functional","Vendor Recommendations","Should Have","Please list your solution's ability for system to recommend a contractor based on contractor capabilities and order of rotation.",null,"Cannot Meet",{"$f":"IFERROR(VLOOKUP(H561,VendorResponseLookupTbl[], 2,0), \"\")","v":" The product cannot meet the requirement “Out-of-the-Box”, “With Configuration”, “With Custom Programming” or with a “Future Release”."}]
["8.H.04","Contractor Rotation List","Functional","Rotating Contractors","Should Have","Please list your solution's ability to automatically place a contractor at the end of the rotation list after selected for service.",null,"Cannot Meet",{"$f":"IFERROR(VLOOKUP(H562,VendorResponseLookupTbl[], 2,0), \"\")","v":" The product cannot meet the requirement “Out-of-the-Box”, “With Configuration”, “With Custom Programming” or with a “Future Release”."}]
["8.H.05","Contractor Rotation List","Functional","Restoring Position","Should Have","Please list your solution's ability for user to restore contractor's position in the rotation list.",null,"Cannot Meet",{"$f":"IFERROR(VLOOKUP(H563,VendorResponseLookupTbl[], 2,0), \"\")","v":" The product cannot meet the requirement “Out-of-the-Box”, “With Configuration”, “With Custom Programming” or with a “Future Release”."}]
["8.H.06","Contractor Rotation List","Functional","Selection Records","Should Have","Please list your solution's ability to record that a contractor was selected from the service rotation list.",null,"Cannot Meet",{"$f":"IFERROR(VLOOKUP(H564,VendorResponseLookupTbl[], 2,0), \"\")","v":" The product cannot meet the requirement “Out-of-the-Box”, “With Configuration”, “With Custom Programming” or with a “Future Release”."}]
["8.H.07","Contractor Rotation List","Functional","Vendor Response","Should Have","Please list your solution's ability to record contractor response.",null,"Cannot Meet",{"$f":"IFERROR(VLOOKUP(H565,VendorResponseLookupTbl[], 2,0), \"\")","v":" The product cannot meet the requirement “Out-of-the-Box”, “With Configuration”, “With Custom Programming” or with a “Future Release”."}]
["8.H.08","Contractor Rotation List","Functional","Timestamps","Should Have","Please list your solution's ability to timestamp a contractor's arrival on scene.",null,"Cannot Meet",{"$f":"IFERROR(VLOOKUP(H566,VendorResponseLookupTbl[], 2,0), \"\")","v":" The product cannot meet the requirement “Out-of-the-Box”, “With Configuration”, “With Custom Programming” or with a “Future Release”."}]
["8.H.09","Contractor Rotation List","Functional","Recording Information","Should Have","Please list your solution's ability to record the following when a vehicle is being towed:\n\na) Pick-up location\nb) Stored-at location\nc) License plate number\nd) Year of vehicle\ne) Make\nf) Model\ng) Date/time\nh) Tow company\ni) Associated incident number",null,"Cannot Meet",{"$f":"IFERROR(VLOOKUP(H567,VendorResponseLookupTbl[], 2,0), \"\")","v":" The product cannot meet the requirement “Out-of-the-Box”, “With Configuration”, “With Custom Programming” or with a “Future Release”."}]
["8.I.00","Communications Supervisor Support"]
["8.I.01","Communications Supervisor Support","Functional","Monitoring Configurations and Staffing","Must Have","Please list your solution's ability for a communications supervisor to monitor system configuration and current staffing (e.g., who is signed-on, at what position, and with what responsibilities).",null,"Cannot Meet",{"$f":"IFERROR(VLOOKUP(H569,VendorResponseLookupTbl[], 2,0), \"\")","v":" The product cannot meet the requirement “Out-of-the-Box”, “With Configuration”, “With Custom Programming” or with a “Future Release”."}]
["8.I.02","Communications Supervisor Support","Functional","Supervisor Workstation(s)","Must Have","Please list your solution's ability for a CAD workstation to be configured as a supervisor workstation upon logon of a user with a CAD supervisor profile.",null,"Cannot Meet",{"$f":"IFERROR(VLOOKUP(H570,VendorResponseLookupTbl[], 2,0), \"\")","v":" The product cannot meet the requirement “Out-of-the-Box”, “With Configuration”, “With Custom Programming” or with a “Future Release”."}]
["8.I.03","Communications Supervisor Support","Functional","Multiple Login Types","Must Have","Please list your solution's ability for a supervisor to choose logon type (supervisor vs dispatcher) upon workstation logon.",null,"Cannot Meet",{"$f":"IFERROR(VLOOKUP(H571,VendorResponseLookupTbl[], 2,0), \"\")","v":" The product cannot meet the requirement “Out-of-the-Box”, “With Configuration”, “With Custom Programming” or with a “Future Release”."}]
["8.I.04","Communications Supervisor Support","Functional","Activity Monitoring","Must Have","Please list your solution's ability for a communications supervisor to monitor activity on any user workstation.",null,"Cannot Meet",{"$f":"IFERROR(VLOOKUP(H572,VendorResponseLookupTbl[], 2,0), \"\")","v":" The product cannot meet the requirement “Out-of-the-Box”, “With Configuration”, “With Custom Programming” or with a “Future Release”."}]
["9.A","CAD Reporting"]
["9.A.00",{"$f":"B573","v":"CAD Reporting"}]
["9.A.01","CAD Reporting","Functional","Ad Hoc Reporting","Must Have","Please list your solution's ability to create ad hoc CAD reports based on any data fields in the CAD database.",null,"Cannot Meet",{"$f":"IFERROR(VLOOKUP(H575,VendorResponseLookupTbl[], 2,0), \"\")","v":" The product cannot meet the requirement “Out-of-the-Box”, “With Configuration”, “With Custom Programming” or with a “Future Release”."}]
["9.A.02","CAD Reporting","Functional","Running Reports Within Application","Must Have","Please list your solution's ability to run CAD reports without exiting the operational CAD application.",null,"Cannot Meet",{"$f":"IFERROR(VLOOKUP(H576,VendorResponseLookupTbl[], 2,0), \"\")","v":" The product cannot meet the requirement “Out-of-the-Box”, “With Configuration”, “With Custom Programming” or with a “Future Release”."}]
["9.A.03","CAD Reporting","Functional","Standard Report Creation\nNFPA Benchmarks","Must Have","Please list your solution's ability to create, within the CAD application, standard reports consistent with NFPA benchmarks.",null,"Cannot Meet",{"$f":"IFERROR(VLOOKUP(H577,VendorResponseLookupTbl[], 2,0), \"\")","v":" The product cannot meet the requirement “Out-of-the-Box”, “With Configuration”, “With Custom Programming” or with a “Future Release”."}]
["9.A.04","CAD Reporting","Functional","Standard Report Generation\nIncident Analysis","Must Have","Please list your solution's ability to generate the following standard reports from within the CAD application:\n\nIncident analysis by:\na) Day of week\nb) Geographic area\nc) Hour of day\nd) Shift\ne) Call type\nf) Responding agency\ng) Unit\nh) Any combination of the above",null,"Cannot Meet",{"$f":"IFERROR(VLOOKUP(H578,VendorResponseLookupTbl[], 2,0), \"\")","v":" The product cannot meet the requirement “Out-of-the-Box”, “With Configuration”, “With Custom Programming” or with a “Future Release”."}]
["9.A.05","CAD Reporting","Functional","Standard Report Generation\nResponse Time","Must Have","Please list your solution's ability to generate the following standard reports from within the CAD application:\n\nResponse time by:\na) Geographic area\nb) Call type\nc) Responding agency\nd) By unit\ne) Call priority\nf) Any combination of the above",null,"Cannot Meet",{"$f":"IFERROR(VLOOKUP(H579,VendorResponseLookupTbl[], 2,0), \"\")","v":" The product cannot meet the requirement “Out-of-the-Box”, “With Configuration”, “With Custom Programming” or with a “Future Release”."}]
["9.A.06","CAD Reporting","Functional","Standard Report Generation\nTotal/Average Time","Must Have","Please list your solution's ability to generate the following standard reports from within the CAD application:\n\nTotal and average time on call:\na) Day of week\nb) Geographic area\nc) Hour of day\nd) Call priority\ne) Response segment (e.g., time taking call, time dispatching, time en route, time with patient)\nf) Call type\ng) Any combination of the above",null,"Cannot Meet",{"$f":"IFERROR(VLOOKUP(H580,VendorResponseLookupTbl[], 2,0), \"\")","v":" The product cannot meet the requirement “Out-of-the-Box”, “With Configuration”, “With Custom Programming” or with a “Future Release”."}]
["9.A.07","CAD Reporting","Functional","Auditing Incident Records","Must Have","Please list your solution's ability to print audit report of changes to incident records including:\n\na) Transaction type (e.g., deletion, edit)\nb) Unit ID\nc) Workstation/terminal ID\nd) Before and after value",null,"Cannot Meet",{"$f":"IFERROR(VLOOKUP(H581,VendorResponseLookupTbl[], 2,0), \"\")","v":" The product cannot meet the requirement “Out-of-the-Box”, “With Configuration”, “With Custom Programming” or with a “Future Release”."}]
["9.A.08","CAD Reporting","Functional","Call Log Generation","Must Have","Please list your solution's ability to generate a log of calls for the public based upon the following criteria:\n\na) Incident type\nb) Incident date\nc) Other customer-defined criteria",null,"Cannot Meet",{"$f":"IFERROR(VLOOKUP(H582,VendorResponseLookupTbl[], 2,0), \"\")","v":" The product cannot meet the requirement “Out-of-the-Box”, “With Configuration”, “With Custom Programming” or with a “Future Release”."}]
["10.A","CAD and Mobile Shared Functionality"]
["10.A.00","AVL"]
["10.A.01","AVL","Functional","Mobile Device Tracking","Must Have","Please list your solution's ability to  track and utilize the location of any GPS-equipped mobile device including:\n\na) MDTs\nb) Mobile phones\nc) Tablets\nd) Radio subscriber units\ne) Body-worn cameras",null,"Cannot Meet",{"$f":"IFERROR(VLOOKUP(H585,VendorResponseLookupTbl[], 2,0), \"\")","v":" The product cannot meet the requirement “Out-of-the-Box”, “With Configuration”, “With Custom Programming” or with a “Future Release”."}]
["10.A.02","AVL","Functional","Routing Directions","Must Have","Please list your solution's ability for routing directions to take into consideration the current location of the unit to which directions are being provided.",null,"Cannot Meet",{"$f":"IFERROR(VLOOKUP(H586,VendorResponseLookupTbl[], 2,0), \"\")","v":" The product cannot meet the requirement “Out-of-the-Box”, “With Configuration”, “With Custom Programming” or with a “Future Release”."}]
["10.A.03","AVL","Functional","AVL Replay","Must Have","Please list your solution's ability to replay AVL for:\n\na) Activity associated with an event\nb) A specific unit\nc) A time frame\nd) Any GPS-equipped device",null,"Cannot Meet",{"$f":"IFERROR(VLOOKUP(H587,VendorResponseLookupTbl[], 2,0), \"\")","v":" The product cannot meet the requirement “Out-of-the-Box”, “With Configuration”, “With Custom Programming” or with a “Future Release”."}]
["10.A.04","AVL","Functional","Limiting Access","Must Have","Please list your solution's ability to limit access to AVL replay to those with appropriate security provisions.",null,"Cannot Meet",{"$f":"IFERROR(VLOOKUP(H588,VendorResponseLookupTbl[], 2,0), \"\")","v":" The product cannot meet the requirement “Out-of-the-Box”, “With Configuration”, “With Custom Programming” or with a “Future Release”."}]
["10.A.05","AVL","Functional","AVL Playback Features","Must Have","Please list your solution's ability  for AVL playback to include an audit trail that indicates the following:\n\na) Time\nb) Unit\nc) Status\nd) Position",null,"Cannot Meet",{"$f":"IFERROR(VLOOKUP(H589,VendorResponseLookupTbl[], 2,0), \"\")","v":" The product cannot meet the requirement “Out-of-the-Box”, “With Configuration”, “With Custom Programming” or with a “Future Release”."}]
["10.A.06","AVL","Functional","Accepting AVL Inputs","Must Have","Please list your solution's ability to accept AVL inputs from units not equipped with CAD-connected mobile client.",null,"Cannot Meet",{"$f":"IFERROR(VLOOKUP(H590,VendorResponseLookupTbl[], 2,0), \"\")","v":" The product cannot meet the requirement “Out-of-the-Box”, “With Configuration”, “With Custom Programming” or with a “Future Release”."}]
["10.A.07","AVL","Functional","Playback Unit Locations","Must Have","Please list your solution's ability to playback unit locations at the time of unit recommendations.",null,"Cannot Meet",{"$f":"IFERROR(VLOOKUP(H591,VendorResponseLookupTbl[], 2,0), \"\")","v":" The product cannot meet the requirement “Out-of-the-Box”, “With Configuration”, “With Custom Programming” or with a “Future Release”."}]
["10.A.08","AVL","Functional","Route Display","Must Have","Please list your solution's ability to display route taken from time of dispatch to time of arrival.",null,"Cannot Meet",{"$f":"IFERROR(VLOOKUP(H592,VendorResponseLookupTbl[], 2,0), \"\")","v":" The product cannot meet the requirement “Out-of-the-Box”, “With Configuration”, “With Custom Programming” or with a “Future Release”."}]
["10.A.09","AVL","Functional","Data Validation of Unit Status","Must Have","Please list your solution's ability to use AVL data to validate unit status change times (e.g., unit arrives at scene according to the AVL but the time stamp in the CAD system for the unit status change falls outside of a customer-defined time frame).",null,"Cannot Meet",{"$f":"IFERROR(VLOOKUP(H593,VendorResponseLookupTbl[], 2,0), \"\")","v":" The product cannot meet the requirement “Out-of-the-Box”, “With Configuration”, “With Custom Programming” or with a “Future Release”."}]
["10.A.10","AVL","Functional","Discrepancy Identification","Must Have","Please list your solution's ability to create a report that identifies discrepancies between the CAD system's time stamp for the unit status change and the AVL data based on any combination of:\n\na) Distance from the event\nb) Time delta\nc) Unit type\nd) Other customer-defined criteria",null,"Cannot Meet",{"$f":"IFERROR(VLOOKUP(H594,VendorResponseLookupTbl[], 2,0), \"\")","v":" The product cannot meet the requirement “Out-of-the-Box”, “With Configuration”, “With Custom Programming” or with a “Future Release”."}]
["10.A.11","AVL","Functional","Unit Status Corrections","Must Have","Please list your solution's ability to correct the unit status change times using AVL data.",null,"Cannot Meet",{"$f":"IFERROR(VLOOKUP(H595,VendorResponseLookupTbl[], 2,0), \"\")","v":" The product cannot meet the requirement “Out-of-the-Box”, “With Configuration”, “With Custom Programming” or with a “Future Release”."}]
["10.A.12","AVL","Functional","Correcting a Timestamp","Should Have","Please list your solution's ability to automatically correct the time stamp of the unit status changes using AVL data based on customer-defined parameters to include a combination of:\n\na) Distance from the event\nb) Time delta\nc) Unit type\nd) Other customer-defined criteria",null,"Cannot Meet",{"$f":"IFERROR(VLOOKUP(H596,VendorResponseLookupTbl[], 2,0), \"\")","v":" The product cannot meet the requirement “Out-of-the-Box”, “With Configuration”, “With Custom Programming” or with a “Future Release”."}]
["10.A.13","AVL","Functional","Flagging a Timestamp","Must Have","Please list your solution's ability to flag the time stamp for a unit status change that was manually or automatically corrected based on AVL data.",null,"Cannot Meet",{"$f":"IFERROR(VLOOKUP(H597,VendorResponseLookupTbl[], 2,0), \"\")","v":" The product cannot meet the requirement “Out-of-the-Box”, “With Configuration”, “With Custom Programming” or with a “Future Release”."}]
["10.A.14","AVL","Functional","External AVL System(s)","Should Have","Please list your solution's ability to support the use of an external real-time AVL system via an interface.",null,"Cannot Meet",{"$f":"IFERROR(VLOOKUP(H598,VendorResponseLookupTbl[], 2,0), \"\")","v":" The product cannot meet the requirement “Out-of-the-Box”, “With Configuration”, “With Custom Programming” or with a “Future Release”."}]
["10.A.15","AVL","Functional","Disabling Prevention","Must Have","Please list your solution's ability to prevent individual units from turning off AVL.",null,"Cannot Meet",{"$f":"IFERROR(VLOOKUP(H599,VendorResponseLookupTbl[], 2,0), \"\")","v":" The product cannot meet the requirement “Out-of-the-Box”, “With Configuration”, “With Custom Programming” or with a “Future Release”."}]
["10.A.16","AVL","Functional","Alert Generation","Must Have","Please list your solution's ability to generate an alert to the controlling dispatcher when a unit that is AVL equipped is not functioning.",null,"Cannot Meet",{"$f":"IFERROR(VLOOKUP(H600,VendorResponseLookupTbl[], 2,0), \"\")","v":" The product cannot meet the requirement “Out-of-the-Box”, “With Configuration”, “With Custom Programming” or with a “Future Release”."}]
["10.A.17","AVL","Functional","Activating AVL on GPS","Must Have","Please list your solution's ability to activate AVL on a GPS equipped unit upon activation of an emergency alarm on:\n\na) CAD mobile client\nb) Mobile or portable radio",null,"Cannot Meet",{"$f":"IFERROR(VLOOKUP(H601,VendorResponseLookupTbl[], 2,0), \"\")","v":" The product cannot meet the requirement “Out-of-the-Box”, “With Configuration”, “With Custom Programming” or with a “Future Release”."}]
["10.A.18","AVL","Functional","Turn on/off AVL","Should Have","Please list your solution's ability for system administrator to turn AVL on/off by:\n\na) Agency\nb) Unit\nc) Device",null,"Cannot Meet",{"$f":"IFERROR(VLOOKUP(H602,VendorResponseLookupTbl[], 2,0), \"\")","v":" The product cannot meet the requirement “Out-of-the-Box”, “With Configuration”, “With Custom Programming” or with a “Future Release”."}]
["10.A.19","AVL","Functional","Agency-Defined \nDefaults","Must Have","Please list your solution's ability to default to customer-defined static response plans for dispatching when the unit's AVL is turned off.",null,"Cannot Meet",{"$f":"IFERROR(VLOOKUP(H603,VendorResponseLookupTbl[], 2,0), \"\")","v":" The product cannot meet the requirement “Out-of-the-Box”, “With Configuration”, “With Custom Programming” or with a “Future Release”."}]
["10.A.20","AVL","Functional","Unit Location Using AVL","Must Have","Please list your solution's ability to display the location of a vehicle or unit on the CAD map using AVL.",null,"Cannot Meet",{"$f":"IFERROR(VLOOKUP(H604,VendorResponseLookupTbl[], 2,0), \"\")","v":" The product cannot meet the requirement “Out-of-the-Box”, “With Configuration”, “With Custom Programming” or with a “Future Release”."}]
["10.A.21","AVL","Functional","Average Unit Speed","Should Have","Please list your solution's ability to display average speed of vehicle between two points when data is polled.",null,"Cannot Meet",{"$f":"IFERROR(VLOOKUP(H605,VendorResponseLookupTbl[], 2,0), \"\")","v":" The product cannot meet the requirement “Out-of-the-Box”, “With Configuration”, “With Custom Programming” or with a “Future Release”."}]
["10.A.22","AVL","Functional","Vehicle Speed","Should Have","Please list your solution's ability to show the speed of a vehicle along its route.",null,"Cannot Meet",{"$f":"IFERROR(VLOOKUP(H606,VendorResponseLookupTbl[], 2,0), \"\")","v":" The product cannot meet the requirement “Out-of-the-Box”, “With Configuration”, “With Custom Programming” or with a “Future Release”."}]
["10.A.23","AVL","Functional","Save/Report Vehicle Speed","Should Have","Please list your solution's ability to capture, save and report on the average vehicle speed between two points.",null,"Cannot Meet",{"$f":"IFERROR(VLOOKUP(H607,VendorResponseLookupTbl[], 2,0), \"\")","v":" The product cannot meet the requirement “Out-of-the-Box”, “With Configuration”, “With Custom Programming” or with a “Future Release”."}]
["10.A.24","AVL","Functional","Report Generation","Should Have","Please list your solution's ability to generate reports from AVL data, including:\n\na) Vehicle route\nb) Speeds along the route",null,"Cannot Meet",{"$f":"IFERROR(VLOOKUP(H608,VendorResponseLookupTbl[], 2,0), \"\")","v":" The product cannot meet the requirement “Out-of-the-Box”, “With Configuration”, “With Custom Programming” or with a “Future Release”."}]
["10.A.25","AVL","Functional","AVL Playback  ","Should Have","Please list your solution's ability to provide AVL playback utility.",null,"Cannot Meet",{"$f":"IFERROR(VLOOKUP(H609,VendorResponseLookupTbl[], 2,0), \"\")","v":" The product cannot meet the requirement “Out-of-the-Box”, “With Configuration”, “With Custom Programming” or with a “Future Release”."}]
["10.A.26","AVL","Functional","Display Movements","Must Have","Please list your solution's ability for AVL playback to display the movements of all units simultaneously.",null,"Cannot Meet",{"$f":"IFERROR(VLOOKUP(H610,VendorResponseLookupTbl[], 2,0), \"\")","v":" The product cannot meet the requirement “Out-of-the-Box”, “With Configuration”, “With Custom Programming” or with a “Future Release”."}]
["10.A.27","AVL","Functional","Display Movements\nBy Agency","Must Have","Please list your solution's ability for AVL playback to display the movements of all units simultaneously by selected agency.",null,"Cannot Meet",{"$f":"IFERROR(VLOOKUP(H611,VendorResponseLookupTbl[], 2,0), \"\")","v":" The product cannot meet the requirement “Out-of-the-Box”, “With Configuration”, “With Custom Programming” or with a “Future Release”."}]
["10.A.28","AVL","Functional","Pursuit Reports","Must Have","Please list your solution's ability to use AVL to generate pursuit reports.",null,"Cannot Meet",{"$f":"IFERROR(VLOOKUP(H612,VendorResponseLookupTbl[], 2,0), \"\")","v":" The product cannot meet the requirement “Out-of-the-Box”, “With Configuration”, “With Custom Programming” or with a “Future Release”."}]
["10.B.00","Messaging"]
["10.B.01","Messaging","Functional","Message Options","Should Have","Please list your solution's ability to provide two types of message options:\n\na) Instant message\nb) Email-type message",null,"Cannot Meet",{"$f":"IFERROR(VLOOKUP(H614,VendorResponseLookupTbl[], 2,0), \"\")","v":" The product cannot meet the requirement “Out-of-the-Box”, “With Configuration”, “With Custom Programming” or with a “Future Release”."}]
["10.B.02","Messaging","Functional","Creating and Receiving","Should Have","Please list your solution's ability  for users to create, send and receive messages to other CAD and Mobile workstation users . ",null,"Cannot Meet",{"$f":"IFERROR(VLOOKUP(H615,VendorResponseLookupTbl[], 2,0), \"\")","v":" The product cannot meet the requirement “Out-of-the-Box”, “With Configuration”, “With Custom Programming” or with a “Future Release”."}]
["10.B.03","Messaging","Functional","Functionality","Should Have","Please list your solution's ability to send messages to a specific device(s) by and in combination of:\n\na) All devices\nb) Terminal ID\nc) Dispatch position (e.g., CH6-Service)\nd) Unit ID\ne) User ID\nf) Event number\ng) Dispatch group\nh) Agency\ni) Unit type\nj) User-defined message group\nk) User-defined location polygon",null,"Cannot Meet",{"$f":"IFERROR(VLOOKUP(H616,VendorResponseLookupTbl[], 2,0), \"\")","v":" The product cannot meet the requirement “Out-of-the-Box”, “With Configuration”, “With Custom Programming” or with a “Future Release”."}]
["10.B.04","Messaging","Functional","Group Levels","Must Have","Please list your solution's ability to create message groups at:\n\na) The user level\nb) The system administration level",null,"Cannot Meet",{"$f":"IFERROR(VLOOKUP(H617,VendorResponseLookupTbl[], 2,0), \"\")","v":" The product cannot meet the requirement “Out-of-the-Box”, “With Configuration”, “With Custom Programming” or with a “Future Release”."}]
["10.B.05","Messaging","Functional","Initiating a Message\nSingle Unit","Must Have","Please list your solution's ability to  initiate a message by right-clicking the unit on:\n\na) The map\nb) The unit status window",null,"Cannot Meet",{"$f":"IFERROR(VLOOKUP(H618,VendorResponseLookupTbl[], 2,0), \"\")","v":" The product cannot meet the requirement “Out-of-the-Box”, “With Configuration”, “With Custom Programming” or with a “Future Release”."}]
["10.B.06","Messaging","Functional","Initiating a Message\nMultiple Units","Must Have","Please list your solution's ability to initiate a message to units on an event by right-clicking the event on:\n\na) The map\nb) The event status window",null,"Cannot Meet",{"$f":"IFERROR(VLOOKUP(H619,VendorResponseLookupTbl[], 2,0), \"\")","v":" The product cannot meet the requirement “Out-of-the-Box”, “With Configuration”, “With Custom Programming” or with a “Future Release”."}]
["10.B.07","Messaging","Functional","Filtering Messages","Must Have","Please list your solution's ability to  filter messages received by:\n\na) Data received\nb) From\nc) Message type",null,"Cannot Meet",{"$f":"IFERROR(VLOOKUP(H620,VendorResponseLookupTbl[], 2,0), \"\")","v":" The product cannot meet the requirement “Out-of-the-Box”, “With Configuration”, “With Custom Programming” or with a “Future Release”."}]
["10.B.08","Messaging","Functional","Defining Groups","Must Have","Please list your solution's ability to  define an agency as a message group.",null,"Cannot Meet",{"$f":"IFERROR(VLOOKUP(H621,VendorResponseLookupTbl[], 2,0), \"\")","v":" The product cannot meet the requirement “Out-of-the-Box”, “With Configuration”, “With Custom Programming” or with a “Future Release”."}]
["10.B.09","Messaging","Functional","Roster Retrieval","Must Have","Please list your solution's ability to retrieve a roster for an agency and right click on a unit to initiate a message.",null,"Cannot Meet",{"$f":"IFERROR(VLOOKUP(H622,VendorResponseLookupTbl[], 2,0), \"\")","v":" The product cannot meet the requirement “Out-of-the-Box”, “With Configuration”, “With Custom Programming” or with a “Future Release”."}]
["10.B.10","Messaging","Functional","Messaging Terminals","Must Have","Please list your solution's ability to send a message to all terminals regardless of terminal status.",null,"Cannot Meet",{"$f":"IFERROR(VLOOKUP(H623,VendorResponseLookupTbl[], 2,0), \"\")","v":" The product cannot meet the requirement “Out-of-the-Box”, “With Configuration”, “With Custom Programming” or with a “Future Release”."}]
["10.B.11","Messaging","Functional","Storing Messages","Must Have","Please list your solution's ability to send messages to a user who is not logged into CAD and store that message for retrieval when the user logs onto CAD.",null,"Cannot Meet",{"$f":"IFERROR(VLOOKUP(H624,VendorResponseLookupTbl[], 2,0), \"\")","v":" The product cannot meet the requirement “Out-of-the-Box”, “With Configuration”, “With Custom Programming” or with a “Future Release”."}]
["10.B.12","Messaging","Functional","Viewing Messages Offline","Should Have","Please list your solution's ability to view messages upon logon if received while logged off.",null,"Cannot Meet",{"$f":"IFERROR(VLOOKUP(H625,VendorResponseLookupTbl[], 2,0), \"\")","v":" The product cannot meet the requirement “Out-of-the-Box”, “With Configuration”, “With Custom Programming” or with a “Future Release”."}]
["10.B.13","Messaging","Functional","Message Retrieval","Should Have","Please list your solution's ability for user to retrieve stored messages upon logon.",null,"Cannot Meet",{"$f":"IFERROR(VLOOKUP(H626,VendorResponseLookupTbl[], 2,0), \"\")","v":" The product cannot meet the requirement “Out-of-the-Box”, “With Configuration”, “With Custom Programming” or with a “Future Release”."}]
["10.B.14","Messaging","Functional","Assigning Priority","Could Have","Please list your solution's ability to assign a priority to a message (e.g., routine, urgent, emergency).",null,"Cannot Meet",{"$f":"IFERROR(VLOOKUP(H627,VendorResponseLookupTbl[], 2,0), \"\")","v":" The product cannot meet the requirement “Out-of-the-Box”, “With Configuration”, “With Custom Programming” or with a “Future Release”."}]
["10.B.15","Messaging","Functional","Various Alert Functions","Should Have","Please list your solution's ability for users to receive audible, visible or no alerts, depending on the priority of the message received.",null,"Cannot Meet",{"$f":"IFERROR(VLOOKUP(H628,VendorResponseLookupTbl[], 2,0), \"\")","v":" The product cannot meet the requirement “Out-of-the-Box”, “With Configuration”, “With Custom Programming” or with a “Future Release”."}]
["10.B.16","Messaging","Functional","Message Storage","Should Have","Please list your solution's ability to store messages for so a user can view them later.",null,"Cannot Meet",{"$f":"IFERROR(VLOOKUP(H629,VendorResponseLookupTbl[], 2,0), \"\")","v":" The product cannot meet the requirement “Out-of-the-Box”, “With Configuration”, “With Custom Programming” or with a “Future Release”."}]
["10.B.17","Messaging","Functional","Appending Messages","Should Have","Please list your solution's ability to append messages to an event record.",null,"Cannot Meet",{"$f":"IFERROR(VLOOKUP(H630,VendorResponseLookupTbl[], 2,0), \"\")","v":" The product cannot meet the requirement “Out-of-the-Box”, “With Configuration”, “With Custom Programming” or with a “Future Release”."}]
["10.B.18","Messaging","Functional","Sorting Messages","Must Have","Please list your solution's ability for messages to be sorted by most recent or first received.",null,"Cannot Meet",{"$f":"IFERROR(VLOOKUP(H631,VendorResponseLookupTbl[], 2,0), \"\")","v":" The product cannot meet the requirement “Out-of-the-Box”, “With Configuration”, “With Custom Programming” or with a “Future Release”."}]
["10.B.19","Messaging","Functional","File Attachment","Should Have","Please list your solution's ability to attach files to messages.",null,"Cannot Meet",{"$f":"IFERROR(VLOOKUP(H632,VendorResponseLookupTbl[], 2,0), \"\")","v":" The product cannot meet the requirement “Out-of-the-Box”, “With Configuration”, “With Custom Programming” or with a “Future Release”."}]
["10.B.20","Messaging","Functional","Unlimited Text Character Field","Should Have","Please list your solution's ability to enter unlimited narrative with wrap-around feature.",null,"Cannot Meet",{"$f":"IFERROR(VLOOKUP(H633,VendorResponseLookupTbl[], 2,0), \"\")","v":" The product cannot meet the requirement “Out-of-the-Box”, “With Configuration”, “With Custom Programming” or with a “Future Release”."}]
["10.B.21","Messaging","Functional","Messaging Units","Must Have","Please list your solution's ability to send a message to all units handling a specific event.",null,"Cannot Meet",{"$f":"IFERROR(VLOOKUP(H634,VendorResponseLookupTbl[], 2,0), \"\")","v":" The product cannot meet the requirement “Out-of-the-Box”, “With Configuration”, “With Custom Programming” or with a “Future Release”."}]
["10.B.22","Messaging","Functional","Group Creation/Saving","Must Have","Please list your solution's ability to create and save message groups.",null,"Cannot Meet",{"$f":"IFERROR(VLOOKUP(H635,VendorResponseLookupTbl[], 2,0), \"\")","v":" The product cannot meet the requirement “Out-of-the-Box”, “With Configuration”, “With Custom Programming” or with a “Future Release”."}]
["10.B.23","Messaging","Functional","CAD Roster","Must Have","Please list your solution's ability to utilize contact information from the CAD roster when determining the destination of a message.",null,"Cannot Meet",{"$f":"IFERROR(VLOOKUP(H636,VendorResponseLookupTbl[], 2,0), \"\")","v":" The product cannot meet the requirement “Out-of-the-Box”, “With Configuration”, “With Custom Programming” or with a “Future Release”."}]
["10.B.24","Messaging","Functional","Unlimited Number of Recipients","Must Have","Please list your solution's ability for users to select any number of people as part of a message group with no limitation on the number of people in a group.",null,"Cannot Meet",{"$f":"IFERROR(VLOOKUP(H637,VendorResponseLookupTbl[], 2,0), \"\")","v":" The product cannot meet the requirement “Out-of-the-Box”, “With Configuration”, “With Custom Programming” or with a “Future Release”."}]
["10.B.25","Messaging","Functional","Reply Messaging","Must Have","Please list your solution's ability to transmit a reply message to the originator of a currently displayed message without having to re-enter the originator's address.",null,"Cannot Meet",{"$f":"IFERROR(VLOOKUP(H638,VendorResponseLookupTbl[], 2,0), \"\")","v":" The product cannot meet the requirement “Out-of-the-Box”, “With Configuration”, “With Custom Programming” or with a “Future Release”."}]
["10.B.26","Messaging","Functional","Single Command Selection","Should Have","Please list your solution's ability to select a recipient by a single command to create a message (e.g., double click on a logged on user and message screen pops up).",null,"Cannot Meet",{"$f":"IFERROR(VLOOKUP(H639,VendorResponseLookupTbl[], 2,0), \"\")","v":" The product cannot meet the requirement “Out-of-the-Box”, “With Configuration”, “With Custom Programming” or with a “Future Release”."}]
["10.B.27","Messaging","Functional","Reply All","Should Have","Please list your solution's ability to transmit a \"reply all\" message to multiple recipients that were part of the originator's message group",null,"Cannot Meet",{"$f":"IFERROR(VLOOKUP(H640,VendorResponseLookupTbl[], 2,0), \"\")","v":" The product cannot meet the requirement “Out-of-the-Box”, “With Configuration”, “With Custom Programming” or with a “Future Release”."}]
["10.B.28","Messaging","Functional","Message Forwarding","Should Have","Please list your solution's ability to forward a message including one that has an attachment.",null,"Cannot Meet",{"$f":"IFERROR(VLOOKUP(H641,VendorResponseLookupTbl[], 2,0), \"\")","v":" The product cannot meet the requirement “Out-of-the-Box”, “With Configuration”, “With Custom Programming” or with a “Future Release”."}]
["10.B.29","Messaging","Functional","Incoming Message Prevention","Should Have","Please list your solution's ability to prevent incoming messages from interfering with current work.",null,"Cannot Meet",{"$f":"IFERROR(VLOOKUP(H642,VendorResponseLookupTbl[], 2,0), \"\")","v":" The product cannot meet the requirement “Out-of-the-Box”, “With Configuration”, “With Custom Programming” or with a “Future Release”."}]
["10.B.30","Messaging","Functional","Overriding Messages","Should Have","Please list your solution's ability to override the user's incoming message delivery preferences by:\n\na) Message priority\nb) Authorized privileged users",null,"Cannot Meet",{"$f":"IFERROR(VLOOKUP(H643,VendorResponseLookupTbl[], 2,0), \"\")","v":" The product cannot meet the requirement “Out-of-the-Box”, “With Configuration”, “With Custom Programming” or with a “Future Release”."}]
["10.B.31","Messaging","Functional","Unread Message Notification","Should Have","Please list your solution's ability to notify receiver of total number of unread messages.",null,"Cannot Meet",{"$f":"IFERROR(VLOOKUP(H644,VendorResponseLookupTbl[], 2,0), \"\")","v":" The product cannot meet the requirement “Out-of-the-Box”, “With Configuration”, “With Custom Programming” or with a “Future Release”."}]
["10.B.32","Messaging","Functional","Schedule Messaging","Should Have","Please list your solution's ability to create messages that are retained in the system and sent at pre-specified times.",null,"Cannot Meet",{"$f":"IFERROR(VLOOKUP(H645,VendorResponseLookupTbl[], 2,0), \"\")","v":" The product cannot meet the requirement “Out-of-the-Box”, “With Configuration”, “With Custom Programming” or with a “Future Release”."}]
["10.B.33","Messaging","Functional","Audit Trails","Must Have","Please list your solution's ability to maintain an audit trail of all messages sent and received.",null,"Cannot Meet",{"$f":"IFERROR(VLOOKUP(H646,VendorResponseLookupTbl[], 2,0), \"\")","v":" The product cannot meet the requirement “Out-of-the-Box”, “With Configuration”, “With Custom Programming” or with a “Future Release”."}]
["10.B.34","Messaging","Functional","Agency-Defined \nQueries","Must Have","Please list your solution's ability to query message logs by customer-defined criteria (e.g., date/time range, sender, recipient, device).",null,"Cannot Meet",{"$f":"IFERROR(VLOOKUP(H647,VendorResponseLookupTbl[], 2,0), \"\")","v":" The product cannot meet the requirement “Out-of-the-Box”, “With Configuration”, “With Custom Programming” or with a “Future Release”."}]
["10.B.35","Messaging","Functional","Searchable Logs","Must Have","Please list your solution's ability to search text in message logs.",null,"Cannot Meet",{"$f":"IFERROR(VLOOKUP(H648,VendorResponseLookupTbl[], 2,0), \"\")","v":" The product cannot meet the requirement “Out-of-the-Box”, “With Configuration”, “With Custom Programming” or with a “Future Release”."}]
["10.B.36","Messaging","Functional","Clearing Messages","Should Have","Please list your solution's ability to clear all messages for a user or terminal with a single command.",null,"Cannot Meet",{"$f":"IFERROR(VLOOKUP(H649,VendorResponseLookupTbl[], 2,0), \"\")","v":" The product cannot meet the requirement “Out-of-the-Box”, “With Configuration”, “With Custom Programming” or with a “Future Release”."}]
["10.C.00","Unit and Event Queries"]
["10.C.01","Unit and Event Queries","Functional","Searchable Functionality\nUnits","Must Have","Please list your solution's ability to query and view units by any combination of:\n\na) Agency\nb) Geographic area (e.g., beat, sector, battalion, division)\nc) Unit ID\nd) Vehicle number\ne) Raio alias\nf) Radio ID\ng) Skill\nh) Capability\ni) User ID\nj) Dispatch group\nk) Unit type\nl) Event assigned to\nm) Unit status\nn) Log on status (e.g., on, off)\no) Personnel assigned",null,"Cannot Meet",{"$f":"IFERROR(VLOOKUP(H651,VendorResponseLookupTbl[], 2,0), \"\")","v":" The product cannot meet the requirement “Out-of-the-Box”, “With Configuration”, “With Custom Programming” or with a “Future Release”."}]
["10.C.02","Unit and Event Queries","Functional","Searchable Functionality\nEvents","Must Have","Please list your solution's ability to query and view events by any combination of:\n\na) Agency\nb) Geographic area\nc) Event ID\nd) Date and time range\ne) Address\nf) Address ranges\ng) Latitude/Longitude\nh) Dispositions\ni) Event type\nk) RMS Case number by agency\nl) Units assigned\nm) Primary Unit\nn) Dispatch terminal\no) User ID of the operator who created the event\np) User ID of the operator who dispatched the event\nq) User ID of the operator who modified/supplemented an event\nr) Involved parties\ns) Involved vehicles\nt) Phone number associated with a physical location\nu) Phone number of caller\nv) Narrative text\nw) Event status (e.g., active, closed, pending, dispatched, arrived)\n",null,"Cannot Meet",{"$f":"IFERROR(VLOOKUP(H652,VendorResponseLookupTbl[], 2,0), \"\")","v":" The product cannot meet the requirement “Out-of-the-Box”, “With Configuration”, “With Custom Programming” or with a “Future Release”."}]
["10.C.03","Unit and Event Queries","Functional","Matches","Must Have","Please list your solution's ability to display the number of matching events that are returned by a query.",null,"Cannot Meet",{"$f":"IFERROR(VLOOKUP(H653,VendorResponseLookupTbl[], 2,0), \"\")","v":" The product cannot meet the requirement “Out-of-the-Box”, “With Configuration”, “With Custom Programming” or with a “Future Release”."}]
["10.C.04","Unit and Event Queries","Functional","Date Range Criteria","Must Have","Please list your solution's ability to limit the searchable time period by:\n\na) System\nb) Agency\nc) Role\nd) User ID",null,"Cannot Meet",{"$f":"IFERROR(VLOOKUP(H654,VendorResponseLookupTbl[], 2,0), \"\")","v":" The product cannot meet the requirement “Out-of-the-Box”, “With Configuration”, “With Custom Programming” or with a “Future Release”."}]
["10.C.05","Unit and Event Queries","Functional","Opening an Event","Must Have","Please list your solution's ability to open any event to view dispatch data, units and event notes.",null,"Cannot Meet",{"$f":"IFERROR(VLOOKUP(H655,VendorResponseLookupTbl[], 2,0), \"\")","v":" The product cannot meet the requirement “Out-of-the-Box”, “With Configuration”, “With Custom Programming” or with a “Future Release”."}]
["10.C.06","Unit and Event Queries","Functional","Non-Event Premise Information","Must Have","Please list your solution's ability to query and retrieve premise information for an address not associated with an event.",null,"Cannot Meet",{"$f":"IFERROR(VLOOKUP(H656,VendorResponseLookupTbl[], 2,0), \"\")","v":" The product cannot meet the requirement “Out-of-the-Box”, “With Configuration”, “With Custom Programming” or with a “Future Release”."}]
["10.C.07","Unit and Event Queries","Functional","Location Queries\nPre-planning","Should Have","Please list your solution's ability to query a location to access pre-plans.",null,"Cannot Meet",{"$f":"IFERROR(VLOOKUP(H657,VendorResponseLookupTbl[], 2,0), \"\")","v":" The product cannot meet the requirement “Out-of-the-Box”, “With Configuration”, “With Custom Programming” or with a “Future Release”."}]
["10.C.08","Unit and Event Queries","Functional","Location Queries\nPremise Information","Should Have","Please list your solution's ability to query a location to access premise information.",null,"Cannot Meet",{"$f":"IFERROR(VLOOKUP(H658,VendorResponseLookupTbl[], 2,0), \"\")","v":" The product cannot meet the requirement “Out-of-the-Box”, “With Configuration”, “With Custom Programming” or with a “Future Release”."}]
["10.C.09","Unit and Event Queries","Functional","Audit Trails","Should Have","Please list your solution's ability to see who was logged on at any given time.",null,"Cannot Meet",{"$f":"IFERROR(VLOOKUP(H659,VendorResponseLookupTbl[], 2,0), \"\")","v":" The product cannot meet the requirement “Out-of-the-Box”, “With Configuration”, “With Custom Programming” or with a “Future Release”."}]

{"sheet":"Vendor Response Lookup","index":4,"n_rows":6,"n_cols":2,"rows_kept":6,"cut":false,"hidden":true,"merged":[]}
["RequirementCompliance","Description"]
["Cannot Meet"," The product cannot meet the requirement “Out-of-the-Box”, “With Configuration”, “With Custom Programming” or with a “Future Release”."]
["Future Release","The current version of the solution cannot meet the requirement “Out of the Box” or “With Configuration” but will be able to with a scheduled, future release of the product."]
["Out-of-the-Box","The solution meets the requirement as is, “out-of-the-box” functionality with no configuration or custom programming/coding."]
["With Configuration","The solution can meet the requirement by arranging the functional parameters that are already inherent in the product – and not by changing the product’s source code – so that it functions in a way that meets the City’s specific business needs."]
["With Custom Programming","The solution can meet the requirement only by modifying the product’s source code (changing or adding new code) to enable it to do what it was not originally able to do."]

{"sheet":"Glossary - MoSCoW Values","index":5,"n_rows":5,"n_cols":2,"rows_kept":5,"cut":false,"hidden":false,"merged":[]}
["Prioritization Type","Prioritization Description"]
["Must Have","Requirements labeled as \"Must Have\" are critical to the current delivery timebox in order for it to be a success. If even one \"Must Have\" requirement is not included, the project delivery could be considered a failure (note: requirements can be downgraded from \"Must Have\", by agreement with all relevant stakeholders; for example, when new requirements are deemed more important). "]
["Should Have","Requirements labeled as \"Should Have\" are important but not necessary for delivery in the current delivery timebox. While \"Should Have\" requirements can be as important as \"Must Have\", they are often not as time-critical or there may be another way to satisfy the requirement, so that it can be held back until a future delivery timebox."]
["Could Have","Requirements labeled as \"Could Have\" are desirable but not necessary, and could improve user experience or customer satisfaction for little development cost. These will typically be included if time and resources permit."]
["Won't Have","Requirements labeled as \"Won't Have\" have been agreed by stakeholders as the least-critical, lowest-payback items, or not appropriate at that time. As a result, \"Won't Have\" requirements are not planned into the schedule for the next delivery timebox. \"Won't Have\" requirements are either dropped or reconsidered for inclusion in a later timebox. (Note: occasionally the term Would like to have is used; however, that usage is incorrect, as this last priority is clearly stating something is outside the scope of delivery)."]